PDS_VERSION_ID = PDS3
/* FILE DATA ELEMENTS */
RECORD_TYPE = UNDEFINED
/* POINTERS TO DATA OBJECTS */
^IMAGE = ("HN103_0000_BL4.TIF")
/* IDENTIFICATION DATA ELEMENTS */
DATA_SET_ID = "MEX-M-HRSC-4-REFDR-MAPPROJECT-EXT8-V4.0"
DATA_SET_NAME = "MARS EXPRESS HRSC MAP PROJECTED REFDR EXTENSION8 V4.0"
DETECTOR_ID = MEX_HRSC_BLUE
EVENT_TYPE = "MARS-REGIONAL-MAPPING-Gl-Eo-La"
INSTRUMENT_HOST_ID = MEX
INSTRUMENT_HOST_NAME = "MARS EXPRESS"
INSTRUMENT_ID = HRSC
INSTRUMENT_NAME = "HIGH RESOLUTION STEREO CAMERA"
MISSION_NAME = "MARS EXPRESS"
MISSION_PHASE_NAME = ME_Phase_46
PROCESSING_LEVEL_ID = 4
PRODUCT_CREATION_TIME = 2023-01-28T22:22:56.000Z
PRODUCT_ID = "HN103_0000_BL4.TIF"
RELEASE_ID = 0004
REVISION_ID = 0000
/* QUALITY DATA ELEMENTS */
DATA_QUALITY_ID = 1
DATA_QUALITY_DESC = "Data calculated based on original SPICE kernels"
/* TIME DATA ELEMENTS */
SPACECRAFT_CLOCK_START_COUNT = "1/0598139186.23983"
SPACECRAFT_CLOCK_STOP_COUNT = "1/0598139905.12227"
START_TIME = 2022-04-15T21:50:57.639Z
STOP_TIME = 2022-04-15T21:57:16.269Z
/* ORBITAL DATA ELEMENTS */
ASCENDING_NODE_LONGITUDE = 143.39
MAXIMUM_RESOLUTION = 0.1368
FOOTPRINT_POINT_LATITUDE = (-78.2891,-78.2645,-78.2099,-78.144, -78.0849,-77.9791,-77.8973,-77.8067, -77.7075,-77.5996,-77.4832,-77.2935, -77.2768,-77.2816,-77.6042,-77.9273, -78.2506,-78.5741,-78.8976,-79.2209, -79.5439,-79.8661,-80.1875,-80.5075, -80.826,-81.1404,-81.5997,-81.8974, -82.1877,-82.4701,-82.744,-83.0098, -83.2645,-83.5096,-83.7437,-83.9655, -84.1746,-84.3696,-84.5497,-84.8596, -85.0958,-85.2507,-85.3191,-85.3026, -85.204,-85.0297,-84.7895,-84.5015, -84.1683,-83.8003,-83.4046,-83.3026, -83.2099,-83.4564,-83.7222,-84.1205, -84.3466,-84.4774,-84.6487,-84.6565, -84.6608,-85.2182,-85.778,-86.3375, -86.8917,-87.4323,-87.9428,-88.3862, -88.6799,-88.705,-88.4392,-87.9856, -87.4365,-87.1407,-86.8352,-86.3629, -86.0407,-85.7128,-85.3806,-85.0447, -84.7045,-84.3622,-84.0139,-83.6624, -83.3072,-82.9486,-82.5869,-82.2219, -81.8565,-81.493,-81.131,-80.7706, -80.4118,-80.0548,-79.6996,-79.3464, -78.995,-78.6445,-78.4703,-78.2891)
FOOTPRINT_POINT_LONGITUDE = (344.594,346.713,349.443,351.728, 353.371,355.802,357.397,358.97,360.52, 362.046,363.55,365.755,365.935,366.175, 366.722,367.303,367.921,368.579,369.288 ,370.036,370.852,371.721,372.656, 373.663,374.742,375.901,377.828,379.201 ,380.684,382.271,383.965,385.759, 387.734,389.82,392.045,394.439,396.997, 399.712,402.603,408.905,415.812,423.217 ,430.892,438.542,445.912,452.791, 459.037,464.605,469.514,473.808,477.55, 478.407,479.152,481.714,484.897,490.868 ,495.287,498.424,503.677,503.963, 504.053,502.439,500.36,497.59,493.779, 488.27,479.837,466.168,444.229,416.059, 392.21,376.955,367.615,364.304,361.607, 358.401,356.676,355.205,353.934,352.826 ,351.848,350.975,350.22,349.54,348.933, 348.388,347.893,347.441,347.03,346.655, 346.314,346.002,345.717,345.454,345.211 ,344.983,344.772,344.583,344.489, 344.594)
ORBIT_NUMBER = 23103
ORBITAL_ECCENTRICITY = 0.576
ORBITAL_INCLINATION = 87.0
ORBITAL_SEMIMAJOR_AXIS = 8810.52
PERIAPSIS_ALTITUDE = 344.44
PERIAPSIS_ARGUMENT_ANGLE = 321.46
PERIAPSIS_TIME = 2022-04-15T22:10:26.000Z
SPACECRAFT_ORIENTATION = (0.0,1.0,0.0)
^MEX_ORIENTATION_DESC = "MEX_ORIENTATION_DESC.TXT"
SPACECRAFT_POINTING_MODE = NADIR
^MEX_POINTING_DESC = "MEX_POINTING_DESC.TXT"
RIGHT_ASCENSION = -1e+32
DECLINATION = -1e+32
OFFSET_ANGLE = -1e+32
SPACECRAFT_SOLAR_DISTANCE = 2.11209e+08
TARGET_NAME = MARS
/* CAMERA DATA ELEMENTS */
DETECTOR_TEMPERATURE = 16.9432
FOCAL_PLANE_TEMPERATURE = 8.1755
INST_CMPRS_NAME = "DISCRETE COSINE TRANSFORMATION (DCT)"
INST_CMPRS_RATIO = 11.2194
INST_CMPRS_QUALITY = 0
INST_CMPRS_QUANTZ_TBL_ID = 0
INSTRUMENT_TEMPERATURE = 11.0301
LENS_TEMPERATURE = 8.5833
MACROPIXEL_SIZE = 4
MISSING_FRAMES = 0
PIXEL_SUBSAMPLING_FLAG = N
SIGNAL_CHAIN_ID = 2
/* RADIOMETRIC DATA ELEMENTS */
BANDWIDTH = 76.0
CENTER_FILTER_WAVELENGTH = 444.0
RADIANCE_OFFSET = 0.491936
RADIANCE_SCALING_FACTOR = 0.00699321
REFLECTANCE_SCALING_FACTOR = 0.000320529
MEX:REFLECTANCE_OFFSET = 0.0225476
/* IMAGE OBJECT DEFINITIONS */
OBJECT = IMAGE
  INTERCHANGE_FORMAT = BINARY
  LINES = 10091
  LINE_SAMPLES = 5329
  SAMPLE_TYPE = UNSIGNED_INTEGER
  SAMPLE_BITS = 8
  BANDS = 1
  BAND_STORAGE_TYPE = BAND_SEQUENTIAL
  MAXIMUM = 255
  MEAN = 62.8084
  MINIMUM = 1
  STANDARD_DEVIATION = 33.5574
END_OBJECT = IMAGE
/* MAP OBJECT DEFINITIONS */
OBJECT = IMAGE_MAP_PROJECTION
  ^DATA_SET_MAP_PROJECTION_CATALOG= "DSMAP.CAT"
  A_AXIS_RADIUS = 3396.0
  B_AXIS_RADIUS = 3396.0
  C_AXIS_RADIUS = 3396.0
  CENTER_LATITUDE = -90.0
  CENTER_LONGITUDE = 0.0
  COORDINATE_SYSTEM_NAME = PLANETOGRAPHIC
  COORDINATE_SYSTEM_TYPE = "BODY-FIXED ROTATING"
  EASTERNMOST_LONGITUDE = 144.053
  FIRST_STANDARD_PARALLEL = "N/A"
  LINE_FIRST_PIXEL = 1
  LINE_LAST_PIXEL = 10091
  LINE_PROJECTION_OFFSET = 7526.625
  MAP_PROJECTION_ROTATION = 0.0
  MAP_PROJECTION_TYPE = STEREOGRAPHIC
  MAP_RESOLUTION = 592.713803866667
  MAP_SCALE = 0.1
  MAXIMUM_LATITUDE = -77.27679999999999
  MINIMUM_LATITUDE = -88.705
  POSITIVE_LONGITUDE_DIRECTION = EAST
  REFERENCE_LATITUDE = "N/A"
  REFERENCE_LONGITUDE = "N/A"
  SAMPLE_FIRST_PIXEL = 1
  SAMPLE_LAST_PIXEL = 5329
  SAMPLE_PROJECTION_OFFSET = 1816.625
  SECOND_STANDARD_PARALLEL = "N/A"
  WESTERNMOST_LONGITUDE = -15.511
END_OBJECT = IMAGE_MAP_PROJECTION
END
