PDS_VERSION_ID = PDS3
/* FILE DATA ELEMENTS */
RECORD_TYPE = UNDEFINED
/* POINTERS TO DATA OBJECTS */
^IMAGE = ("HN099_0000_BL4.TIF")
/* IDENTIFICATION DATA ELEMENTS */
DATA_SET_ID = "MEX-M-HRSC-4-REFDR-MAPPROJECT-EXT8-V4.0"
DATA_SET_NAME = "MARS EXPRESS HRSC MAP PROJECTED REFDR EXTENSION8 V4.0"
DETECTOR_ID = MEX_HRSC_BLUE
EVENT_TYPE = "MARS-REGIONAL-MAPPING-Im-Fl-Lc"
INSTRUMENT_HOST_ID = MEX
INSTRUMENT_HOST_NAME = "MARS EXPRESS"
INSTRUMENT_ID = HRSC
INSTRUMENT_NAME = "HIGH RESOLUTION STEREO CAMERA"
MISSION_NAME = "MARS EXPRESS"
MISSION_PHASE_NAME = ME_Phase_46
PROCESSING_LEVEL_ID = 4
PRODUCT_CREATION_TIME = 2023-01-28T22:22:56.000Z
PRODUCT_ID = "HN099_0000_BL4.TIF"
RELEASE_ID = 0004
REVISION_ID = 0000
/* QUALITY DATA ELEMENTS */
DATA_QUALITY_ID = 1
DATA_QUALITY_DESC = "Data calculated based on original SPICE kernels"
/* TIME DATA ELEMENTS */
SPACECRAFT_CLOCK_START_COUNT = "1/0598039863.25700"
SPACECRAFT_CLOCK_STOP_COUNT = "1/0598040097.64574"
START_TIME = 2022-04-14T18:12:06.017Z
STOP_TIME = 2022-04-14T18:14:54.468Z
/* ORBITAL DATA ELEMENTS */
ASCENDING_NODE_LONGITUDE = 143.47
MAXIMUM_RESOLUTION = 0.0544
FOOTPRINT_POINT_LATITUDE = (-46.3405,-46.3277,-46.3206,-46.3014, -46.3009,-46.2897,-45.8586,-45.4271, -45.1031,-44.8871,-44.4558,-44.131, -43.9143,-43.6978,-43.4812,-43.2642, -43.0457,-42.8277,-42.6099,-42.3925, -42.1749,-41.8484,-41.5217,-41.3038, -41.0859,-40.759,-40.541,-40.214, -39.996,-39.669,-39.4512,-39.2333, -39.0153,-38.689,-38.3623,-38.1444, -37.9271,-37.7069,-37.4883,-37.2698, -37.0513,-36.8349,-36.6163,-36.3972, -36.0686,-35.7403,-35.5214,-35.4119, -35.3826,-35.389,-35.3939,-35.3981, -35.3982,-35.399,-35.6183,-35.8381, -36.1658,-36.3847,-36.6046,-36.8247, -37.0438,-37.2626,-37.591,-37.919, -38.1376,-38.3563,-38.5741,-38.7926, -39.1201,-39.4475,-39.6658,-39.8843, -40.2121,-40.5396,-40.758,-40.9764, -41.1946,-41.413,-41.6312,-41.8494, -42.0675,-42.2865,-42.5053,-42.7237, -42.9412,-43.1587,-43.3764,-43.5938, -43.811,-44.0284,-44.2456,-44.4629, -44.6799,-44.8965,-45.3289,-45.5454, -45.7618,-46.1943,-46.3024,-46.3405)
FOOTPRINT_POINT_LONGITUDE = (203.818,203.09,202.775,202.064,202.048 ,202.022,202.053,202.083,202.104, 202.118,202.148,202.168,202.181,202.194 ,202.207,202.219,202.228,202.238, 202.248,202.259,202.269,202.285,202.3, 202.309,202.319,202.333,202.343,202.356 ,202.365,202.379,202.388,202.397, 202.406,202.42,202.433,202.441,202.451, 202.455,202.461,202.468,202.475,202.485 ,202.491,202.497,202.504,202.512, 202.517,202.519,202.52,202.926,203.347, 203.958,203.972,203.976,203.974,203.971 ,203.97,203.969,203.965,203.961,203.959 ,203.958,203.955,203.953,203.951, 203.949,203.949,203.948,203.946,203.944 ,203.942,203.94,203.936,203.932,203.93, 203.927,203.924,203.921,203.918,203.915 ,203.912,203.907,203.902,203.897, 203.894,203.891,203.888,203.885,203.881 ,203.878,203.874,203.87,203.867,203.864 ,203.858,203.855,203.851,203.843, 203.841,203.818)
ORBIT_NUMBER = 23099
ORBITAL_ECCENTRICITY = 0.576
ORBITAL_INCLINATION = 87.01
ORBITAL_SEMIMAJOR_AXIS = 8809.67
PERIAPSIS_ALTITUDE = 343.83
PERIAPSIS_ARGUMENT_ANGLE = 322.12
PERIAPSIS_TIME = 2022-04-14T18:14:23.000Z
SPACECRAFT_ORIENTATION = (0.0,1.0,0.0)
^MEX_ORIENTATION_DESC = "MEX_ORIENTATION_DESC.TXT"
SPACECRAFT_POINTING_MODE = NADIR
^MEX_POINTING_DESC = "MEX_POINTING_DESC.TXT"
RIGHT_ASCENSION = -1e+32
DECLINATION = -1e+32
OFFSET_ANGLE = -1e+32
SPACECRAFT_SOLAR_DISTANCE = 2.11362e+08
TARGET_NAME = MARS
/* CAMERA DATA ELEMENTS */
DETECTOR_TEMPERATURE = 18.5744
FOCAL_PLANE_TEMPERATURE = 8.5833
INST_CMPRS_NAME = "DISCRETE COSINE TRANSFORMATION (DCT)"
INST_CMPRS_RATIO = 37.2611
INST_CMPRS_QUALITY = 0
INST_CMPRS_QUANTZ_TBL_ID = 0
INSTRUMENT_TEMPERATURE = 11.4379
LENS_TEMPERATURE = 8.7872
MACROPIXEL_SIZE = 4
MISSING_FRAMES = 0
PIXEL_SUBSAMPLING_FLAG = N
SIGNAL_CHAIN_ID = 2
/* RADIOMETRIC DATA ELEMENTS */
BANDWIDTH = 76.0
CENTER_FILTER_WAVELENGTH = 444.0
RADIANCE_OFFSET = 0.368837
RADIANCE_SCALING_FACTOR = 0.000414579
REFLECTANCE_SCALING_FACTOR = 1.9029e-05
MEX:REFLECTANCE_OFFSET = 0.0169295
/* IMAGE OBJECT DEFINITIONS */
OBJECT = IMAGE
  INTERCHANGE_FORMAT = BINARY
  LINES = 12972
  LINE_SAMPLES = 1752
  SAMPLE_TYPE = UNSIGNED_INTEGER
  SAMPLE_BITS = 8
  BANDS = 1
  BAND_STORAGE_TYPE = BAND_SEQUENTIAL
  MAXIMUM = 255
  MEAN = 253.895
  MINIMUM = 27
  STANDARD_DEVIATION = 8.83618
END_OBJECT = IMAGE
/* MAP OBJECT DEFINITIONS */
OBJECT = IMAGE_MAP_PROJECTION
  ^DATA_SET_MAP_PROJECTION_CATALOG= "DSMAP.CAT"
  A_AXIS_RADIUS = 3396.0
  B_AXIS_RADIUS = 3396.0
  C_AXIS_RADIUS = 3396.0
  CENTER_LATITUDE = 0.0
  CENTER_LONGITUDE = 203.0
  COORDINATE_SYSTEM_NAME = PLANETOGRAPHIC
  COORDINATE_SYSTEM_TYPE = "BODY-FIXED ROTATING"
  EASTERNMOST_LONGITUDE = 203.976
  FIRST_STANDARD_PARALLEL = "N/A"
  LINE_FIRST_PIXEL = 1
  LINE_LAST_PIXEL = 12972
  LINE_PROJECTION_OFFSET = -41948.375
  MAP_PROJECTION_ROTATION = 0.0
  MAP_PROJECTION_TYPE = SINUSOIDAL
  MAP_RESOLUTION = 1185.42760773333
  MAP_SCALE = 0.05
  MAXIMUM_LATITUDE = -35.3826
  MINIMUM_LATITUDE = -46.3405
  POSITIVE_LONGITUDE_DIRECTION = EAST
  REFERENCE_LATITUDE = "N/A"
  REFERENCE_LONGITUDE = "N/A"
  SAMPLE_FIRST_PIXEL = 1
  SAMPLE_LAST_PIXEL = 1752
  SAMPLE_PROJECTION_OFFSET = 807.125
  SECOND_STANDARD_PARALLEL = "N/A"
  WESTERNMOST_LONGITUDE = 202.022
END_OBJECT = IMAGE_MAP_PROJECTION
END
