PDS_VERSION_ID = PDS3
/* FILE DATA ELEMENTS */
RECORD_TYPE = UNDEFINED
/* POINTERS TO DATA OBJECTS */
^IMAGE = ("HN097_0000_ND4.TIF")
/* IDENTIFICATION DATA ELEMENTS */
DATA_SET_ID = "MEX-M-HRSC-4-REFDR-MAPPROJECT-EXT8-V4.0"
DATA_SET_NAME = "MARS EXPRESS HRSC MAP PROJECTED REFDR EXTENSION8 V4.0"
DETECTOR_ID = MEX_HRSC_NADIR
EVENT_TYPE = "MARS-REGIONAL-MAPPING-Im-Fl-La"
INSTRUMENT_HOST_ID = MEX
INSTRUMENT_HOST_NAME = "MARS EXPRESS"
INSTRUMENT_ID = HRSC
INSTRUMENT_NAME = "HIGH RESOLUTION STEREO CAMERA"
MISSION_NAME = "MARS EXPRESS"
MISSION_PHASE_NAME = ME_Phase_46
PROCESSING_LEVEL_ID = 4
PRODUCT_CREATION_TIME = 2023-01-28T22:22:56.000Z
PRODUCT_ID = "HN097_0000_ND4.TIF"
RELEASE_ID = 0004
REVISION_ID = 0000
/* QUALITY DATA ELEMENTS */
DATA_QUALITY_ID = 1
DATA_QUALITY_DESC = "Data calculated based on original SPICE kernels"
/* TIME DATA ELEMENTS */
SPACECRAFT_CLOCK_START_COUNT = "1/0597989858.23967"
SPACECRAFT_CLOCK_STOP_COUNT = "1/0597990114.15182"
START_TIME = 2022-04-14T04:18:46.682Z
STOP_TIME = 2022-04-14T04:21:42.701Z
/* ORBITAL DATA ELEMENTS */
ASCENDING_NODE_LONGITUDE = 143.51
MAXIMUM_RESOLUTION = 0.0147
FOOTPRINT_POINT_LATITUDE = (-28.3026,-28.2941,-28.2834,-28.2771, -28.2682,-28.2677,-28.266,-27.9334, -27.7118,-27.4903,-27.2689,-27.0476, -26.8262,-26.6052,-26.2739,-26.0531, -25.8323,-25.6117,-25.3912,-25.1709, -24.9506,-24.7305,-24.5105,-24.0709, -23.6319,-23.1935,-22.7556,-22.3183, -21.8817,-21.4454,-21.0025,-20.6675, -20.4445,-20.2219,-19.9993,-19.7768, -19.5488,-19.3208,-19.0931,-18.8655, -18.6382,-18.4111,-18.1785,-17.9461, -17.7138,-17.4819,-17.2501,-17.134, -17.1182,-17.1219,-17.124,-17.1249, -17.126,-17.126,-17.1263,-17.4753, -17.7079,-17.9408,-18.1738,-18.5211, -18.7489,-18.9769,-19.2051,-19.4334, -19.6619,-19.8881,-20.1113,-20.3346, -20.558,-20.7817,-21.0055,-21.3407, -21.7776,-22.2151,-22.6532,-22.9824, -23.4217,-23.6415,-23.8615,-24.0816, -24.3018,-24.5221,-24.7426,-24.9632, -25.184,-25.5157,-25.7367,-25.9579, -26.1792,-26.4007,-26.6222,-26.8439, -27.0656,-27.2875,-27.5095,-27.7316, -27.9538,-28.1761,-28.2872,-28.3026)
FOOTPRINT_POINT_LONGITUDE = (46.0315,45.5567,45.0574,44.7979, 44.4631,44.4461,44.4061,44.4166,44.4229 ,44.429,44.4351,44.4428,44.444,44.4507, 44.4652,44.4696,44.474,44.4792,44.4832, 44.4875,44.492,44.4952,44.4992,44.5062, 44.5129,44.5211,44.526,44.5324,44.5396, 44.5326,44.5382,44.537,44.5379,44.5474, 44.5545,44.5527,44.5537,44.5527,44.5528 ,44.5524,44.552,44.5509,44.5503,44.5511 ,44.5515,44.5529,44.5536,44.553,44.55, 45.0268,45.4286,45.6912,46.2203,46.2359 ,46.2435,46.2379,46.2344,46.2307, 46.2271,46.2219,46.219,46.2162,46.2123, 46.207,46.2015,46.1997,46.1985,46.1943, 46.1899,46.1858,46.1815,46.1751,46.1665 ,46.1574,46.1465,46.1446,46.1352, 46.1302,46.1253,46.1202,46.1161,46.1083 ,46.1015,46.0966,46.0916,46.0905, 46.0845,46.0785,46.0731,46.0681,46.0621 ,46.0559,46.0498,46.0437,46.0378, 46.0319,46.0259,46.0204,46.0171, 46.0315)
ORBIT_NUMBER = 23097
ORBITAL_ECCENTRICITY = 0.577
ORBITAL_INCLINATION = 87.0
ORBITAL_SEMIMAJOR_AXIS = 8815.15
PERIAPSIS_ALTITUDE = 344.0
PERIAPSIS_ARGUMENT_ANGLE = 322.47
PERIAPSIS_TIME = 2022-04-14T04:16:26.000Z
SPACECRAFT_ORIENTATION = (0.0,1.0,0.0)
^MEX_ORIENTATION_DESC = "MEX_ORIENTATION_DESC.TXT"
SPACECRAFT_POINTING_MODE = ACROSSTRACK
^MEX_POINTING_DESC = "MEX_POINTING_DESC.TXT"
RIGHT_ASCENSION = -1e+32
DECLINATION = -1e+32
OFFSET_ANGLE = 2.0
SPACECRAFT_SOLAR_DISTANCE = 2.11439e+08
TARGET_NAME = MARS
/* CAMERA DATA ELEMENTS */
DETECTOR_TEMPERATURE = 18.1666
FOCAL_PLANE_TEMPERATURE = 8.5833
INST_CMPRS_NAME = "DISCRETE COSINE TRANSFORMATION (DCT)"
INST_CMPRS_RATIO = 4.96071
INST_CMPRS_QUALITY = 0
INST_CMPRS_QUANTZ_TBL_ID = 0
INSTRUMENT_TEMPERATURE = 11.4379
LENS_TEMPERATURE = 9.195
MACROPIXEL_SIZE = 1
MISSING_FRAMES = 0
PIXEL_SUBSAMPLING_FLAG = N
SIGNAL_CHAIN_ID = 0
/* RADIOMETRIC DATA ELEMENTS */
BANDWIDTH = 177.0
CENTER_FILTER_WAVELENGTH = 677.5
RADIANCE_OFFSET = 2.36536
RADIANCE_SCALING_FACTOR = 0.0101561
REFLECTANCE_SCALING_FACTOR = 0.000241202
MEX:REFLECTANCE_OFFSET = 0.0561759
/* IMAGE OBJECT DEFINITIONS */
OBJECT = IMAGE
  INTERCHANGE_FORMAT = BINARY
  LINES = 53029
  LINE_SAMPLES = 8118
  SAMPLE_TYPE = UNSIGNED_INTEGER
  SAMPLE_BITS = 8
  BANDS = 1
  BAND_STORAGE_TYPE = BAND_SEQUENTIAL
  MAXIMUM = 255
  MEAN = 143.697
  MINIMUM = 1
  STANDARD_DEVIATION = 32.3496
END_OBJECT = IMAGE
/* MAP OBJECT DEFINITIONS */
OBJECT = IMAGE_MAP_PROJECTION
  ^DATA_SET_MAP_PROJECTION_CATALOG= "DSMAP.CAT"
  A_AXIS_RADIUS = 3396.0
  B_AXIS_RADIUS = 3396.0
  C_AXIS_RADIUS = 3396.0
  CENTER_LATITUDE = 0.0
  CENTER_LONGITUDE = 45.0
  COORDINATE_SYSTEM_NAME = PLANETOGRAPHIC
  COORDINATE_SYSTEM_TYPE = "BODY-FIXED ROTATING"
  EASTERNMOST_LONGITUDE = 46.2435
  FIRST_STANDARD_PARALLEL = "N/A"
  LINE_FIRST_PIXEL = 1
  LINE_LAST_PIXEL = 53029
  LINE_PROJECTION_OFFSET = -81172.0
  MAP_PROJECTION_ROTATION = 0.0
  MAP_PROJECTION_TYPE = SINUSOIDAL
  MAP_RESOLUTION = 4741.71043093333
  MAP_SCALE = 0.0125
  MAXIMUM_LATITUDE = -17.1182
  MINIMUM_LATITUDE = -28.3026
  POSITIVE_LONGITUDE_DIRECTION = EAST
  REFERENCE_LATITUDE = "N/A"
  REFERENCE_LONGITUDE = "N/A"
  SAMPLE_FIRST_PIXEL = 1
  SAMPLE_LAST_PIXEL = 8118
  SAMPLE_PROJECTION_OFFSET = 2482.0
  SECOND_STANDARD_PARALLEL = "N/A"
  WESTERNMOST_LONGITUDE = 44.4061
END_OBJECT = IMAGE_MAP_PROJECTION
END
