PDS_VERSION_ID = PDS3
/* FILE DATA ELEMENTS */
RECORD_TYPE = UNDEFINED
/* POINTERS TO DATA OBJECTS */
^IMAGE = ("HN097_0000_IR4.TIF")
/* IDENTIFICATION DATA ELEMENTS */
DATA_SET_ID = "MEX-M-HRSC-4-REFDR-MAPPROJECT-EXT8-V4.0"
DATA_SET_NAME = "MARS EXPRESS HRSC MAP PROJECTED REFDR EXTENSION8 V4.0"
DETECTOR_ID = MEX_HRSC_IR
EVENT_TYPE = "MARS-REGIONAL-MAPPING-Im-Fl-La"
INSTRUMENT_HOST_ID = MEX
INSTRUMENT_HOST_NAME = "MARS EXPRESS"
INSTRUMENT_ID = HRSC
INSTRUMENT_NAME = "HIGH RESOLUTION STEREO CAMERA"
MISSION_NAME = "MARS EXPRESS"
MISSION_PHASE_NAME = ME_Phase_46
PROCESSING_LEVEL_ID = 4
PRODUCT_CREATION_TIME = 2023-01-28T22:22:56.000Z
PRODUCT_ID = "HN097_0000_IR4.TIF"
RELEASE_ID = 0004
REVISION_ID = 0000
/* QUALITY DATA ELEMENTS */
DATA_QUALITY_ID = 1
DATA_QUALITY_DESC = "Data calculated based on original SPICE kernels"
/* TIME DATA ELEMENTS */
SPACECRAFT_CLOCK_START_COUNT = "1/0597989858.23967"
SPACECRAFT_CLOCK_STOP_COUNT = "1/0597990114.15182"
START_TIME = 2022-04-14T04:19:15.914Z
STOP_TIME = 2022-04-14T04:22:18.927Z
/* ORBITAL DATA ELEMENTS */
ASCENDING_NODE_LONGITUDE = 143.51
MAXIMUM_RESOLUTION = 0.0626
FOOTPRINT_POINT_LATITUDE = (-28.2038,-28.2357,-28.2683,-28.2849, -28.3123,-28.3134,-28.3312,-28.1109, -27.891,-27.6718,-27.4523,-27.2328, -27.0124,-26.7967,-26.5751,-26.2471, -26.0298,-25.7039,-25.4862,-25.2695, -24.9446,-24.6203,-24.0811,-23.5433, -23.2167,-22.8871,-22.6673,-22.4477, -22.2275,-22.0079,-21.7914,-21.5704, -21.3387,-21.115,-20.6782,-20.4528, -20.2199,-19.8764,-19.6493,-19.4239, -19.0785,-18.8479,-18.6175,-18.3879, -18.1565,-17.8028,-17.5669,-17.3313, -17.214,-17.1782,-17.1369,-17.1192, -17.0896,-17.071,-17.0427,-17.0414, -17.0421,-17.2771,-17.513,-17.7486, -18.1023,-18.3331,-18.6793,-18.9094, -19.1416,-19.4876,-19.7163,-19.9395, -20.2796,-20.5072,-20.7309,-21.0675, -21.4038,-21.6284,-21.8504,-22.0682, -22.2919,-22.6233,-22.8432,-23.2781, -23.7094,-23.9259,-24.1425,-24.4682, -24.6888,-24.9063,-25.2317,-25.5507, -25.7701,-25.9889,-26.2075,-26.4262, -26.7554,-27.0853,-27.3057,-27.6358, -27.856,-28.0762,-28.1862,-28.2038)
FOOTPRINT_POINT_LONGITUDE = (46.0424,45.5849,45.1049,44.856,44.4374 ,44.4209,44.3841,44.391,44.3973,44.4028 ,44.4087,44.4151,44.4231,44.4233, 44.4338,44.4425,44.4462,44.4521,44.4572 ,44.4606,44.4663,44.4714,44.4792, 44.4863,44.4919,44.4948,44.4973,44.4998 ,44.5034,44.5064,44.5015,44.4985,44.512 ,44.5139,44.5028,44.5039,44.5122, 44.5165,44.5172,44.5157,44.5151,44.5139 ,44.5129,44.5112,44.51,44.5099,44.5104, 44.5109,44.5106,44.5104,45.0439,45.293, 45.7295,45.9832,46.253,46.2684,46.2735, 46.2694,46.2649,46.2608,46.2546,46.2505 ,46.2448,46.2417,46.2374,46.2287, 46.2236,46.2223,46.2172,46.2122,46.2075 ,46.2001,46.1931,46.1885,46.1841, 46.1806,46.173,46.1649,46.1605,46.1547, 46.1448,46.1394,46.1341,46.1257,46.1175 ,46.1119,46.1044,46.1025,46.0959,46.09, 46.0843,46.0786,46.0694,46.0598,46.0533 ,46.044,46.0378,46.0318,46.0289, 46.0424)
ORBIT_NUMBER = 23097
ORBITAL_ECCENTRICITY = 0.577
ORBITAL_INCLINATION = 87.0
ORBITAL_SEMIMAJOR_AXIS = 8815.15
PERIAPSIS_ALTITUDE = 344.0
PERIAPSIS_ARGUMENT_ANGLE = 322.47
PERIAPSIS_TIME = 2022-04-14T04:16:26.000Z
SPACECRAFT_ORIENTATION = (0.0,1.0,0.0)
^MEX_ORIENTATION_DESC = "MEX_ORIENTATION_DESC.TXT"
SPACECRAFT_POINTING_MODE = ACROSSTRACK
^MEX_POINTING_DESC = "MEX_POINTING_DESC.TXT"
RIGHT_ASCENSION = -1e+32
DECLINATION = -1e+32
OFFSET_ANGLE = 2.0
SPACECRAFT_SOLAR_DISTANCE = 2.11439e+08
TARGET_NAME = MARS
/* CAMERA DATA ELEMENTS */
DETECTOR_TEMPERATURE = 17.1471
FOCAL_PLANE_TEMPERATURE = 8.5833
INST_CMPRS_NAME = "DISCRETE COSINE TRANSFORMATION (DCT)"
INST_CMPRS_RATIO = 5.39738
INST_CMPRS_QUALITY = 0
INST_CMPRS_QUANTZ_TBL_ID = 0
INSTRUMENT_TEMPERATURE = 11.4379
LENS_TEMPERATURE = 9.195
MACROPIXEL_SIZE = 4
MISSING_FRAMES = 0
PIXEL_SUBSAMPLING_FLAG = N
SIGNAL_CHAIN_ID = 2
/* RADIOMETRIC DATA ELEMENTS */
BANDWIDTH = 81.0
CENTER_FILTER_WAVELENGTH = 955.5
RADIANCE_OFFSET = 0.609467
RADIANCE_SCALING_FACTOR = 0.00235413
REFLECTANCE_SCALING_FACTOR = 0.000227052
MEX:REFLECTANCE_OFFSET = 0.0587823
/* IMAGE OBJECT DEFINITIONS */
OBJECT = IMAGE
  INTERCHANGE_FORMAT = BINARY
  LINES = 13258
  LINE_SAMPLES = 2030
  SAMPLE_TYPE = UNSIGNED_INTEGER
  SAMPLE_BITS = 8
  BANDS = 1
  BAND_STORAGE_TYPE = BAND_SEQUENTIAL
  MAXIMUM = 255
  MEAN = 158.689
  MINIMUM = 1
  STANDARD_DEVIATION = 39.657
END_OBJECT = IMAGE
/* MAP OBJECT DEFINITIONS */
OBJECT = IMAGE_MAP_PROJECTION
  ^DATA_SET_MAP_PROJECTION_CATALOG= "DSMAP.CAT"
  A_AXIS_RADIUS = 3396.0
  B_AXIS_RADIUS = 3396.0
  C_AXIS_RADIUS = 3396.0
  CENTER_LATITUDE = 0.0
  CENTER_LONGITUDE = 45.0
  COORDINATE_SYSTEM_NAME = PLANETOGRAPHIC
  COORDINATE_SYSTEM_TYPE = "BODY-FIXED ROTATING"
  EASTERNMOST_LONGITUDE = 46.2735
  FIRST_STANDARD_PARALLEL = "N/A"
  LINE_FIRST_PIXEL = 1
  LINE_LAST_PIXEL = 13258
  LINE_PROJECTION_OFFSET = -20293.375
  MAP_PROJECTION_ROTATION = 0.0
  MAP_PROJECTION_TYPE = SINUSOIDAL
  MAP_RESOLUTION = 1185.42760773333
  MAP_SCALE = 0.05
  MAXIMUM_LATITUDE = -17.0414
  MINIMUM_LATITUDE = -28.3312
  POSITIVE_LONGITUDE_DIRECTION = EAST
  REFERENCE_LATITUDE = "N/A"
  REFERENCE_LONGITUDE = "N/A"
  SAMPLE_FIRST_PIXEL = 1
  SAMPLE_LAST_PIXEL = 2030
  SAMPLE_PROJECTION_OFFSET = 620.125
  SECOND_STANDARD_PARALLEL = "N/A"
  WESTERNMOST_LONGITUDE = 44.3841
END_OBJECT = IMAGE_MAP_PROJECTION
END
