PDS_VERSION_ID = PDS3
/* FILE DATA ELEMENTS */
RECORD_TYPE = UNDEFINED
/* POINTERS TO DATA OBJECTS */
^IMAGE = ("HN097_0000_BL4.TIF")
/* IDENTIFICATION DATA ELEMENTS */
DATA_SET_ID = "MEX-M-HRSC-4-REFDR-MAPPROJECT-EXT8-V4.0"
DATA_SET_NAME = "MARS EXPRESS HRSC MAP PROJECTED REFDR EXTENSION8 V4.0"
DETECTOR_ID = MEX_HRSC_BLUE
EVENT_TYPE = "MARS-REGIONAL-MAPPING-Im-Fl-La"
INSTRUMENT_HOST_ID = MEX
INSTRUMENT_HOST_NAME = "MARS EXPRESS"
INSTRUMENT_ID = HRSC
INSTRUMENT_NAME = "HIGH RESOLUTION STEREO CAMERA"
MISSION_NAME = "MARS EXPRESS"
MISSION_PHASE_NAME = ME_Phase_46
PROCESSING_LEVEL_ID = 4
PRODUCT_CREATION_TIME = 2023-01-28T22:22:56.000Z
PRODUCT_ID = "HN097_0000_BL4.TIF"
RELEASE_ID = 0004
REVISION_ID = 0000
/* QUALITY DATA ELEMENTS */
DATA_QUALITY_ID = 1
DATA_QUALITY_DESC = "Data calculated based on original SPICE kernels"
/* TIME DATA ELEMENTS */
SPACECRAFT_CLOCK_START_COUNT = "1/0597989858.23967"
SPACECRAFT_CLOCK_STOP_COUNT = "1/0597990114.15182"
START_TIME = 2022-04-14T04:18:41.055Z
STOP_TIME = 2022-04-14T04:21:35.844Z
/* ORBITAL DATA ELEMENTS */
ASCENDING_NODE_LONGITUDE = 143.51
MAXIMUM_RESOLUTION = 0.0586
FOOTPRINT_POINT_LATITUDE = (-28.3104,-28.2943,-28.2757,-28.2469, -28.2462,-28.2397,-27.9098,-27.6898, -27.4699,-27.2502,-26.9202,-26.7005, -26.4824,-26.2628,-26.0433,-25.824, -25.6049,-25.2762,-25.0572,-24.8383, -24.6196,-24.4008,-24.1823,-23.9639, -23.6365,-23.4185,-23.2006,-22.9825, -22.7648,-22.3299,-21.8957,-21.6766, -21.2451,-20.8078,-20.5855,-20.3634, -20.1442,-19.9218,-19.5891,-19.3674, -19.141,-18.914,-18.6872,-18.4605, -18.234,-18.0079,-17.6617,-17.3152, -17.1997,-17.0985,-17.1071,-17.116, -17.1262,-17.1356,-17.1359,-17.1371, -17.4846,-17.7166,-18.0635,-18.2902, -18.5172,-18.8584,-19.0857,-19.4255, -19.6469,-19.8698,-20.204,-20.4263, -20.6489,-20.9814,-21.4156,-21.633, -21.8507,-22.069,-22.3943,-22.6124, -22.8307,-23.0503,-23.2687,-23.5965, -23.8151,-24.0338,-24.2529,-24.5802, -24.7994,-25.1285,-25.348,-25.5694, -25.7887,-26.0084,-26.2283,-26.4483, -26.6682,-26.8882,-27.2183,-27.5488, -27.7692,-28.1,-28.2104,-28.3104)
FOOTPRINT_POINT_LONGITUDE = (46.0289,45.5845,45.1186,44.4712, 44.4553,44.4195,44.4302,44.4363,44.4424 ,44.4489,44.4553,44.4603,44.474,44.4787 ,44.483,44.4874,44.4925,44.4991,44.5032 ,44.507,44.5114,44.5144,44.5183,44.5221 ,44.527,44.531,44.5352,44.537,44.5403, 44.5469,44.5542,44.5448,44.5629,44.5514 ,44.5528,44.5543,44.5723,44.5698, 44.5695,44.5686,44.5689,44.5687,44.5682 ,44.5674,44.5668,44.5669,44.5679, 44.5706,44.5709,44.5669,44.8956,45.2495 ,45.7835,46.2178,46.2324,46.2372, 46.2318,46.2283,46.223,46.2196,46.2163, 46.2124,46.2089,46.2019,46.1965,46.1954 ,46.192,46.1873,46.1834,46.1774,46.1687 ,46.1646,46.1608,46.1584,46.1474, 46.1431,46.1392,46.1391,46.1345,46.1277 ,46.1226,46.1174,46.1134,46.1019, 46.0968,46.0898,46.0847,46.0861,46.0795 ,46.0741,46.0688,46.0637,46.0578, 46.0519,46.0429,46.0341,46.0282,46.0196 ,46.0167,46.0289)
ORBIT_NUMBER = 23097
ORBITAL_ECCENTRICITY = 0.577
ORBITAL_INCLINATION = 87.0
ORBITAL_SEMIMAJOR_AXIS = 8815.15
PERIAPSIS_ALTITUDE = 344.0
PERIAPSIS_ARGUMENT_ANGLE = 322.47
PERIAPSIS_TIME = 2022-04-14T04:16:26.000Z
SPACECRAFT_ORIENTATION = (0.0,1.0,0.0)
^MEX_ORIENTATION_DESC = "MEX_ORIENTATION_DESC.TXT"
SPACECRAFT_POINTING_MODE = ACROSSTRACK
^MEX_POINTING_DESC = "MEX_POINTING_DESC.TXT"
RIGHT_ASCENSION = -1e+32
DECLINATION = -1e+32
OFFSET_ANGLE = 2.0
SPACECRAFT_SOLAR_DISTANCE = 2.11439e+08
TARGET_NAME = MARS
/* CAMERA DATA ELEMENTS */
DETECTOR_TEMPERATURE = 18.1666
FOCAL_PLANE_TEMPERATURE = 8.5833
INST_CMPRS_NAME = "DISCRETE COSINE TRANSFORMATION (DCT)"
INST_CMPRS_RATIO = 38.8973
INST_CMPRS_QUALITY = 0
INST_CMPRS_QUANTZ_TBL_ID = 0
INSTRUMENT_TEMPERATURE = 11.4379
LENS_TEMPERATURE = 9.195
MACROPIXEL_SIZE = 4
MISSING_FRAMES = 0
PIXEL_SUBSAMPLING_FLAG = N
SIGNAL_CHAIN_ID = 2
/* RADIOMETRIC DATA ELEMENTS */
BANDWIDTH = 76.0
CENTER_FILTER_WAVELENGTH = 444.0
RADIANCE_OFFSET = 0.460374
RADIANCE_SCALING_FACTOR = 0.000504298
REFLECTANCE_SCALING_FACTOR = 2.31639e-05
MEX:REFLECTANCE_OFFSET = 0.0211463
/* IMAGE OBJECT DEFINITIONS */
OBJECT = IMAGE
  INTERCHANGE_FORMAT = BINARY
  LINES = 13258
  LINE_SAMPLES = 2030
  SAMPLE_TYPE = UNSIGNED_INTEGER
  SAMPLE_BITS = 8
  BANDS = 1
  BAND_STORAGE_TYPE = BAND_SEQUENTIAL
  MAXIMUM = 255
  MEAN = 226.535
  MINIMUM = 12
  STANDARD_DEVIATION = 42.8926
END_OBJECT = IMAGE
/* MAP OBJECT DEFINITIONS */
OBJECT = IMAGE_MAP_PROJECTION
  ^DATA_SET_MAP_PROJECTION_CATALOG= "DSMAP.CAT"
  A_AXIS_RADIUS = 3396.0
  B_AXIS_RADIUS = 3396.0
  C_AXIS_RADIUS = 3396.0
  CENTER_LATITUDE = 0.0
  CENTER_LONGITUDE = 45.0
  COORDINATE_SYSTEM_NAME = PLANETOGRAPHIC
  COORDINATE_SYSTEM_TYPE = "BODY-FIXED ROTATING"
  EASTERNMOST_LONGITUDE = 46.2372
  FIRST_STANDARD_PARALLEL = "N/A"
  LINE_FIRST_PIXEL = 1
  LINE_LAST_PIXEL = 13258
  LINE_PROJECTION_OFFSET = -20293.375
  MAP_PROJECTION_ROTATION = 0.0
  MAP_PROJECTION_TYPE = SINUSOIDAL
  MAP_RESOLUTION = 1185.42760773333
  MAP_SCALE = 0.05
  MAXIMUM_LATITUDE = -17.0985
  MINIMUM_LATITUDE = -28.3104
  POSITIVE_LONGITUDE_DIRECTION = EAST
  REFERENCE_LATITUDE = "N/A"
  REFERENCE_LONGITUDE = "N/A"
  SAMPLE_FIRST_PIXEL = 1
  SAMPLE_LAST_PIXEL = 2030
  SAMPLE_PROJECTION_OFFSET = 620.125
  SECOND_STANDARD_PARALLEL = "N/A"
  WESTERNMOST_LONGITUDE = 44.4195
END_OBJECT = IMAGE_MAP_PROJECTION
END
