PDS_VERSION_ID = PDS3
/* FILE DATA ELEMENTS */
RECORD_TYPE = UNDEFINED
/* POINTERS TO DATA OBJECTS */
^IMAGE = ("HN094_0000_IR4.TIF")
/* IDENTIFICATION DATA ELEMENTS */
DATA_SET_ID = "MEX-M-HRSC-4-REFDR-MAPPROJECT-EXT8-V4.0"
DATA_SET_NAME = "MARS EXPRESS HRSC MAP PROJECTED REFDR EXTENSION8 V4.0"
DETECTOR_ID = MEX_HRSC_IR
EVENT_TYPE = "MARS-REGIONAL-MAPPING-Im-Fl-Gl"
INSTRUMENT_HOST_ID = MEX
INSTRUMENT_HOST_NAME = "MARS EXPRESS"
INSTRUMENT_ID = HRSC
INSTRUMENT_NAME = "HIGH RESOLUTION STEREO CAMERA"
MISSION_NAME = "MARS EXPRESS"
MISSION_PHASE_NAME = ME_Phase_46
PROCESSING_LEVEL_ID = 4
PRODUCT_CREATION_TIME = 2023-01-28T22:22:56.000Z
PRODUCT_ID = "HN094_0000_IR4.TIF"
RELEASE_ID = 0004
REVISION_ID = 0000
/* QUALITY DATA ELEMENTS */
DATA_QUALITY_ID = 1
DATA_QUALITY_DESC = "Data calculated based on original SPICE kernels"
/* TIME DATA ELEMENTS */
SPACECRAFT_CLOCK_START_COUNT = "1/0597914175.25669"
SPACECRAFT_CLOCK_STOP_COUNT = "1/0597914419.10235"
START_TIME = 2022-04-13T07:17:49.720Z
STOP_TIME = 2022-04-13T07:20:46.213Z
/* ORBITAL DATA ELEMENTS */
ASCENDING_NODE_LONGITUDE = 143.57
MAXIMUM_RESOLUTION = 0.0572
FOOTPRINT_POINT_LATITUDE = (-44.6595,-44.65,-44.6387,-44.628, -44.6277,-44.6637,-44.3176,-44.0875, -43.8561,-43.6254,-43.395,-43.1647, -42.9341,-42.7032,-42.4727,-42.017, -41.6734,-41.4444,-41.2074,-40.8616, -40.6326,-40.403,-40.1735,-39.9437, -39.714,-39.4844,-39.2546,-39.0249, -38.7957,-38.4513,-38.2215,-37.8765, -37.4216,-37.1914,-36.8476,-36.6196, -36.3915,-36.049,-35.8207,-35.4783, -35.2496,-35.0213,-34.7938,-34.4538, -34.0032,-33.7765,-33.3232,-33.2102, -33.1746,-33.1807,-33.1827,-33.1843, -33.1842,-33.1851,-33.4116,-33.638, -33.9787,-34.2059,-34.5464,-34.8878, -35.2296,-35.4577,-35.6861,-35.9142, -36.1423,-36.3708,-36.5997,-36.8284, -37.0577,-37.2866,-37.5148,-37.8604, -38.0911,-38.321,-38.5506,-38.7797, -39.0106,-39.3527,-39.5844,-39.8146, -40.16,-40.5065,-40.8519,-41.082, -41.3128,-41.6589,-41.8892,-42.1202, -42.3513,-42.5823,-42.8136,-43.0449, -43.278,-43.5093,-43.8539,-44.0831, -44.3156,-44.5465,-44.6623,-44.6595)
FOOTPRINT_POINT_LONGITUDE = (354.485,353.87,353.287,352.814,352.798 ,352.773,352.794,352.807,352.821, 352.834,352.847,352.859,352.872,352.884 ,352.896,352.916,352.931,352.941, 352.956,352.971,352.98,352.99,352.999, 353.008,353.017,353.026,353.035,353.043 ,353.051,353.063,353.071,353.083, 353.096,353.103,353.113,353.12,353.126, 353.134,353.14,353.149,353.154,353.16, 353.165,353.171,353.179,353.183,353.191 ,353.192,353.193,353.909,354.193, 354.626,354.64,354.644,354.642,354.64, 354.638,354.636,354.633,354.63,354.627, 354.625,354.623,354.621,354.618,354.616 ,354.614,354.612,354.61,354.607,354.605 ,354.602,354.6,354.597,354.595,354.592, 354.59,354.584,354.582,354.579,354.575, 354.571,354.566,354.563,354.56,354.555, 354.551,354.548,354.545,354.541,354.538 ,354.534,354.531,354.527,354.52,354.515 ,354.512,354.508,354.506,354.485)
ORBIT_NUMBER = 23094
ORBITAL_ECCENTRICITY = 0.576
ORBITAL_INCLINATION = 87.0
ORBITAL_SEMIMAJOR_AXIS = 8812.76
PERIAPSIS_ALTITUDE = 344.25
PERIAPSIS_ARGUMENT_ANGLE = 322.96
PERIAPSIS_TIME = 2022-04-13T07:19:23.000Z
SPACECRAFT_ORIENTATION = (0.0,1.0,0.0)
^MEX_ORIENTATION_DESC = "MEX_ORIENTATION_DESC.TXT"
SPACECRAFT_POINTING_MODE = NADIR
^MEX_POINTING_DESC = "MEX_POINTING_DESC.TXT"
RIGHT_ASCENSION = -1e+32
DECLINATION = -1e+32
OFFSET_ANGLE = -1e+32
SPACECRAFT_SOLAR_DISTANCE = 2.11555e+08
TARGET_NAME = MARS
/* CAMERA DATA ELEMENTS */
DETECTOR_TEMPERATURE = 15.1081
FOCAL_PLANE_TEMPERATURE = 7.5638
INST_CMPRS_NAME = "DISCRETE COSINE TRANSFORMATION (DCT)"
INST_CMPRS_RATIO = 6.61117
INST_CMPRS_QUALITY = 0
INST_CMPRS_QUANTZ_TBL_ID = 0
INSTRUMENT_TEMPERATURE = 11.0301
LENS_TEMPERATURE = 8.5833
MACROPIXEL_SIZE = 4
MISSING_FRAMES = 0
PIXEL_SUBSAMPLING_FLAG = N
SIGNAL_CHAIN_ID = 2
/* RADIOMETRIC DATA ELEMENTS */
BANDWIDTH = 81.0
CENTER_FILTER_WAVELENGTH = 955.5
RADIANCE_OFFSET = 0.553737
RADIANCE_SCALING_FACTOR = 0.00282642
REFLECTANCE_SCALING_FACTOR = 0.000272906
MEX:REFLECTANCE_OFFSET = 0.0534662
/* IMAGE OBJECT DEFINITIONS */
OBJECT = IMAGE
  INTERCHANGE_FORMAT = BINARY
  LINES = 13664
  LINE_SAMPLES = 1680
  SAMPLE_TYPE = UNSIGNED_INTEGER
  SAMPLE_BITS = 8
  BANDS = 1
  BAND_STORAGE_TYPE = BAND_SEQUENTIAL
  MAXIMUM = 255
  MEAN = 101.211
  MINIMUM = 1
  STANDARD_DEVIATION = 20.8611
END_OBJECT = IMAGE
/* MAP OBJECT DEFINITIONS */
OBJECT = IMAGE_MAP_PROJECTION
  ^DATA_SET_MAP_PROJECTION_CATALOG= "DSMAP.CAT"
  A_AXIS_RADIUS = 3396.0
  B_AXIS_RADIUS = 3396.0
  C_AXIS_RADIUS = 3396.0
  CENTER_LATITUDE = 0.0
  CENTER_LONGITUDE = 354.0
  COORDINATE_SYSTEM_NAME = PLANETOGRAPHIC
  COORDINATE_SYSTEM_TYPE = "BODY-FIXED ROTATING"
  EASTERNMOST_LONGITUDE = 354.644
  FIRST_STANDARD_PARALLEL = "N/A"
  LINE_FIRST_PIXEL = 1
  LINE_LAST_PIXEL = 13664
  LINE_PROJECTION_OFFSET = -39340.125
  MAP_PROJECTION_ROTATION = 0.0
  MAP_PROJECTION_TYPE = SINUSOIDAL
  MAP_RESOLUTION = 1185.42760773333
  MAP_SCALE = 0.05
  MAXIMUM_LATITUDE = -33.1746
  MINIMUM_LATITUDE = -44.6637
  POSITIVE_LONGITUDE_DIRECTION = EAST
  REFERENCE_LATITUDE = "N/A"
  REFERENCE_LONGITUDE = "N/A"
  SAMPLE_FIRST_PIXEL = 1
  SAMPLE_LAST_PIXEL = 1680
  SAMPLE_PROJECTION_OFFSET = 1050.625
  SECOND_STANDARD_PARALLEL = "N/A"
  WESTERNMOST_LONGITUDE = 352.773
END_OBJECT = IMAGE_MAP_PROJECTION
END
