PDS_VERSION_ID = PDS3
/* FILE DATA ELEMENTS */
RECORD_TYPE = UNDEFINED
/* POINTERS TO DATA OBJECTS */
^IMAGE = ("HN087_0000_P14.TIF")
/* IDENTIFICATION DATA ELEMENTS */
DATA_SET_ID = "MEX-M-HRSC-4-REFDR-MAPPROJECT-EXT8-V4.0"
DATA_SET_NAME = "MARS EXPRESS HRSC MAP PROJECTED REFDR EXTENSION8 V4.0"
DETECTOR_ID = MEX_HRSC_P1
EVENT_TYPE = "MARS-REGIONAL-MAPPING-Im-Fl-Gl"
INSTRUMENT_HOST_ID = MEX
INSTRUMENT_HOST_NAME = "MARS EXPRESS"
INSTRUMENT_ID = HRSC
INSTRUMENT_NAME = "HIGH RESOLUTION STEREO CAMERA"
MISSION_NAME = "MARS EXPRESS"
MISSION_PHASE_NAME = ME_Phase_46
PROCESSING_LEVEL_ID = 4
PRODUCT_CREATION_TIME = 2023-01-28T22:22:56.000Z
PRODUCT_ID = "HN087_0000_P14.TIF"
RELEASE_ID = 0004
REVISION_ID = 0000
/* QUALITY DATA ELEMENTS */
DATA_QUALITY_ID = 1
DATA_QUALITY_DESC = "Data calculated based on original SPICE kernels"
/* TIME DATA ELEMENTS */
SPACECRAFT_CLOCK_START_COUNT = "1/0597738194.23959"
SPACECRAFT_CLOCK_STOP_COUNT = "1/0597738442.14896"
START_TIME = 2022-04-11T06:24:43.313Z
STOP_TIME = 2022-04-11T06:27:43.940Z
/* ORBITAL DATA ELEMENTS */
ASCENDING_NODE_LONGITUDE = 143.69
MAXIMUM_RESOLUTION = 0.0282
FOOTPRINT_POINT_LATITUDE = (-43.3276,-43.3208,-43.3088,-43.2988, -43.2984,-43.3277,-43.0928,-42.8569, -42.6208,-42.3859,-42.1501,-41.9148, -41.6796,-41.3267,-41.0882,-40.8539, -40.6184,-40.3832,-40.1476,-39.9125, -39.5604,-39.3253,-38.9729,-38.6208, -38.3859,-38.1513,-37.7993,-37.5667, -37.3323,-37.0976,-36.745,-36.3939, -36.1599,-35.9256,-35.5742,-35.3412, -35.1076,-34.8743,-34.6408,-34.288, -33.825,-33.5887,-33.3559,-33.1235, -32.8914,-32.5429,-32.0788,-31.7308, -31.6151,-31.5751,-31.5779,-31.5851, -31.5859,-31.5854,-31.5858,-32.0468, -32.2795,-32.5119,-32.7448,-32.977, -33.2094,-33.4435,-33.6771,-34.142, -34.4954,-34.7291,-35.0803,-35.3152, -35.5491,-35.7824,-36.0169,-36.3681, -36.603,-36.8376,-37.0722,-37.3075, -37.5416,-37.7764,-38.0119,-38.247, -38.6,-38.8355,-39.1886,-39.424,-39.777 ,-40.0121,-40.2472,-40.4838,-40.7211, -40.9537,-41.1898,-41.5473,-41.9012, -42.1372,-42.4911,-42.7269,-42.9626, -43.1979,-43.3156,-43.3276)
FOOTPRINT_POINT_LONGITUDE = (349.433,348.934,348.258,347.792, 347.776,347.75,347.763,347.776,347.789, 347.801,347.814,347.825,347.837,347.854 ,347.865,347.875,347.885,347.896, 347.906,347.916,347.93,347.939,347.952, 347.965,347.973,347.982,347.993,348.0, 348.007,348.014,348.025,348.035,348.042 ,348.048,348.057,348.063,348.068, 348.073,348.079,348.086,348.094,348.1, 348.104,348.108,348.112,348.117,348.124 ,348.129,348.131,348.131,348.561, 349.143,349.546,349.559,349.564,349.56, 349.559,349.557,349.556,349.554,349.552 ,349.551,349.55,349.546,349.543,349.542 ,349.539,349.538,349.536,349.534, 349.532,349.529,349.527,349.525,349.523 ,349.521,349.519,349.517,349.515, 349.512,349.509,349.507,349.503,349.501 ,349.497,349.494,349.491,349.489, 349.487,349.483,349.48,349.476,349.471, 349.468,349.464,349.46,349.457,349.453, 349.451,349.433)
ORBIT_NUMBER = 23087
ORBITAL_ECCENTRICITY = 0.576
ORBITAL_INCLINATION = 87.0
ORBITAL_SEMIMAJOR_AXIS = 8814.16
PERIAPSIS_ALTITUDE = 344.48
PERIAPSIS_ARGUMENT_ANGLE = 324.14
PERIAPSIS_TIME = 2022-04-11T06:26:19.000Z
SPACECRAFT_ORIENTATION = (0.0,1.0,0.0)
^MEX_ORIENTATION_DESC = "MEX_ORIENTATION_DESC.TXT"
SPACECRAFT_POINTING_MODE = NADIR
^MEX_POINTING_DESC = "MEX_POINTING_DESC.TXT"
RIGHT_ASCENSION = -1e+32
DECLINATION = -1e+32
OFFSET_ANGLE = -1e+32
SPACECRAFT_SOLAR_DISTANCE = 2.11831e+08
TARGET_NAME = MARS
/* CAMERA DATA ELEMENTS */
DETECTOR_TEMPERATURE = 15.5159
FOCAL_PLANE_TEMPERATURE = 7.7677
INST_CMPRS_NAME = "DISCRETE COSINE TRANSFORMATION (DCT)"
INST_CMPRS_RATIO = 6.49352
INST_CMPRS_QUALITY = 0
INST_CMPRS_QUANTZ_TBL_ID = 0
INSTRUMENT_TEMPERATURE = 10.6223
LENS_TEMPERATURE = 7.9716
MACROPIXEL_SIZE = 2
PIXEL_SUBSAMPLING_FLAG = N
SIGNAL_CHAIN_ID = 3
/* RADIOMETRIC DATA ELEMENTS */
BANDWIDTH = 174.0
CENTER_FILTER_WAVELENGTH = 675.0
RADIANCE_OFFSET = 2.45355
RADIANCE_SCALING_FACTOR = 0.00804444
REFLECTANCE_SCALING_FACTOR = 0.000194162
MEX:REFLECTANCE_OFFSET = 0.0592194
/* IMAGE OBJECT DEFINITIONS */
OBJECT = IMAGE
  INTERCHANGE_FORMAT = BINARY
  LINES = 27938
  LINE_SAMPLES = 3300
  SAMPLE_TYPE = UNSIGNED_INTEGER
  SAMPLE_BITS = 8
  BANDS = 1
  BAND_STORAGE_TYPE = BAND_SEQUENTIAL
  MAXIMUM = 255
  MEAN = 117.67
  MINIMUM = 1
  STANDARD_DEVIATION = 21.1629
END_OBJECT = IMAGE
/* MAP OBJECT DEFINITIONS */
OBJECT = IMAGE_MAP_PROJECTION
  ^DATA_SET_MAP_PROJECTION_CATALOG= "DSMAP.CAT"
  A_AXIS_RADIUS = 3396.0
  B_AXIS_RADIUS = 3396.0
  C_AXIS_RADIUS = 3396.0
  CENTER_LATITUDE = 0.0
  CENTER_LONGITUDE = 349.0
  COORDINATE_SYSTEM_NAME = PLANETOGRAPHIC
  COORDINATE_SYSTEM_TYPE = "BODY-FIXED ROTATING"
  EASTERNMOST_LONGITUDE = 349.564
  FIRST_STANDARD_PARALLEL = "N/A"
  LINE_FIRST_PIXEL = 1
  LINE_LAST_PIXEL = 27938
  LINE_PROJECTION_OFFSET = -74893.75
  MAP_PROJECTION_ROTATION = 0.0
  MAP_PROJECTION_TYPE = SINUSOIDAL
  MAP_RESOLUTION = 2370.85521546667
  MAP_SCALE = 0.025
  MAXIMUM_LATITUDE = -31.5751
  MINIMUM_LATITUDE = -43.3277
  POSITIVE_LONGITUDE_DIRECTION = EAST
  REFERENCE_LATITUDE = "N/A"
  REFERENCE_LONGITUDE = "N/A"
  SAMPLE_FIRST_PIXEL = 1
  SAMPLE_LAST_PIXEL = 3300
  SAMPLE_PROJECTION_OFFSET = 2175.75
  SECOND_STANDARD_PARALLEL = "N/A"
  WESTERNMOST_LONGITUDE = 347.75
END_OBJECT = IMAGE_MAP_PROJECTION
END
