PDS_VERSION_ID = PDS3
/* FILE DATA ELEMENTS */
RECORD_TYPE = UNDEFINED
/* POINTERS TO DATA OBJECTS */
^IMAGE = ("HN077_0000_S14.TIF")
/* IDENTIFICATION DATA ELEMENTS */
DATA_SET_ID = "MEX-M-HRSC-4-REFDR-MAPPROJECT-EXT8-V4.0"
DATA_SET_NAME = "MARS EXPRESS HRSC MAP PROJECTED REFDR EXTENSION8 V4.0"
DETECTOR_ID = MEX_HRSC_S1
EVENT_TYPE = "MARS-LOCAL-CARTOGRAPHY-Te-Ot-Ts"
INSTRUMENT_HOST_ID = MEX
INSTRUMENT_HOST_NAME = "MARS EXPRESS"
INSTRUMENT_ID = HRSC
INSTRUMENT_NAME = "HIGH RESOLUTION STEREO CAMERA"
MISSION_NAME = "MARS EXPRESS"
MISSION_PHASE_NAME = ME_Phase_46
PROCESSING_LEVEL_ID = 4
PRODUCT_CREATION_TIME = 2023-01-28T22:22:56.000Z
PRODUCT_ID = "HN077_0000_S14.TIF"
RELEASE_ID = 0004
REVISION_ID = 0000
/* QUALITY DATA ELEMENTS */
DATA_QUALITY_ID = 1
DATA_QUALITY_DESC = "Data calculated based on original SPICE kernels"
/* TIME DATA ELEMENTS */
SPACECRAFT_CLOCK_START_COUNT = "1/0597486635.25686"
SPACECRAFT_CLOCK_STOP_COUNT = "1/0597487097.32100"
START_TIME = 2022-04-08T08:32:31.315Z
STOP_TIME = 2022-04-08T08:38:49.937Z
/* ORBITAL DATA ELEMENTS */
ASCENDING_NODE_LONGITUDE = 143.87
MAXIMUM_RESOLUTION = 0.0301
FOOTPRINT_POINT_LATITUDE = (-51.1101,-51.1251,-51.1373,-51.1478, -51.148,-51.2014,-50.8999,-50.6056, -50.3111,-50.0159,-49.573,-49.2788, -48.9844,-48.6896,-48.3956,-47.953, -47.6579,-47.3617,-47.0656,-46.7702, -46.4725,-46.1751,-45.8832,-45.5876, -45.1495,-44.8496,-44.5552,-44.26, -43.8161,-43.3733,-42.9301,-42.6347, -42.1916,-41.896,-41.4526,-41.0099, -40.7148,-40.4199,-30.4132,-29.9813, -29.6941,-29.4072,-29.12,-28.8337, -28.262,-27.8343,-26.8392,-26.6971, -26.6703,-26.6118,-26.568,-26.5315, -26.5303,-26.5303,-26.9602,-27.2479, -27.674,-28.2463,-28.5335,-28.9639, -29.2511,-29.5391,-29.8266,-30.2583, -40.2964,-40.5924,-40.8884,-41.1847, -41.4802,-41.7761,-42.0725,-42.5171, -42.8147,-43.2607,-43.5583,-43.8558, -44.1524,-44.597,-44.8936,-45.1887, -45.4842,-45.7807,-46.0804,-46.3793, -46.6754,-46.9729,-47.2694,-47.5676, -47.8652,-48.1617,-48.6063,-49.0507, -49.3476,-49.7917,-50.0879,-50.385, -50.6816,-50.9817,-51.1341,-51.1101)
FOOTPRINT_POINT_LONGITUDE = (287.582,286.878,286.143,285.224, 285.199,285.074,285.129,285.182,285.234 ,285.287,285.363,285.41,285.456,285.503 ,285.546,285.612,285.655,285.699, 285.742,285.783,285.827,285.87,285.901, 285.939,285.983,286.027,286.06,286.093, 286.144,286.192,286.238,286.268,286.313 ,286.342,286.385,286.426,286.453, 286.478,287.082,287.098,287.107,287.116 ,287.125,287.134,287.15,287.161,287.184 ,287.187,287.188,287.846,288.344, 288.748,288.762,288.767,288.755,288.747 ,288.739,288.725,288.718,288.707,288.7, 288.692,288.685,288.674,288.291,288.276 ,288.261,288.246,288.231,288.215, 288.199,288.175,288.157,288.13,288.112, 288.093,288.075,288.048,288.029,288.011 ,287.993,287.973,287.95,287.927,287.906 ,287.884,287.862,287.839,287.815, 287.792,287.757,287.721,287.695,287.657 ,287.631,287.604,287.576,287.547, 287.532,287.582)
ORBIT_NUMBER = 23077
ORBITAL_ECCENTRICITY = 0.577
ORBITAL_INCLINATION = 86.99
ORBITAL_SEMIMAJOR_AXIS = 8820.31
PERIAPSIS_ALTITUDE = 344.81
PERIAPSIS_ARGUMENT_ANGLE = 325.87
PERIAPSIS_TIME = 2022-04-08T08:36:22.000Z
SPACECRAFT_ORIENTATION = (0.0,1.0,0.0)
^MEX_ORIENTATION_DESC = "MEX_ORIENTATION_DESC.TXT"
SPACECRAFT_POINTING_MODE = ACROSSTRACK
^MEX_POINTING_DESC = "MEX_POINTING_DESC.TXT"
RIGHT_ASCENSION = -1e+32
DECLINATION = -1e+32
OFFSET_ANGLE = 1.885
SPACECRAFT_SOLAR_DISTANCE = 2.12237e+08
TARGET_NAME = MARS
/* CAMERA DATA ELEMENTS */
DETECTOR_TEMPERATURE = 16.9432
FOCAL_PLANE_TEMPERATURE = 7.7677
INST_CMPRS_NAME = "DISCRETE COSINE TRANSFORMATION (DCT)"
INST_CMPRS_RATIO = 7.54603
INST_CMPRS_QUALITY = 0
INST_CMPRS_QUANTZ_TBL_ID = 0
INSTRUMENT_TEMPERATURE = 11.0301
LENS_TEMPERATURE = 8.3794
MACROPIXEL_SIZE = 2
MISSING_FRAMES = 2412
PIXEL_SUBSAMPLING_FLAG = N
SIGNAL_CHAIN_ID = 1
/* RADIOMETRIC DATA ELEMENTS */
BANDWIDTH = 180.0
CENTER_FILTER_WAVELENGTH = 677.0
RADIANCE_OFFSET = 2.31417
RADIANCE_SCALING_FACTOR = 0.0101166
REFLECTANCE_SCALING_FACTOR = 0.000237749
MEX:REFLECTANCE_OFFSET = 0.054385
/* IMAGE OBJECT DEFINITIONS */
OBJECT = IMAGE
  INTERCHANGE_FORMAT = BINARY
  LINES = 58504
  LINE_SAMPLES = 6601
  SAMPLE_TYPE = UNSIGNED_INTEGER
  SAMPLE_BITS = 8
  BANDS = 1
  BAND_STORAGE_TYPE = BAND_SEQUENTIAL
  MAXIMUM = 255
  MEAN = 110.958
  MINIMUM = 1
  STANDARD_DEVIATION = 23.6086
END_OBJECT = IMAGE
/* MAP OBJECT DEFINITIONS */
OBJECT = IMAGE_MAP_PROJECTION
  ^DATA_SET_MAP_PROJECTION_CATALOG= "DSMAP.CAT"
  A_AXIS_RADIUS = 3396.0
  B_AXIS_RADIUS = 3396.0
  C_AXIS_RADIUS = 3396.0
  CENTER_LATITUDE = 0.0
  CENTER_LONGITUDE = 287.0
  COORDINATE_SYSTEM_NAME = PLANETOGRAPHIC
  COORDINATE_SYSTEM_TYPE = "BODY-FIXED ROTATING"
  EASTERNMOST_LONGITUDE = 288.767
  FIRST_STANDARD_PARALLEL = "N/A"
  LINE_FIRST_PIXEL = 1
  LINE_LAST_PIXEL = 58504
  LINE_PROJECTION_OFFSET = -63055.75
  MAP_PROJECTION_ROTATION = 0.0
  MAP_PROJECTION_TYPE = SINUSOIDAL
  MAP_RESOLUTION = 2370.85521546667
  MAP_SCALE = 0.025
  MAXIMUM_LATITUDE = -26.5303
  MINIMUM_LATITUDE = -51.2014
  POSITIVE_LONGITUDE_DIRECTION = EAST
  REFERENCE_LATITUDE = "N/A"
  REFERENCE_LONGITUDE = "N/A"
  SAMPLE_FIRST_PIXEL = 1
  SAMPLE_LAST_PIXEL = 6601
  SAMPLE_PROJECTION_OFFSET = 2874.75
  SECOND_STANDARD_PARALLEL = "N/A"
  WESTERNMOST_LONGITUDE = 285.074
END_OBJECT = IMAGE_MAP_PROJECTION
END
