PDS_VERSION_ID = PDS3
/* FILE DATA ELEMENTS */
RECORD_TYPE = UNDEFINED
/* POINTERS TO DATA OBJECTS */
^IMAGE = ("HN077_0000_P24.TIF")
/* IDENTIFICATION DATA ELEMENTS */
DATA_SET_ID = "MEX-M-HRSC-4-REFDR-MAPPROJECT-EXT8-V4.0"
DATA_SET_NAME = "MARS EXPRESS HRSC MAP PROJECTED REFDR EXTENSION8 V4.0"
DETECTOR_ID = MEX_HRSC_P2
EVENT_TYPE = "MARS-LOCAL-CARTOGRAPHY-Te-Ot-Ts"
INSTRUMENT_HOST_ID = MEX
INSTRUMENT_HOST_NAME = "MARS EXPRESS"
INSTRUMENT_ID = HRSC
INSTRUMENT_NAME = "HIGH RESOLUTION STEREO CAMERA"
MISSION_NAME = "MARS EXPRESS"
MISSION_PHASE_NAME = ME_Phase_46
PROCESSING_LEVEL_ID = 4
PRODUCT_CREATION_TIME = 2023-01-28T22:22:56.000Z
PRODUCT_ID = "HN077_0000_P24.TIF"
RELEASE_ID = 0004
REVISION_ID = 0000
/* QUALITY DATA ELEMENTS */
DATA_QUALITY_ID = 1
DATA_QUALITY_DESC = "Data calculated based on original SPICE kernels"
/* TIME DATA ELEMENTS */
SPACECRAFT_CLOCK_START_COUNT = "1/0597486635.25686"
SPACECRAFT_CLOCK_STOP_COUNT = "1/0597487097.32100"
START_TIME = 2022-04-08T08:31:25.346Z
STOP_TIME = 2022-04-08T08:37:53.545Z
/* ORBITAL DATA ELEMENTS */
ASCENDING_NODE_LONGITUDE = 143.87
MAXIMUM_RESOLUTION = 0.0292
FOOTPRINT_POINT_LATITUDE = (-51.3774,-51.3106,-51.235,-51.1322, -51.1293,-51.0801,-50.775,-50.4766, -50.1774,-49.8781,-49.5783,-49.1365, -48.8416,-48.5457,-48.2502,-47.9613, -47.6721,-47.3831,-47.093,-46.8031, -46.2387,-45.9524,-45.5237,-45.232, -44.6634,-44.3757,-44.0882,-43.6563, -43.3678,-43.0787,-42.7897,-42.3548, -42.0647,-41.6296,-41.1922,-40.9002, -40.6083,-40.3158,-40.0233,-39.5829, -39.2892,-38.9956,-38.7012,-38.4064, -38.1112,-37.6689,-37.2251,-36.7813, -26.7222,-26.5725,-26.5674,-26.6392, -26.704,-26.7051,-26.706,-36.9447, -37.2413,-37.5386,-37.8351,-38.1316, -38.4279,-38.8721,-39.1675,-39.4627, -39.7577,-40.0526,-40.3469,-40.6411, -40.9347,-41.3751,-41.8149,-42.1073, -42.5454,-42.8361,-43.2721,-43.5621, -43.997,-44.2869,-44.5767,-45.0106, -45.3002,-45.5887,-45.8758,-46.4469, -47.0188,-47.3115,-47.603,-47.8947, -48.1866,-48.4782,-48.7759,-49.2225, -49.5187,-49.8165,-50.1193,-50.4218, -50.7239,-51.178,-51.3325,-51.3774)
FOOTPRINT_POINT_LONGITUDE = (287.635,286.89,286.116,285.157,285.131 ,285.029,285.086,285.142,285.197, 285.252,285.305,285.378,285.426,285.473 ,285.519,285.563,285.608,285.652, 285.695,285.737,285.823,285.858,285.913 ,285.938,286.017,286.051,286.085, 286.135,286.167,286.199,286.23,286.276, 286.306,286.352,286.393,286.42,286.447, 286.474,286.5,286.537,286.561,286.586, 286.609,286.632,286.654,286.688,286.719 ,286.75,287.213,287.219,287.219,287.973 ,288.728,288.741,288.746,288.454, 288.442,288.431,288.419,288.407,288.395 ,288.377,288.364,288.351,288.338, 288.325,288.312,288.298,288.284,288.263 ,288.242,288.227,288.205,288.189, 288.165,288.148,288.123,288.107,288.09, 288.065,288.049,288.032,288.013,287.973 ,287.935,287.915,287.894,287.873, 287.852,287.831,287.809,287.775,287.751 ,287.728,287.704,287.678,287.652, 287.612,287.599,287.635)
ORBIT_NUMBER = 23077
ORBITAL_ECCENTRICITY = 0.577
ORBITAL_INCLINATION = 86.99
ORBITAL_SEMIMAJOR_AXIS = 8820.31
PERIAPSIS_ALTITUDE = 344.81
PERIAPSIS_ARGUMENT_ANGLE = 325.87
PERIAPSIS_TIME = 2022-04-08T08:36:22.000Z
SPACECRAFT_ORIENTATION = (0.0,1.0,0.0)
^MEX_ORIENTATION_DESC = "MEX_ORIENTATION_DESC.TXT"
SPACECRAFT_POINTING_MODE = ACROSSTRACK
^MEX_POINTING_DESC = "MEX_POINTING_DESC.TXT"
RIGHT_ASCENSION = -1e+32
DECLINATION = -1e+32
OFFSET_ANGLE = 1.885
SPACECRAFT_SOLAR_DISTANCE = 2.12237e+08
TARGET_NAME = MARS
/* CAMERA DATA ELEMENTS */
DETECTOR_TEMPERATURE = 18.3705
FOCAL_PLANE_TEMPERATURE = 7.7677
INST_CMPRS_NAME = "DISCRETE COSINE TRANSFORMATION (DCT)"
INST_CMPRS_RATIO = 5.46453
INST_CMPRS_QUALITY = 0
INST_CMPRS_QUANTZ_TBL_ID = 0
INSTRUMENT_TEMPERATURE = 11.0301
LENS_TEMPERATURE = 8.3794
MACROPIXEL_SIZE = 2
PIXEL_SUBSAMPLING_FLAG = N
SIGNAL_CHAIN_ID = 3
/* RADIOMETRIC DATA ELEMENTS */
BANDWIDTH = 177.0
CENTER_FILTER_WAVELENGTH = 676.5
RADIANCE_OFFSET = 2.13333
RADIANCE_SCALING_FACTOR = 0.008249
REFLECTANCE_SCALING_FACTOR = 0.000197015
MEX:REFLECTANCE_OFFSET = 0.0509515
/* IMAGE OBJECT DEFINITIONS */
OBJECT = IMAGE
  INTERCHANGE_FORMAT = BINARY
  LINES = 58504
  LINE_SAMPLES = 6601
  SAMPLE_TYPE = UNSIGNED_INTEGER
  SAMPLE_BITS = 8
  BANDS = 1
  BAND_STORAGE_TYPE = BAND_SEQUENTIAL
  MAXIMUM = 255
  MEAN = 122.974
  MINIMUM = 1
  STANDARD_DEVIATION = 27.5247
END_OBJECT = IMAGE
/* MAP OBJECT DEFINITIONS */
OBJECT = IMAGE_MAP_PROJECTION
  ^DATA_SET_MAP_PROJECTION_CATALOG= "DSMAP.CAT"
  A_AXIS_RADIUS = 3396.0
  B_AXIS_RADIUS = 3396.0
  C_AXIS_RADIUS = 3396.0
  CENTER_LATITUDE = 0.0
  CENTER_LONGITUDE = 287.0
  COORDINATE_SYSTEM_NAME = PLANETOGRAPHIC
  COORDINATE_SYSTEM_TYPE = "BODY-FIXED ROTATING"
  EASTERNMOST_LONGITUDE = 288.746
  FIRST_STANDARD_PARALLEL = "N/A"
  LINE_FIRST_PIXEL = 1
  LINE_LAST_PIXEL = 58504
  LINE_PROJECTION_OFFSET = -63055.75
  MAP_PROJECTION_ROTATION = 0.0
  MAP_PROJECTION_TYPE = SINUSOIDAL
  MAP_RESOLUTION = 2370.85521546667
  MAP_SCALE = 0.025
  MAXIMUM_LATITUDE = -26.5674
  MINIMUM_LATITUDE = -51.3774
  POSITIVE_LONGITUDE_DIRECTION = EAST
  REFERENCE_LATITUDE = "N/A"
  REFERENCE_LONGITUDE = "N/A"
  SAMPLE_FIRST_PIXEL = 1
  SAMPLE_LAST_PIXEL = 6601
  SAMPLE_PROJECTION_OFFSET = 2874.75
  SECOND_STANDARD_PARALLEL = "N/A"
  WESTERNMOST_LONGITUDE = 285.029
END_OBJECT = IMAGE_MAP_PROJECTION
END
