PDS_VERSION_ID = PDS3
/* FILE DATA ELEMENTS */
RECORD_TYPE = UNDEFINED
/* POINTERS TO DATA OBJECTS */
^IMAGE = ("HN075_0000_GR4.TIF")
/* IDENTIFICATION DATA ELEMENTS */
DATA_SET_ID = "MEX-M-HRSC-4-REFDR-MAPPROJECT-EXT8-V4.0"
DATA_SET_NAME = "MARS EXPRESS HRSC MAP PROJECTED REFDR EXTENSION8 V4.0"
DETECTOR_ID = MEX_HRSC_GREEN
EVENT_TYPE = "MARS-REGIONAL-MAPPING-Im-Fl"
INSTRUMENT_HOST_ID = MEX
INSTRUMENT_HOST_NAME = "MARS EXPRESS"
INSTRUMENT_ID = HRSC
INSTRUMENT_NAME = "HIGH RESOLUTION STEREO CAMERA"
MISSION_NAME = "MARS EXPRESS"
MISSION_PHASE_NAME = ME_Phase_46
PROCESSING_LEVEL_ID = 4
PRODUCT_CREATION_TIME = 2023-01-28T22:22:56.000Z
PRODUCT_ID = "HN075_0000_GR4.TIF"
RELEASE_ID = 0004
REVISION_ID = 0000
/* QUALITY DATA ELEMENTS */
DATA_QUALITY_ID = 1
DATA_QUALITY_DESC = "Data calculated based on original SPICE kernels"
/* TIME DATA ELEMENTS */
SPACECRAFT_CLOCK_START_COUNT = "1/0597436305.24886"
SPACECRAFT_CLOCK_STOP_COUNT = "1/0597436727.55683"
START_TIME = 2022-04-07T18:33:14.415Z
STOP_TIME = 2022-04-07T18:38:51.802Z
/* ORBITAL DATA ELEMENTS */
ASCENDING_NODE_LONGITUDE = 143.9
MAXIMUM_RESOLUTION = 0.0577
FOOTPRINT_POINT_LATITUDE = (-53.444,-53.4083,-53.3653,-53.2961, -53.2942,-53.2918,-52.8849,-52.2754, -51.8761,-51.4673,-51.0667,-50.6749, -50.2825,-49.8894,-49.4998,-49.1153, -48.7303,-48.3446,-47.9621,-47.5771, -47.1998,-46.822,-46.2564,-45.3335, -44.2225,-43.6577,-42.9143,-42.5422, -42.1698,-41.797,-41.4239,-41.0507, -40.6771,-40.1164,-39.7425,-39.3682, -38.994,-38.4321,-38.0573,-37.6822, -37.1195,-36.7444,-36.369,-35.8059, -33.1761,-32.6126,-32.0494,-31.8617, -31.7821,-31.7922,-31.7985,-31.8013, -31.8014,-31.8025,-32.18,-32.7458, -33.1231,-35.7619,-36.1392,-36.516, -36.8929,-37.2698,-37.6465,-38.0232, -38.5879,-38.9643,-39.3403,-39.7161, -40.0921,-40.4678,-40.8434,-41.2189, -41.594,-41.9688,-42.344,-42.7182, -43.0925,-43.6535,-44.0355,-44.4088, -44.7817,-45.5267,-46.2704,-46.8383, -47.219,-47.5993,-48.1774,-48.7607, -49.3429,-49.7307,-50.3249,-50.7213, -51.117,-51.52,-51.9331,-52.3368, -52.7452,-53.1574,-53.3632,-53.444)
FOOTPRINT_POINT_LONGITUDE = (130.695,129.907,129.079,127.925, 127.896,127.719,127.82,127.972,128.072, 128.166,128.243,128.33,128.397,128.486, 128.557,128.619,128.685,128.754,128.821 ,128.892,128.954,129.015,129.101, 129.223,129.381,129.455,129.547,129.59, 129.633,129.676,129.718,129.758,129.799 ,129.856,129.888,129.927,129.956, 130.006,130.038,130.074,130.119,130.147 ,130.176,130.218,130.411,130.447, 130.478,130.489,130.493,131.163,131.716 ,132.199,132.213,132.218,132.197,132.17 ,132.152,132.041,132.021,132.004, 131.985,131.967,131.948,131.928,131.899 ,131.878,131.859,131.84,131.819,131.797 ,131.774,131.749,131.726,131.704, 131.675,131.653,131.627,131.585,131.554 ,131.526,131.499,131.44,131.378,131.329 ,131.295,131.26,131.205,131.143,131.09, 131.049,130.987,130.944,130.9,130.85, 130.803,130.754,130.703,130.651,130.625 ,130.695)
ORBIT_NUMBER = 23075
ORBITAL_ECCENTRICITY = 0.577
ORBITAL_INCLINATION = 86.99
ORBITAL_SEMIMAJOR_AXIS = 8820.88
PERIAPSIS_ALTITUDE = 345.13
PERIAPSIS_ARGUMENT_ANGLE = 326.21
PERIAPSIS_TIME = 2022-04-07T18:38:18.000Z
SPACECRAFT_ORIENTATION = (0.0,1.0,0.0)
^MEX_ORIENTATION_DESC = "MEX_ORIENTATION_DESC.TXT"
SPACECRAFT_POINTING_MODE = ACROSSTRACK
^MEX_POINTING_DESC = "MEX_POINTING_DESC.TXT"
RIGHT_ASCENSION = -1e+32
DECLINATION = -1e+32
OFFSET_ANGLE = 2.5
SPACECRAFT_SOLAR_DISTANCE = 2.12319e+08
TARGET_NAME = MARS
/* CAMERA DATA ELEMENTS */
DETECTOR_TEMPERATURE = 18.5744
FOCAL_PLANE_TEMPERATURE = 8.3794
INST_CMPRS_NAME = "DISCRETE COSINE TRANSFORMATION (DCT)"
INST_CMPRS_RATIO = 7.02324
INST_CMPRS_QUALITY = 0
INST_CMPRS_QUANTZ_TBL_ID = 0
INSTRUMENT_TEMPERATURE = 11.4379
LENS_TEMPERATURE = 8.5833
MACROPIXEL_SIZE = 4
PIXEL_SUBSAMPLING_FLAG = N
SIGNAL_CHAIN_ID = 2
/* RADIOMETRIC DATA ELEMENTS */
BANDWIDTH = 88.0
CENTER_FILTER_WAVELENGTH = 538.0
RADIANCE_OFFSET = 1.06197
RADIANCE_SCALING_FACTOR = 0.00429574
REFLECTANCE_SCALING_FACTOR = 0.000166728
MEX:REFLECTANCE_OFFSET = 0.0412175
/* IMAGE OBJECT DEFINITIONS */
OBJECT = IMAGE
  INTERCHANGE_FORMAT = BINARY
  LINES = 25734
  LINE_SAMPLES = 3569
  SAMPLE_TYPE = UNSIGNED_INTEGER
  SAMPLE_BITS = 8
  BANDS = 1
  BAND_STORAGE_TYPE = BAND_SEQUENTIAL
  MAXIMUM = 255
  MEAN = 117.718
  MINIMUM = 1
  STANDARD_DEVIATION = 36.8501
END_OBJECT = IMAGE
/* MAP OBJECT DEFINITIONS */
OBJECT = IMAGE_MAP_PROJECTION
  ^DATA_SET_MAP_PROJECTION_CATALOG= "DSMAP.CAT"
  A_AXIS_RADIUS = 3396.0
  B_AXIS_RADIUS = 3396.0
  C_AXIS_RADIUS = 3396.0
  CENTER_LATITUDE = 0.0
  CENTER_LONGITUDE = 131.0
  COORDINATE_SYSTEM_NAME = PLANETOGRAPHIC
  COORDINATE_SYSTEM_TYPE = "BODY-FIXED ROTATING"
  EASTERNMOST_LONGITUDE = 132.218
  FIRST_STANDARD_PARALLEL = "N/A"
  LINE_FIRST_PIXEL = 1
  LINE_LAST_PIXEL = 25734
  LINE_PROJECTION_OFFSET = -37663.625
  MAP_PROJECTION_ROTATION = 0.0
  MAP_PROJECTION_TYPE = SINUSOIDAL
  MAP_RESOLUTION = 1185.42760773333
  MAP_SCALE = 0.05
  MAXIMUM_LATITUDE = -31.7821
  MINIMUM_LATITUDE = -53.444
  POSITIVE_LONGITUDE_DIRECTION = EAST
  REFERENCE_LATITUDE = "N/A"
  REFERENCE_LONGITUDE = "N/A"
  SAMPLE_FIRST_PIXEL = 1
  SAMPLE_LAST_PIXEL = 3569
  SAMPLE_PROJECTION_OFFSET = 2341.875
  SECOND_STANDARD_PARALLEL = "N/A"
  WESTERNMOST_LONGITUDE = 127.719
END_OBJECT = IMAGE_MAP_PROJECTION
END
