PDS_VERSION_ID = PDS3
/* FILE DATA ELEMENTS */
RECORD_TYPE = UNDEFINED
/* POINTERS TO DATA OBJECTS */
^IMAGE = ("HN068_0009_ND4.TIF")
/* IDENTIFICATION DATA ELEMENTS */
DATA_SET_ID = "MEX-M-HRSC-4-REFDR-MAPPROJECT-EXT8-V4.0"
DATA_SET_NAME = "MARS EXPRESS HRSC MAP PROJECTED REFDR EXTENSION8 V4.0"
DETECTOR_ID = MEX_HRSC_NADIR
EVENT_TYPE = "MARS-REGIONAL-MAPPING-Im-Fl-Eo"
INSTRUMENT_HOST_ID = MEX
INSTRUMENT_HOST_NAME = "MARS EXPRESS"
INSTRUMENT_ID = HRSC
INSTRUMENT_NAME = "HIGH RESOLUTION STEREO CAMERA"
MISSION_NAME = "MARS EXPRESS"
MISSION_PHASE_NAME = ME_Phase_46
PROCESSING_LEVEL_ID = 4
PRODUCT_CREATION_TIME = 2023-01-28T22:22:56.000Z
PRODUCT_ID = "HN068_0009_ND4.TIF"
RELEASE_ID = 0004
REVISION_ID = 0000
/* QUALITY DATA ELEMENTS */
DATA_QUALITY_ID = 1
DATA_QUALITY_DESC = "Data calculated based on original SPICE kernels"
/* TIME DATA ELEMENTS */
SPACECRAFT_CLOCK_START_COUNT = "1/0597260759.25679"
SPACECRAFT_CLOCK_STOP_COUNT = "1/0597261151.16258"
START_TIME = 2022-04-05T17:47:05.162Z
STOP_TIME = 2022-04-05T17:52:13.154Z
/* ORBITAL DATA ELEMENTS */
ASCENDING_NODE_LONGITUDE = 144.03
MAXIMUM_RESOLUTION = 0.014
FOOTPRINT_POINT_LATITUDE = (-25.8095,-25.8099,-25.8077,-25.8076, -25.8072,-25.457,-25.107,-24.4075, -23.7087,-23.0109,-22.3141,-21.6184, -20.9238,-20.3358,-19.9226,-19.5098, -19.0974,-18.6836,-18.2723,-17.8615, -17.4512,-17.0415,-16.6322,-16.2236, -15.8158,-15.4084,-15.0017,-14.5956, -14.1901,-13.7853,-13.3812,-12.9778, -12.5753,-12.1733,-11.772,-11.3714, -10.9717,-10.5726,-10.1743,-9.77679, -9.38012,-8.98419,-8.58914,-8.19492, -7.80158,-7.4091,-7.01741,-6.62658, -6.43149,-6.4148,-6.40639,-6.40064, -6.39081,-6.39054,-6.39065,-6.78167, -7.17362,-7.56622,-7.9597,-8.35412, -8.74934,-9.14534,-9.54219,-9.93985, -10.3383,-10.7375,-11.1375,-11.5382, -11.9397,-12.3417,-12.7446,-13.1482, -13.5524,-13.9574,-14.3631,-14.7693, -15.1763,-15.5838,-15.992,-16.4008, -16.8102,-17.2202,-17.6307,-18.0415, -18.4532,-19.0735,-19.4863,-19.8996, -20.3134,-20.905,-21.6004,-22.2969, -22.9947,-23.6933,-24.2179,-24.918, -25.2684,-25.619,-25.7943,-25.8095)
FOOTPRINT_POINT_LONGITUDE = (129.97,129.183,128.635,128.622,128.613 ,128.613,128.615,128.615,128.613,128.61 ,128.607,128.603,128.598,128.594,128.59 ,128.586,128.582,128.577,128.573, 128.568,128.562,128.557,128.547,128.54, 128.536,128.529,128.522,128.513,128.505 ,128.497,128.489,128.48,128.474,128.465 ,128.456,128.445,128.436,128.425, 128.413,128.403,128.392,128.379,128.368 ,128.357,128.346,128.335,128.323,128.31 ,128.303,128.303,128.939,129.34,129.976 ,129.993,130.001,129.999,129.996, 129.996,129.996,129.995,129.993,129.993 ,129.992,129.99,129.989,129.988,129.986 ,129.985,129.985,129.986,129.986, 129.985,129.985,129.984,129.984,129.983 ,129.983,129.982,129.982,129.982, 129.981,129.978,129.978,129.982,129.979 ,129.98,129.98,129.979,129.979,129.978, 129.977,129.977,129.975,129.974,129.973 ,129.973,129.973,129.973,129.973, 129.97)
ORBIT_NUMBER = 23068
ORBITAL_ECCENTRICITY = 0.577
ORBITAL_INCLINATION = 86.99
ORBITAL_SEMIMAJOR_AXIS = 8823.11
PERIAPSIS_ALTITUDE = 345.33
PERIAPSIS_ARGUMENT_ANGLE = 327.4
PERIAPSIS_TIME = 2022-04-05T17:45:22.000Z
SPACECRAFT_ORIENTATION = (0.0,1.0,0.0)
^MEX_ORIENTATION_DESC = "MEX_ORIENTATION_DESC.TXT"
SPACECRAFT_POINTING_MODE = NADIR
^MEX_POINTING_DESC = "MEX_POINTING_DESC.TXT"
RIGHT_ASCENSION = -1e+32
DECLINATION = -1e+32
OFFSET_ANGLE = -1e+32
SPACECRAFT_SOLAR_DISTANCE = 2.12612e+08
TARGET_NAME = MARS
/* CAMERA DATA ELEMENTS */
DETECTOR_TEMPERATURE = 18.7783
FOCAL_PLANE_TEMPERATURE = 7.9716
INST_CMPRS_NAME = "DISCRETE COSINE TRANSFORMATION (DCT)"
INST_CMPRS_RATIO = 4.74977
INST_CMPRS_QUALITY = 0
INST_CMPRS_QUANTZ_TBL_ID = 0
INSTRUMENT_TEMPERATURE = 11.4379
LENS_TEMPERATURE = 8.5833
MACROPIXEL_SIZE = 1
MISSING_FRAMES = 0
MISSING_FRAMES = 1
PIXEL_SUBSAMPLING_FLAG = N
SIGNAL_CHAIN_ID = 0
/* RADIOMETRIC DATA ELEMENTS */
BANDWIDTH = 177.0
CENTER_FILTER_WAVELENGTH = 677.5
RADIANCE_OFFSET = 1.46977
RADIANCE_SCALING_FACTOR = 0.00516267
REFLECTANCE_SCALING_FACTOR = 0.000123974
MEX:REFLECTANCE_OFFSET = 0.0352944
/* IMAGE OBJECT DEFINITIONS */
OBJECT = IMAGE
  INTERCHANGE_FORMAT = BINARY
  LINES = 92083
  LINE_SAMPLES = 8004
  SAMPLE_TYPE = UNSIGNED_INTEGER
  SAMPLE_BITS = 8
  BANDS = 1
  BAND_STORAGE_TYPE = BAND_SEQUENTIAL
  MAXIMUM = 255
  MEAN = 129.402
  MINIMUM = 1
  STANDARD_DEVIATION = 40.2814
END_OBJECT = IMAGE
/* MAP OBJECT DEFINITIONS */
OBJECT = IMAGE_MAP_PROJECTION
  ^DATA_SET_MAP_PROJECTION_CATALOG= "DSMAP.CAT"
  A_AXIS_RADIUS = 3396.0
  B_AXIS_RADIUS = 3396.0
  C_AXIS_RADIUS = 3396.0
  CENTER_LATITUDE = 0.0
  CENTER_LONGITUDE = 129.0
  COORDINATE_SYSTEM_NAME = PLANETOGRAPHIC
  COORDINATE_SYSTEM_TYPE = "BODY-FIXED ROTATING"
  EASTERNMOST_LONGITUDE = 130.001
  FIRST_STANDARD_PARALLEL = "N/A"
  LINE_FIRST_PIXEL = 1
  LINE_LAST_PIXEL = 92083
  LINE_PROJECTION_OFFSET = -30303.0
  MAP_PROJECTION_ROTATION = 0.0
  MAP_PROJECTION_TYPE = SINUSOIDAL
  MAP_RESOLUTION = 4741.71043093333
  MAP_SCALE = 0.0125
  MAXIMUM_LATITUDE = -6.39054
  MINIMUM_LATITUDE = -25.8099
  POSITIVE_LONGITUDE_DIRECTION = EAST
  REFERENCE_LATITUDE = "N/A"
  REFERENCE_LONGITUDE = "N/A"
  SAMPLE_FIRST_PIXEL = 1
  SAMPLE_LAST_PIXEL = 8004
  SAMPLE_PROJECTION_OFFSET = 3284.0
  SECOND_STANDARD_PARALLEL = "N/A"
  WESTERNMOST_LONGITUDE = 128.303
END_OBJECT = IMAGE_MAP_PROJECTION
END
