PDS_VERSION_ID = PDS3
/* FILE DATA ELEMENTS */
RECORD_TYPE = UNDEFINED
/* POINTERS TO DATA OBJECTS */
^IMAGE = ("HN064_0000_S14.TIF")
/* IDENTIFICATION DATA ELEMENTS */
DATA_SET_ID = "MEX-M-HRSC-4-REFDR-MAPPROJECT-EXT8-V4.0"
DATA_SET_NAME = "MARS EXPRESS HRSC MAP PROJECTED REFDR EXTENSION8 V4.0"
DETECTOR_ID = MEX_HRSC_S1
EVENT_TYPE = "MARS-REGIONAL-MAPPING-Vo-Fl-Mw"
INSTRUMENT_HOST_ID = MEX
INSTRUMENT_HOST_NAME = "MARS EXPRESS"
INSTRUMENT_ID = HRSC
INSTRUMENT_NAME = "HIGH RESOLUTION STEREO CAMERA"
MISSION_NAME = "MARS EXPRESS"
MISSION_PHASE_NAME = ME_Phase_46
PROCESSING_LEVEL_ID = 4
PRODUCT_CREATION_TIME = 2023-01-28T22:22:56.000Z
PRODUCT_ID = "HN064_0000_S14.TIF"
RELEASE_ID = 0004
REVISION_ID = 0000
/* QUALITY DATA ELEMENTS */
DATA_QUALITY_ID = 1
DATA_QUALITY_DESC = "Data calculated based on original SPICE kernels"
/* TIME DATA ELEMENTS */
SPACECRAFT_CLOCK_START_COUNT = "1/0597160375.25661"
SPACECRAFT_CLOCK_STOP_COUNT = "1/0597160852.52799"
START_TIME = 2022-04-04T13:54:52.303Z
STOP_TIME = 2022-04-04T14:01:25.275Z
/* ORBITAL DATA ELEMENTS */
ASCENDING_NODE_LONGITUDE = 144.1
MAXIMUM_RESOLUTION = 0.0381
FOOTPRINT_POINT_LATITUDE = (-13.7526,-13.8179,-13.8872,-13.9756, -13.9781,-14.0046,-13.2903,-12.7588, -11.8574,-11.3062,-10.5672,-9.99692, -9.6128,-9.03443,-8.28094,-7.71172, -7.33225,-6.94852,-6.55583,-6.15847, -5.76515,-5.36127,-4.95765,-4.55119, -4.14034,-3.51864,-2.88974,-2.46747, -2.0412,-1.61064,-1.17854,-0.743475, -0.30457,0.138305,0.585031,1.03577, 1.49023,1.94866,2.63625,3.09095,3.54272 ,3.99226,4.49964,5.00334,5.5032,6.24808 ,6.49757,6.74742,6.81925,6.87367, 6.93107,6.97946,7.02541,7.06907,7.07172 ,7.0719,6.31692,5.81741,5.31423,4.80721 ,4.29649,3.84439,3.38977,2.93226, 2.47191,2.00888,1.55093,1.09659, 0.645506,0.198546,-0.244618,-0.684218, -1.12018,-1.553,-1.98149,-2.61892, -3.04228,-3.46186,-3.87538,-4.49175, -4.89935,-5.30276,-5.90377,-6.50019, -7.0943,-7.48207,-7.86926,-8.25272, -8.63721,-9.01416,-9.39183,-9.76536, -10.1401,-10.6984,-11.0701,-11.9864, -12.7044,-13.4171,-13.6005,-13.7526)
FOOTPRINT_POINT_LONGITUDE = (175.93,175.407,174.854,174.155,174.136 ,174.095,174.096,174.084,174.07,174.067 ,174.059,174.061,174.067,174.067, 174.037,174.012,173.992,173.972,173.961 ,173.949,173.932,173.92,173.907,173.891 ,173.877,173.855,173.831,173.814, 173.797,173.779,173.76,173.74,173.719, 173.697,173.675,173.652,173.628,173.604 ,173.565,173.539,173.513,173.485, 173.454,173.422,173.389,173.338,173.321 ,173.303,173.882,174.335,174.835, 175.271,175.699,176.121,176.147,176.157 ,176.146,176.139,176.132,176.125, 176.118,176.112,176.107,176.101,176.096 ,176.09,176.085,176.08,176.075,176.07, 176.065,176.06,176.056,176.051,176.047, 176.041,176.036,176.031,176.027,176.021 ,176.017,176.013,176.007,176.001, 175.992,175.989,175.985,175.982,175.977 ,175.974,175.972,175.968,175.964, 175.956,175.95,175.936,175.929,175.923, 175.916,175.93)
ORBIT_NUMBER = 23064
ORBITAL_ECCENTRICITY = 0.576
ORBITAL_INCLINATION = 87.01
ORBITAL_SEMIMAJOR_AXIS = 8818.18
PERIAPSIS_ALTITUDE = 345.76
PERIAPSIS_ARGUMENT_ANGLE = 328.09
PERIAPSIS_TIME = 2022-04-04T13:49:30.000Z
SPACECRAFT_ORIENTATION = (0.0,1.0,0.0)
^MEX_ORIENTATION_DESC = "MEX_ORIENTATION_DESC.TXT"
SPACECRAFT_POINTING_MODE = ACROSSTRACK
^MEX_POINTING_DESC = "MEX_POINTING_DESC.TXT"
RIGHT_ASCENSION = -1e+32
DECLINATION = -1e+32
OFFSET_ANGLE = 2.55
SPACECRAFT_SOLAR_DISTANCE = 2.12781e+08
TARGET_NAME = MARS
/* CAMERA DATA ELEMENTS */
DETECTOR_TEMPERATURE = 17.5549
FOCAL_PLANE_TEMPERATURE = 7.7677
INST_CMPRS_NAME = "DISCRETE COSINE TRANSFORMATION (DCT)"
INST_CMPRS_RATIO = 8.64709
INST_CMPRS_QUALITY = 0
INST_CMPRS_QUANTZ_TBL_ID = 0
INSTRUMENT_TEMPERATURE = 11.0301
LENS_TEMPERATURE = 6.9521
MACROPIXEL_SIZE = 2
MISSING_FRAMES = 0
PIXEL_SUBSAMPLING_FLAG = N
SIGNAL_CHAIN_ID = 1
/* RADIOMETRIC DATA ELEMENTS */
BANDWIDTH = 180.0
CENTER_FILTER_WAVELENGTH = 677.0
RADIANCE_OFFSET = 2.83055
RADIANCE_SCALING_FACTOR = 0.0157551
REFLECTANCE_SCALING_FACTOR = 0.00037216
MEX:REFLECTANCE_OFFSET = 0.0668619
/* IMAGE OBJECT DEFINITIONS */
OBJECT = IMAGE
  INTERCHANGE_FORMAT = BINARY
  LINES = 49437
  LINE_SAMPLES = 5970
  SAMPLE_TYPE = UNSIGNED_INTEGER
  SAMPLE_BITS = 8
  BANDS = 1
  BAND_STORAGE_TYPE = BAND_SEQUENTIAL
  MAXIMUM = 255
  MEAN = 87.4098
  MINIMUM = 1
  STANDARD_DEVIATION = 32.7866
END_OBJECT = IMAGE
/* MAP OBJECT DEFINITIONS */
OBJECT = IMAGE_MAP_PROJECTION
  ^DATA_SET_MAP_PROJECTION_CATALOG= "DSMAP.CAT"
  A_AXIS_RADIUS = 3396.0
  B_AXIS_RADIUS = 3396.0
  C_AXIS_RADIUS = 3396.0
  CENTER_LATITUDE = 0.0
  CENTER_LONGITUDE = 175.0
  COORDINATE_SYSTEM_NAME = PLANETOGRAPHIC
  COORDINATE_SYSTEM_TYPE = "BODY-FIXED ROTATING"
  EASTERNMOST_LONGITUDE = 176.157
  FIRST_STANDARD_PARALLEL = "N/A"
  LINE_FIRST_PIXEL = 1
  LINE_LAST_PIXEL = 49437
  LINE_PROJECTION_OFFSET = 16566.75
  MAP_PROJECTION_ROTATION = 0.0
  MAP_PROJECTION_TYPE = SINUSOIDAL
  MAP_RESOLUTION = 2370.85521546667
  MAP_SCALE = 0.025
  MAXIMUM_LATITUDE = 7.0719
  MINIMUM_LATITUDE = -14.0046
  POSITIVE_LONGITUDE_DIRECTION = EAST
  REFERENCE_LATITUDE = "N/A"
  REFERENCE_LONGITUDE = "N/A"
  SAMPLE_FIRST_PIXEL = 1
  SAMPLE_LAST_PIXEL = 5970
  SAMPLE_PROJECTION_OFFSET = 3549.75
  SECOND_STANDARD_PARALLEL = "N/A"
  WESTERNMOST_LONGITUDE = 173.303
END_OBJECT = IMAGE_MAP_PROJECTION
END
