PDS_VERSION_ID = PDS3
/* FILE DATA ELEMENTS */
RECORD_TYPE = UNDEFINED
/* POINTERS TO DATA OBJECTS */
^IMAGE = ("HN058_0000_P14.TIF")
/* IDENTIFICATION DATA ELEMENTS */
DATA_SET_ID = "MEX-M-HRSC-4-REFDR-MAPPROJECT-EXT8-V4.0"
DATA_SET_NAME = "MARS EXPRESS HRSC MAP PROJECTED REFDR EXTENSION8 V4.0"
DETECTOR_ID = MEX_HRSC_P1
EVENT_TYPE = "MARS-REGIONAL-MAPPING-Im-Mw-La"
INSTRUMENT_HOST_ID = MEX
INSTRUMENT_HOST_NAME = "MARS EXPRESS"
INSTRUMENT_ID = HRSC
INSTRUMENT_NAME = "HIGH RESOLUTION STEREO CAMERA"
MISSION_NAME = "MARS EXPRESS"
MISSION_PHASE_NAME = ME_Phase_46
PROCESSING_LEVEL_ID = 4
PRODUCT_CREATION_TIME = 2023-01-28T22:22:56.000Z
PRODUCT_ID = "HN058_0000_P14.TIF"
RELEASE_ID = 0004
REVISION_ID = 0000
/* QUALITY DATA ELEMENTS */
DATA_QUALITY_ID = 1
DATA_QUALITY_DESC = "Data calculated based on original SPICE kernels"
/* TIME DATA ELEMENTS */
SPACECRAFT_CLOCK_START_COUNT = "1/0597009221.24943"
SPACECRAFT_CLOCK_STOP_COUNT = "1/0597009517.30226"
START_TIME = 2022-04-02T19:55:10.546Z
STOP_TIME = 2022-04-02T19:58:57.367Z
/* ORBITAL DATA ELEMENTS */
ASCENDING_NODE_LONGITUDE = 144.18
MAXIMUM_RESOLUTION = 0.0293
FOOTPRINT_POINT_LATITUDE = (-33.9407,-33.9578,-33.9743,-33.993, -33.9935,-34.0449,-33.7626,-33.4846, -33.2049,-32.9267,-32.6482,-32.3699, -31.9531,-31.6751,-31.3977,-31.1193, -30.7031,-30.426,-30.1487,-29.8717, -29.5946,-29.1747,-28.895,-28.612, -28.3338,-28.0563,-27.7802,-27.5032, -27.2272,-26.9521,-26.5394,-26.1247, -25.575,-24.8898,-24.4797,-23.8999, -23.5747,-23.2496,-22.9242,-22.5987, -22.2758,-21.9482,-21.4686,-20.9858, -20.6589,-20.3364,-20.0199,-19.6946, -19.5342,-19.4876,-19.455,-19.4273, -19.4025,-19.402,-19.4022,-19.7248, -20.0459,-20.3667,-20.69,-21.1755, -21.4979,-21.8193,-22.1445,-22.4703, -22.7981,-23.1236,-23.6111,-23.9382, -24.2283,-24.9101,-25.324,-25.5992, -26.0118,-26.2899,-26.8407,-27.1173, -27.3948,-27.671,-27.9491,-28.3646, -28.6446,-29.0668,-29.3477,-29.6266, -29.9054,-30.183,-30.4605,-30.7389, -31.1563,-31.574,-31.8523,-32.132, -32.4112,-32.6893,-32.9689,-33.2474, -33.5271,-33.8096,-33.9494,-33.9407)
FOOTPRINT_POINT_LONGITUDE = (69.1706,68.7027,68.2137,67.6029, 67.5864,67.4626,67.4779,67.4908,67.5075 ,67.5206,67.5343,67.5475,67.5656, 67.5778,67.5888,67.6018,67.6183,67.6283 ,67.6389,67.6488,67.659,67.6834,67.6991 ,67.7215,67.7341,67.7453,67.7537, 67.7639,67.7724,67.779,67.7893,67.804, 67.8178,67.8322,67.8395,67.8483,67.853, 67.8578,67.8637,67.8701,67.8722,67.8832 ,67.8791,67.8819,67.8934,67.8974, 67.8912,67.9012,67.9025,67.9029,68.4716 ,68.955,69.4034,69.417,69.4219,69.4167, 69.4129,69.4096,69.4045,69.397,69.3933, 69.3908,69.3853,69.3797,69.3724,69.3674 ,69.3609,69.3551,69.3496,69.3414, 69.3326,69.3274,69.3202,69.3127,69.3031 ,69.2973,69.2907,69.2854,69.2785, 69.2697,69.2611,69.2461,69.2366,69.2291 ,69.2219,69.2158,69.2099,69.203,69.1931 ,69.183,69.1763,69.1683,69.1608,69.1544 ,69.1464,69.1395,69.1314,69.1238, 69.1198,69.1706)
ORBIT_NUMBER = 23058
ORBITAL_ECCENTRICITY = 0.577
ORBITAL_INCLINATION = 87.01
ORBITAL_SEMIMAJOR_AXIS = 8825.66
PERIAPSIS_ALTITUDE = 345.29
PERIAPSIS_ARGUMENT_ANGLE = 329.12
PERIAPSIS_TIME = 2022-04-02T19:55:39.000Z
SPACECRAFT_ORIENTATION = (0.0,1.0,0.0)
^MEX_ORIENTATION_DESC = "MEX_ORIENTATION_DESC.TXT"
SPACECRAFT_POINTING_MODE = ACROSSTRACK
^MEX_POINTING_DESC = "MEX_POINTING_DESC.TXT"
RIGHT_ASCENSION = -1e+32
DECLINATION = -1e+32
OFFSET_ANGLE = 1.7
SPACECRAFT_SOLAR_DISTANCE = 2.13039e+08
TARGET_NAME = MARS
/* CAMERA DATA ELEMENTS */
DETECTOR_TEMPERATURE = 17.7588
FOCAL_PLANE_TEMPERATURE = 7.7677
INST_CMPRS_NAME = "DISCRETE COSINE TRANSFORMATION (DCT)"
INST_CMPRS_RATIO = 28.1111
INST_CMPRS_QUALITY = 0
INST_CMPRS_QUANTZ_TBL_ID = 0
INSTRUMENT_TEMPERATURE = 11.0301
LENS_TEMPERATURE = 8.7872
MACROPIXEL_SIZE = 2
MISSING_FRAMES = 1
PIXEL_SUBSAMPLING_FLAG = N
SIGNAL_CHAIN_ID = 3
/* RADIOMETRIC DATA ELEMENTS */
BANDWIDTH = 174.0
CENTER_FILTER_WAVELENGTH = 675.0
RADIANCE_OFFSET = 2.74746
RADIANCE_SCALING_FACTOR = 0.00376174
REFLECTANCE_SCALING_FACTOR = 9.18321e-05
MEX:REFLECTANCE_OFFSET = 0.0670714
/* IMAGE OBJECT DEFINITIONS */
OBJECT = IMAGE
  INTERCHANGE_FORMAT = BINARY
  LINES = 34571
  LINE_SAMPLES = 3927
  SAMPLE_TYPE = UNSIGNED_INTEGER
  SAMPLE_BITS = 8
  BANDS = 1
  BAND_STORAGE_TYPE = BAND_SEQUENTIAL
  MAXIMUM = 255
  MEAN = 195.619
  MINIMUM = 1
  STANDARD_DEVIATION = 72.7696
END_OBJECT = IMAGE
/* MAP OBJECT DEFINITIONS */
OBJECT = IMAGE_MAP_PROJECTION
  ^DATA_SET_MAP_PROJECTION_CATALOG= "DSMAP.CAT"
  A_AXIS_RADIUS = 3396.0
  B_AXIS_RADIUS = 3396.0
  C_AXIS_RADIUS = 3396.0
  CENTER_LATITUDE = 0.0
  CENTER_LONGITUDE = 69.0
  COORDINATE_SYSTEM_NAME = PLANETOGRAPHIC
  COORDINATE_SYSTEM_TYPE = "BODY-FIXED ROTATING"
  EASTERNMOST_LONGITUDE = 69.42189999999999
  FIRST_STANDARD_PARALLEL = "N/A"
  LINE_FIRST_PIXEL = 1
  LINE_LAST_PIXEL = 34571
  LINE_PROJECTION_OFFSET = -46077.75
  MAP_PROJECTION_ROTATION = 0.0
  MAP_PROJECTION_TYPE = SINUSOIDAL
  MAP_RESOLUTION = 2370.85521546667
  MAP_SCALE = 0.025
  MAXIMUM_LATITUDE = -19.402
  MINIMUM_LATITUDE = -34.0449
  POSITIVE_LONGITUDE_DIRECTION = EAST
  REFERENCE_LATITUDE = "N/A"
  REFERENCE_LONGITUDE = "N/A"
  SAMPLE_FIRST_PIXEL = 1
  SAMPLE_LAST_PIXEL = 3927
  SAMPLE_PROJECTION_OFFSET = 3010.25
  SECOND_STANDARD_PARALLEL = "N/A"
  WESTERNMOST_LONGITUDE = 67.46259999999999
END_OBJECT = IMAGE_MAP_PROJECTION
END
