PDS_VERSION_ID = PDS3
/* FILE DATA ELEMENTS */
RECORD_TYPE = UNDEFINED
/* POINTERS TO DATA OBJECTS */
^IMAGE = ("HN052_0000_RE4.TIF")
/* IDENTIFICATION DATA ELEMENTS */
DATA_SET_ID = "MEX-M-HRSC-4-REFDR-MAPPROJECT-EXT8-V4.0"
DATA_SET_NAME = "MARS EXPRESS HRSC MAP PROJECTED REFDR EXTENSION8 V4.0"
DETECTOR_ID = MEX_HRSC_RED
EVENT_TYPE = "MARS-LOCAL-CARTOGRAPHY-Im-Gl-Pf"
INSTRUMENT_HOST_ID = MEX
INSTRUMENT_HOST_NAME = "MARS EXPRESS"
INSTRUMENT_ID = HRSC
INSTRUMENT_NAME = "HIGH RESOLUTION STEREO CAMERA"
MISSION_NAME = "MARS EXPRESS"
MISSION_PHASE_NAME = ME_Phase_46
PROCESSING_LEVEL_ID = 4
PRODUCT_CREATION_TIME = 2023-01-28T22:22:56.000Z
PRODUCT_ID = "HN052_0000_RE4.TIF"
RELEASE_ID = 0004
REVISION_ID = 0000
/* QUALITY DATA ELEMENTS */
DATA_QUALITY_ID = 1
DATA_QUALITY_DESC = "Data calculated based on original SPICE kernels"
/* TIME DATA ELEMENTS */
SPACECRAFT_CLOCK_START_COUNT = "1/0596858185.24862"
SPACECRAFT_CLOCK_STOP_COUNT = "1/0596858591.54624"
START_TIME = 2022-04-01T01:57:07.347Z
STOP_TIME = 2022-04-01T02:02:43.981Z
/* ORBITAL DATA ELEMENTS */
ASCENDING_NODE_LONGITUDE = 144.29
MAXIMUM_RESOLUTION = 0.0587
FOOTPRINT_POINT_LATITUDE = (-45.9149,-45.8596,-45.7976,-45.7049, -45.7025,-45.6174,-45.1881,-44.7675, -44.346,-43.9253,-43.5169,-43.1041, -42.4861,-41.8751,-41.4654,-41.0621, -40.6498,-40.2386,-39.6224,-39.2085, -38.5884,-38.1751,-37.7719,-37.35, -36.931,-36.5101,-36.0869,-35.4587, -35.0373,-34.6283,-34.2079,-33.5699, -32.9303,-32.2911,-31.8654,-31.4389, -30.7972,-30.3693,-29.726,-29.0805, -28.6498,-28.0045,-27.5736,-26.9269, -26.4949,-26.0625,-25.6294,-24.7631, -24.5464,-24.4623,-24.5099,-24.5589, -24.5965,-24.5976,-24.5989,-25.0338, -25.4678,-25.9022,-26.336,-26.7707, -27.42,-27.8516,-28.2836,-28.7148, -29.1458,-29.7911,-30.2204,-30.6508, -31.0805,-31.5094,-32.152,-32.7942, -33.2213,-33.6478,-34.2862,-34.9175, -35.3434,-35.7654,-36.1864,-36.8158, -37.2368,-37.6562,-38.2816,-38.9043, -39.5226,-39.9371,-40.3571,-40.7703, -41.1753,-41.5883,-41.998,-42.6099, -43.0213,-43.4375,-44.0576,-44.4804, -44.9035,-45.5416,-45.7585,-45.9149)
FOOTPRINT_POINT_LONGITUDE = (321.615,320.986,320.337,319.451, 319.429,319.309,319.363,319.414,319.464 ,319.515,319.567,319.615,319.685, 319.744,319.78,319.826,319.859,319.895, 319.949,319.981,320.032,320.066,320.114 ,320.137,320.164,320.188,320.21,320.252 ,320.277,320.319,320.346,320.376, 320.404,320.433,320.453,320.472,320.498 ,320.516,320.54,320.561,320.575,320.596 ,320.61,320.629,320.641,320.652,320.662 ,320.681,320.686,320.688,321.17,321.699 ,322.128,322.14,322.145,322.139,322.134 ,322.128,322.122,322.117,322.107,322.1, 322.093,322.086,322.079,322.067,322.059 ,322.052,322.044,322.036,322.023, 322.011,322.002,321.993,321.979,321.961 ,321.953,321.942,321.93,321.912,321.902 ,321.89,321.871,321.85,321.827,321.814, 321.804,321.79,321.772,321.758,321.743, 321.719,321.701,321.684,321.656,321.637 ,321.618,321.59,321.58,321.615)
ORBIT_NUMBER = 23052
ORBITAL_ECCENTRICITY = 0.576
ORBITAL_INCLINATION = 87.01
ORBITAL_SEMIMAJOR_AXIS = 8821.15
PERIAPSIS_ALTITUDE = 346.36
PERIAPSIS_ARGUMENT_ANGLE = 330.16
PERIAPSIS_TIME = 2022-04-01T02:01:51.000Z
SPACECRAFT_ORIENTATION = (0.0,1.0,0.0)
^MEX_ORIENTATION_DESC = "MEX_ORIENTATION_DESC.TXT"
SPACECRAFT_POINTING_MODE = ACROSSTRACK
^MEX_POINTING_DESC = "MEX_POINTING_DESC.TXT"
RIGHT_ASCENSION = -1e+32
DECLINATION = -1e+32
OFFSET_ANGLE = 1.616
SPACECRAFT_SOLAR_DISTANCE = 2.13301e+08
TARGET_NAME = MARS
/* CAMERA DATA ELEMENTS */
DETECTOR_TEMPERATURE = 18.3705
FOCAL_PLANE_TEMPERATURE = 8.1755
INST_CMPRS_NAME = "DISCRETE COSINE TRANSFORMATION (DCT)"
INST_CMPRS_RATIO = 8.66547
INST_CMPRS_QUALITY = 0
INST_CMPRS_QUANTZ_TBL_ID = 0
INSTRUMENT_TEMPERATURE = 11.4379
LENS_TEMPERATURE = 8.7872
MACROPIXEL_SIZE = 4
MISSING_FRAMES = 0
PIXEL_SUBSAMPLING_FLAG = N
SIGNAL_CHAIN_ID = 2
/* RADIOMETRIC DATA ELEMENTS */
BANDWIDTH = 48.0
CENTER_FILTER_WAVELENGTH = 748.0
RADIANCE_OFFSET = 0.627446
RADIANCE_SCALING_FACTOR = 0.00155932
REFLECTANCE_SCALING_FACTOR = 0.000161901
MEX:REFLECTANCE_OFFSET = 0.0651466
/* IMAGE OBJECT DEFINITIONS */
OBJECT = IMAGE
  INTERCHANGE_FORMAT = BINARY
  LINES = 25221
  LINE_SAMPLES = 2616
  SAMPLE_TYPE = UNSIGNED_INTEGER
  SAMPLE_BITS = 8
  BANDS = 1
  BAND_STORAGE_TYPE = BAND_SEQUENTIAL
  MAXIMUM = 255
  MEAN = 140.436
  MINIMUM = 1
  STANDARD_DEVIATION = 53.4711
END_OBJECT = IMAGE
/* MAP OBJECT DEFINITIONS */
OBJECT = IMAGE_MAP_PROJECTION
  ^DATA_SET_MAP_PROJECTION_CATALOG= "DSMAP.CAT"
  A_AXIS_RADIUS = 3396.0
  B_AXIS_RADIUS = 3396.0
  C_AXIS_RADIUS = 3396.0
  CENTER_LATITUDE = 0.0
  CENTER_LONGITUDE = 321.0
  COORDINATE_SYSTEM_NAME = PLANETOGRAPHIC
  COORDINATE_SYSTEM_TYPE = "BODY-FIXED ROTATING"
  EASTERNMOST_LONGITUDE = 322.145
  FIRST_STANDARD_PARALLEL = "N/A"
  LINE_FIRST_PIXEL = 1
  LINE_LAST_PIXEL = 25221
  LINE_PROJECTION_OFFSET = -29068.875
  MAP_PROJECTION_ROTATION = 0.0
  MAP_PROJECTION_TYPE = SINUSOIDAL
  MAP_RESOLUTION = 1185.42760773333
  MAP_SCALE = 0.05
  MAXIMUM_LATITUDE = -24.4623
  MINIMUM_LATITUDE = -45.9149
  POSITIVE_LONGITUDE_DIRECTION = EAST
  REFERENCE_LATITUDE = "N/A"
  REFERENCE_LONGITUDE = "N/A"
  SAMPLE_FIRST_PIXEL = 1
  SAMPLE_LAST_PIXEL = 2616
  SAMPLE_PROJECTION_OFFSET = 1368.625
  SECOND_STANDARD_PARALLEL = "N/A"
  WESTERNMOST_LONGITUDE = 319.309
END_OBJECT = IMAGE_MAP_PROJECTION
END
