PDS_VERSION_ID = PDS3
/* FILE DATA ELEMENTS */
RECORD_TYPE = UNDEFINED
/* POINTERS TO DATA OBJECTS */
^IMAGE = ("HN052_0000_ND4.TIF")
/* IDENTIFICATION DATA ELEMENTS */
DATA_SET_ID = "MEX-M-HRSC-4-REFDR-MAPPROJECT-EXT8-V4.0"
DATA_SET_NAME = "MARS EXPRESS HRSC MAP PROJECTED REFDR EXTENSION8 V4.0"
DETECTOR_ID = MEX_HRSC_NADIR
EVENT_TYPE = "MARS-LOCAL-CARTOGRAPHY-Im-Gl-Pf"
INSTRUMENT_HOST_ID = MEX
INSTRUMENT_HOST_NAME = "MARS EXPRESS"
INSTRUMENT_ID = HRSC
INSTRUMENT_NAME = "HIGH RESOLUTION STEREO CAMERA"
MISSION_NAME = "MARS EXPRESS"
MISSION_PHASE_NAME = ME_Phase_46
PROCESSING_LEVEL_ID = 4
PRODUCT_CREATION_TIME = 2023-01-28T22:22:56.000Z
PRODUCT_ID = "HN052_0000_ND4.TIF"
RELEASE_ID = 0004
REVISION_ID = 0000
/* QUALITY DATA ELEMENTS */
DATA_QUALITY_ID = 1
DATA_QUALITY_DESC = "Data calculated based on original SPICE kernels"
/* TIME DATA ELEMENTS */
SPACECRAFT_CLOCK_START_COUNT = "1/0596858185.24862"
SPACECRAFT_CLOCK_STOP_COUNT = "1/0596858591.54624"
START_TIME = 2022-04-01T01:57:40.993Z
STOP_TIME = 2022-04-01T02:03:10.995Z
/* ORBITAL DATA ELEMENTS */
ASCENDING_NODE_LONGITUDE = 144.29
MAXIMUM_RESOLUTION = 0.014
FOOTPRINT_POINT_LATITUDE = (-45.7997,-45.7766,-45.7489,-45.7114, -45.7103,-45.7014,-45.278,-44.8538, -44.4335,-43.6046,-42.7732,-41.9391, -41.1026,-40.2639,-39.4233,-39.0023, -38.5809,-38.1592,-37.7378,-37.3148, -36.8916,-36.4681,-36.0441,-35.6203, -35.1959,-34.7718,-34.3474,-33.9223, -33.4967,-33.0711,-32.6452,-32.2193, -31.7931,-31.3671,-30.9408,-30.5144, -30.0878,-29.6613,-29.2347,-28.5948, -28.1682,-27.7417,-27.3152,-26.8887, -26.4624,-26.0361,-25.6099,-25.1839, -24.758,-24.5451,-24.5211,-24.5409, -24.5411,-24.5414,-24.9681,-25.3949, -25.8219,-26.249,-26.6763,-27.1037, -27.5311,-27.9586,-28.3862,-28.8138, -29.4551,-30.0965,-30.5241,-30.9516, -31.379,-31.8064,-32.2336,-32.6607, -33.0877,-33.5145,-33.9412,-34.3676, -34.7936,-35.2196,-35.6454,-36.0708, -36.496,-36.9208,-37.3454,-37.7696, -38.1935,-38.6169,-39.0398,-39.4625, -39.8848,-40.3068,-40.7284,-41.1491, -41.9896,-42.828,-43.6639,-44.4977, -45.1333,-45.5597,-45.7726,-45.7997)
FOOTPRINT_POINT_LONGITUDE = (321.591,320.949,320.284,319.504, 319.482,319.347,319.399,319.449,319.497 ,319.595,319.691,319.775,319.852, 319.923,319.994,320.026,320.059,320.093 ,320.14,320.163,320.189,320.212,320.234 ,320.264,320.287,320.323,320.356, 320.378,320.396,320.415,320.432,320.451 ,320.467,320.489,320.506,320.522, 320.537,320.553,320.567,320.586,320.6, 320.613,320.626,320.638,320.648,320.658 ,320.668,320.677,320.686,320.69,320.69, 322.136,322.149,322.156,322.15,322.144, 322.138,322.132,322.126,322.12,322.112, 322.105,322.097,322.089,322.075,322.064 ,322.056,322.048,322.04,322.031,322.022 ,322.013,322.004,321.994,321.985, 321.975,321.961,321.949,321.939,321.927 ,321.915,321.903,321.89,321.877,321.863 ,321.849,321.831,321.815,321.801, 321.788,321.775,321.755,321.722,321.688 ,321.647,321.607,321.577,321.556, 321.546,321.591)
ORBIT_NUMBER = 23052
ORBITAL_ECCENTRICITY = 0.576
ORBITAL_INCLINATION = 87.01
ORBITAL_SEMIMAJOR_AXIS = 8821.15
PERIAPSIS_ALTITUDE = 346.36
PERIAPSIS_ARGUMENT_ANGLE = 330.16
PERIAPSIS_TIME = 2022-04-01T02:01:51.000Z
SPACECRAFT_ORIENTATION = (0.0,1.0,0.0)
^MEX_ORIENTATION_DESC = "MEX_ORIENTATION_DESC.TXT"
SPACECRAFT_POINTING_MODE = ACROSSTRACK
^MEX_POINTING_DESC = "MEX_POINTING_DESC.TXT"
RIGHT_ASCENSION = -1e+32
DECLINATION = -1e+32
OFFSET_ANGLE = 1.616
SPACECRAFT_SOLAR_DISTANCE = 2.13301e+08
TARGET_NAME = MARS
/* CAMERA DATA ELEMENTS */
DETECTOR_TEMPERATURE = 18.3705
FOCAL_PLANE_TEMPERATURE = 8.1755
INST_CMPRS_NAME = "DISCRETE COSINE TRANSFORMATION (DCT)"
INST_CMPRS_RATIO = 5.53986
INST_CMPRS_QUALITY = 0
INST_CMPRS_QUANTZ_TBL_ID = 0
INSTRUMENT_TEMPERATURE = 11.4379
LENS_TEMPERATURE = 8.7872
MACROPIXEL_SIZE = 1
MISSING_FRAMES = 0
PIXEL_SUBSAMPLING_FLAG = N
SIGNAL_CHAIN_ID = 0
/* RADIOMETRIC DATA ELEMENTS */
BANDWIDTH = 177.0
CENTER_FILTER_WAVELENGTH = 677.5
RADIANCE_OFFSET = 2.02802
RADIANCE_SCALING_FACTOR = 0.00568793
REFLECTANCE_SCALING_FACTOR = 0.000137476
MEX:REFLECTANCE_OFFSET = 0.0490168
/* IMAGE OBJECT DEFINITIONS */
OBJECT = IMAGE
  INTERCHANGE_FORMAT = BINARY
  LINES = 100882
  LINE_SAMPLES = 10463
  SAMPLE_TYPE = UNSIGNED_INTEGER
  SAMPLE_BITS = 8
  BANDS = 1
  BAND_STORAGE_TYPE = BAND_SEQUENTIAL
  MAXIMUM = 255
  MEAN = 142.895
  MINIMUM = 1
  STANDARD_DEVIATION = 50.4028
END_OBJECT = IMAGE
/* MAP OBJECT DEFINITIONS */
OBJECT = IMAGE_MAP_PROJECTION
  ^DATA_SET_MAP_PROJECTION_CATALOG= "DSMAP.CAT"
  A_AXIS_RADIUS = 3396.0
  B_AXIS_RADIUS = 3396.0
  C_AXIS_RADIUS = 3396.0
  CENTER_LATITUDE = 0.0
  CENTER_LONGITUDE = 321.0
  COORDINATE_SYSTEM_NAME = PLANETOGRAPHIC
  COORDINATE_SYSTEM_TYPE = "BODY-FIXED ROTATING"
  EASTERNMOST_LONGITUDE = 322.156
  FIRST_STANDARD_PARALLEL = "N/A"
  LINE_FIRST_PIXEL = 1
  LINE_LAST_PIXEL = 100882
  LINE_PROJECTION_OFFSET = -116274.0
  MAP_PROJECTION_ROTATION = 0.0
  MAP_PROJECTION_TYPE = SINUSOIDAL
  MAP_RESOLUTION = 4741.71043093333
  MAP_SCALE = 0.0125
  MAXIMUM_LATITUDE = -24.5211
  MINIMUM_LATITUDE = -45.7997
  POSITIVE_LONGITUDE_DIRECTION = EAST
  REFERENCE_LATITUDE = "N/A"
  REFERENCE_LONGITUDE = "N/A"
  SAMPLE_FIRST_PIXEL = 1
  SAMPLE_LAST_PIXEL = 10463
  SAMPLE_PROJECTION_OFFSET = 5476.0
  SECOND_STANDARD_PARALLEL = "N/A"
  WESTERNMOST_LONGITUDE = 319.347
END_OBJECT = IMAGE_MAP_PROJECTION
END
