PDS_VERSION_ID = PDS3
/* FILE DATA ELEMENTS */
RECORD_TYPE = UNDEFINED
/* POINTERS TO DATA OBJECTS */
^IMAGE = ("HN009_0000_GR4.TIF")
/* IDENTIFICATION DATA ELEMENTS */
DATA_SET_ID = "MEX-M-HRSC-4-REFDR-MAPPROJECT-EXT8-V4.0"
DATA_SET_NAME = "MARS EXPRESS HRSC MAP PROJECTED REFDR EXTENSION8 V4.0"
DETECTOR_ID = MEX_HRSC_GREEN
EVENT_TYPE = "MARS-TERMINATOR-CALIBRATION-Tc"
INSTRUMENT_HOST_ID = MEX
INSTRUMENT_HOST_NAME = "MARS EXPRESS"
INSTRUMENT_ID = HRSC
INSTRUMENT_NAME = "HIGH RESOLUTION STEREO CAMERA"
MISSION_NAME = "MARS EXPRESS"
MISSION_PHASE_NAME = ME_Phase_46
PROCESSING_LEVEL_ID = 4
PRODUCT_CREATION_TIME = 2023-01-28T22:22:56.000Z
PRODUCT_ID = "HN009_0000_GR4.TIF"
RELEASE_ID = 0004
REVISION_ID = 0000
/* QUALITY DATA ELEMENTS */
DATA_QUALITY_ID = 1
DATA_QUALITY_DESC = "Data calculated based on original SPICE kernels"
/* TIME DATA ELEMENTS */
SPACECRAFT_CLOCK_START_COUNT = "1/0595770101.24925"
SPACECRAFT_CLOCK_STOP_COUNT = "1/0595770563.14483"
START_TIME = 2022-03-19T11:43:42.806Z
STOP_TIME = 2022-03-19T11:47:39.895Z
/* ORBITAL DATA ELEMENTS */
ASCENDING_NODE_LONGITUDE = 145.07
MAXIMUM_RESOLUTION = 0.6863
FOOTPRINT_POINT_LATITUDE = (-77.6271,-77.755,-77.6019,-77.3981, -75.7328,-73.0752,-69.5819,-67.9467, -63.9265,-61.2862,-57.1962,-53.9534, -51.1904,-48.7083,-44.4124,-39.9673, -36.8404,-32.3624,-29.4522,-24.5052, -22.1008,-19.7707,-16.1087,-13.1064, -8.70201,-6.19297,-3.42147,0.708436, 5.07238,9.62317,12.0011,14.4706,17.0524 ,19.7746,22.6765,26.0115,29.5168, 33.4826,35.7234,37.866,40.3333,43.6727, 45.6924,48.5327,51.4891,53.8876,56.1493 ,59.2368,61.3022,63.681,65.1637,66.0677 ,65.3726,65.7031,64.1693,61.1167, 57.7797,55.3576,52.072,47.5132,44.0445, 41.1404,38.5804,36.2846,32.7275,29.1349 ,23.9632,21.2401,18.663,15.5049,12.1759 ,7.72442,3.19644,-0.408545,-5.14933, -8.97229,-11.5045,-15.8669,-20.4238, -22.8066,-25.2798,-27.8666,-30.5948, -33.8822,-38.1152,-41.476,-45.5805, -47.9513,-50.6597,-53.8594,-55.842, -58.4818,-60.3857,-63.4783,-66.1986, -66.8312,-70.3197,-73.2052,-74.9373, -77.6271)
FOOTPRINT_POINT_LONGITUDE = (225.834,225.684,239.87,262.354,277.3, 283.082,292.59,287.855,279.785,276.137, 271.941,269.464,267.772,266.493,264.727 ,263.32,262.544,261.705,261.297,260.79, 260.627,260.515,260.423,260.431,260.571 ,260.72,260.935,261.377,261.98,262.782, 263.277,263.852,264.522,265.311,266.259 ,267.495,269.012,271.02,272.324,273.701 ,275.498,278.331,280.325,283.655, 287.871,291.229,288.693,284.267,276.129 ,268.468,262.654,250.144,237.756, 232.158,219.964,213.984,217.329,219.515 ,221.917,224.472,225.977,227.012,227.79 ,228.389,229.155,229.762,230.407, 230.657,230.842,230.941,230.986,230.918 ,230.701,230.42,229.891,229.326,228.877 ,227.953,226.761,226.033,225.193,224.21 ,223.042,221.427,218.937,216.561, 212.982,210.457,207.015,201.899,197.863 ,190.757,184.25,183.419,187.483,193.353 ,196.369,205.136,211.317,225.834)
ORBIT_NUMBER = 23009
ORBITAL_ECCENTRICITY = 0.577
ORBITAL_INCLINATION = 86.99
ORBITAL_SEMIMAJOR_AXIS = 8838.2
PERIAPSIS_ALTITUDE = 348.7
PERIAPSIS_ARGUMENT_ANGLE = 337.53
PERIAPSIS_TIME = 2022-03-19T13:45:20.000Z
SPACECRAFT_ORIENTATION = (0.0,1.0,0.0)
^MEX_ORIENTATION_DESC = "MEX_ORIENTATION_DESC.TXT"
SPACECRAFT_POINTING_MODE = FIXED
^MEX_POINTING_DESC = "MEX_POINTING_DESC.TXT"
RIGHT_ASCENSION = -1e+32
DECLINATION = -1e+32
OFFSET_ANGLE = -1e+32
SPACECRAFT_SOLAR_DISTANCE = 2.15288e+08
TARGET_NAME = MARS
/* CAMERA DATA ELEMENTS */
DETECTOR_TEMPERATURE = 18.5744
FOCAL_PLANE_TEMPERATURE = 7.7677
INST_CMPRS_NAME = "DISCRETE COSINE TRANSFORMATION (DCT)"
INST_CMPRS_RATIO = 9.9169
INST_CMPRS_QUALITY = 0
INST_CMPRS_QUANTZ_TBL_ID = 0
INSTRUMENT_TEMPERATURE = 11.0301
LENS_TEMPERATURE = 8.5833
MACROPIXEL_SIZE = 2
MISSING_FRAMES = 0
PIXEL_SUBSAMPLING_FLAG = N
SIGNAL_CHAIN_ID = 2
/* RADIOMETRIC DATA ELEMENTS */
BANDWIDTH = 88.0
CENTER_FILTER_WAVELENGTH = 538.0
RADIANCE_OFFSET = 0.0
RADIANCE_SCALING_FACTOR = 0.001866
REFLECTANCE_SCALING_FACTOR = 7.4473e-05
MEX:REFLECTANCE_OFFSET = 0.0
/* IMAGE OBJECT DEFINITIONS */
OBJECT = IMAGE
  INTERCHANGE_FORMAT = BINARY
  LINES = 8023
  LINE_SAMPLES = 3677
  SAMPLE_TYPE = UNSIGNED_INTEGER
  SAMPLE_BITS = 8
  BANDS = 1
  BAND_STORAGE_TYPE = BAND_SEQUENTIAL
  MAXIMUM = 255
  MEAN = 143.69
  MINIMUM = 1
  STANDARD_DEVIATION = 113.724
END_OBJECT = IMAGE
/* MAP OBJECT DEFINITIONS */
OBJECT = IMAGE_MAP_PROJECTION
  ^DATA_SET_MAP_PROJECTION_CATALOG= "DSMAP.CAT"
  A_AXIS_RADIUS = 3396.0
  B_AXIS_RADIUS = 3396.0
  C_AXIS_RADIUS = 3396.0
  CENTER_LATITUDE = -5.53673
  CENTER_LONGITUDE = 245.341
  COORDINATE_SYSTEM_NAME = PLANETOGRAPHIC
  COORDINATE_SYSTEM_TYPE = "BODY-FIXED ROTATING"
  EASTERNMOST_LONGITUDE = 292.59
  FIRST_STANDARD_PARALLEL = "N/A"
  LINE_FIRST_PIXEL = 1
  LINE_LAST_PIXEL = 8023
  LINE_PROJECTION_OFFSET = 3998.0
  MAP_PROJECTION_ROTATION = 0.0
  MAP_PROJECTION_TYPE = ORTHOGRAPHIC
  MAP_RESOLUTION = 74.08922548333329
  MAP_SCALE = 0.8
  MAXIMUM_LATITUDE = 66.0677
  MINIMUM_LATITUDE = -77.755
  POSITIVE_LONGITUDE_DIRECTION = EAST
  REFERENCE_LATITUDE = "N/A"
  REFERENCE_LONGITUDE = "N/A"
  SAMPLE_FIRST_PIXEL = 1
  SAMPLE_LAST_PIXEL = 3677
  SAMPLE_PROJECTION_OFFSET = 1845.0
  SECOND_STANDARD_PARALLEL = "N/A"
  WESTERNMOST_LONGITUDE = 183.419
END_OBJECT = IMAGE_MAP_PROJECTION
END
