PDS_VERSION_ID = PDS3
/* FILE DATA ELEMENTS */
RECORD_TYPE = UNDEFINED
/* POINTERS TO DATA OBJECTS */
^IMAGE = ("HN005_0000_S14.TIF")
/* IDENTIFICATION DATA ELEMENTS */
DATA_SET_ID = "MEX-M-HRSC-4-REFDR-MAPPROJECT-EXT8-V4.0"
DATA_SET_NAME = "MARS EXPRESS HRSC MAP PROJECTED REFDR EXTENSION8 V4.0"
DETECTOR_ID = MEX_HRSC_S1
EVENT_TYPE = "MARS-REGIONAL-VARIABLE-Gl-Tc-Ot"
INSTRUMENT_HOST_ID = MEX
INSTRUMENT_HOST_NAME = "MARS EXPRESS"
INSTRUMENT_ID = HRSC
INSTRUMENT_NAME = "HIGH RESOLUTION STEREO CAMERA"
MISSION_NAME = "MARS EXPRESS"
MISSION_PHASE_NAME = ME_Phase_46
PROCESSING_LEVEL_ID = 4
PRODUCT_CREATION_TIME = 2023-01-28T22:22:56.000Z
PRODUCT_ID = "HN005_0000_S14.TIF"
RELEASE_ID = 0004
REVISION_ID = 0000
/* QUALITY DATA ELEMENTS */
DATA_QUALITY_ID = 1
DATA_QUALITY_DESC = "Data calculated based on original SPICE kernels"
/* TIME DATA ELEMENTS */
SPACECRAFT_CLOCK_START_COUNT = "1/0595674353.24885"
SPACECRAFT_CLOCK_STOP_COUNT = "1/0595675913.10336"
START_TIME = 2022-03-18T09:26:33.033Z
STOP_TIME = 2022-03-18T09:32:25.624Z
/* ORBITAL DATA ELEMENTS */
ASCENDING_NODE_LONGITUDE = 145.14
MAXIMUM_RESOLUTION = 0.0976
FOOTPRINT_POINT_LATITUDE = (-76.592,-76.5902,-76.5709,-76.5353, -76.4834,-76.4154,-76.3314,-76.232, -76.1174,-75.9879,-75.8434,-75.6847, -75.397,-75.3733,-75.2221,-75.5514, -75.8804,-76.2067,-76.6962,-77.0302, -77.3598,-77.8491,-78.1736,-78.6579, -78.9833,-79.4601,-79.9378,-80.2543, -80.5663,-80.875,-81.1803,-81.6265, -81.9144,-82.1934,-82.4639,-82.724, -83.1003,-83.5517,-83.8613,-84.3037, -84.5764,-84.7333,-84.8703,-84.9155, -84.918,-84.8471,-84.7015,-84.5483, -84.2939,-83.9902,-83.9077,-83.8847, -84.4463,-84.8846,-85.2353,-85.5698, -85.818,-85.9915,-86.1547,-86.1635, -86.1683,-86.6157,-87.2132,-87.8101, -88.3939,-88.9339,-89.3095,-89.1527, -88.655,-88.0457,-87.2292,-86.5545, -86.2116,-85.865,-85.3381,-84.8054, -84.4472,-84.0872,-83.7236,-83.3586, -82.9902,-82.6206,-82.2526,-81.8847, -81.5187,-81.1553,-80.7897,-80.4254, -80.0627,-79.7015,-79.3419,-78.9832, -78.6256,-78.2691,-77.9148,-77.3825, -77.0294,-76.6783,-76.5028,-76.592)
FOOTPRINT_POINT_LONGITUDE = (270.192,272.38,274.317,276.242,278.152 ,280.042,281.91,283.751,285.561,287.339 ,289.085,290.796,293.495,293.698, 293.699,294.13,294.586,295.065,295.836, 296.394,296.983,297.931,298.613,299.717 ,300.519,301.813,303.252,304.299,305.42 ,306.624,307.92,310.035,311.565,313.196 ,314.941,316.799,319.855,324.355, 328.151,335.268,341.573,346.668,353.765 ,359.119,364.653,371.725,378.401, 383.092,388.796,393.92,395.11,395.428, 400.253,405.072,409.948,415.962,421.876 ,427.4,435.062,435.633,435.836,434.464, 431.91,427.9,420.821,405.92,356.364, 321.02,297.324,287.133,280.899,278.066, 277.027,276.157,275.085,274.233,273.759 ,273.345,272.975,272.65,272.358,272.094 ,271.86,271.647,271.458,271.289,271.13, 270.985,270.853,270.734,270.626,270.526 ,270.435,270.35,270.274,270.167,270.103 ,270.045,270.017,270.192)
ORBIT_NUMBER = 23005
ORBITAL_ECCENTRICITY = 0.577
ORBITAL_INCLINATION = 87.0
ORBITAL_SEMIMAJOR_AXIS = 8839.64
PERIAPSIS_ALTITUDE = 348.07
PERIAPSIS_ARGUMENT_ANGLE = 338.18
PERIAPSIS_TIME = 2022-03-18T09:49:18.000Z
SPACECRAFT_ORIENTATION = (0.0,1.0,0.0)
^MEX_ORIENTATION_DESC = "MEX_ORIENTATION_DESC.TXT"
SPACECRAFT_POINTING_MODE = NADIR
^MEX_POINTING_DESC = "MEX_POINTING_DESC.TXT"
RIGHT_ASCENSION = -1e+32
DECLINATION = -1e+32
OFFSET_ANGLE = -1e+32
SPACECRAFT_SOLAR_DISTANCE = 2.15482e+08
TARGET_NAME = MARS
/* CAMERA DATA ELEMENTS */
DETECTOR_TEMPERATURE = 17.1471
FOCAL_PLANE_TEMPERATURE = 7.7677
INST_CMPRS_NAME = "DISCRETE COSINE TRANSFORMATION (DCT)"
INST_CMPRS_RATIO = 10.3331
INST_CMPRS_QUALITY = 0
INST_CMPRS_QUANTZ_TBL_ID = 0
INSTRUMENT_TEMPERATURE = 11.0301
LENS_TEMPERATURE = 8.3794
MACROPIXEL_SIZE = 2
MISSING_FRAMES = 0
PIXEL_SUBSAMPLING_FLAG = N
SIGNAL_CHAIN_ID = 1
/* RADIOMETRIC DATA ELEMENTS */
BANDWIDTH = 180.0
CENTER_FILTER_WAVELENGTH = 677.0
RADIANCE_OFFSET = 1.37926
RADIANCE_SCALING_FACTOR = 0.0169873
REFLECTANCE_SCALING_FACTOR = 0.000411534
MEX:REFLECTANCE_OFFSET = 0.0334141
/* IMAGE OBJECT DEFINITIONS */
OBJECT = IMAGE
  INTERCHANGE_FORMAT = BINARY
  LINES = 7725
  LINE_SAMPLES = 10587
  SAMPLE_TYPE = UNSIGNED_INTEGER
  SAMPLE_BITS = 8
  BANDS = 1
  BAND_STORAGE_TYPE = BAND_SEQUENTIAL
  MAXIMUM = 255
  MEAN = 83.6047
  MINIMUM = 1
  STANDARD_DEVIATION = 38.2861
END_OBJECT = IMAGE
/* MAP OBJECT DEFINITIONS */
OBJECT = IMAGE_MAP_PROJECTION
  ^DATA_SET_MAP_PROJECTION_CATALOG= "DSMAP.CAT"
  A_AXIS_RADIUS = 3396.0
  B_AXIS_RADIUS = 3396.0
  C_AXIS_RADIUS = 3396.0
  CENTER_LATITUDE = 0.0
  CENTER_LONGITUDE = 298.0
  COORDINATE_SYSTEM_NAME = PLANETOGRAPHIC
  COORDINATE_SYSTEM_TYPE = "BODY-FIXED ROTATING"
  EASTERNMOST_LONGITUDE = 75.836
  FIRST_STANDARD_PARALLEL = "N/A"
  LINE_FIRST_PIXEL = 1
  LINE_LAST_PIXEL = 7725
  LINE_PROJECTION_OFFSET = -44433.25
  MAP_PROJECTION_ROTATION = 0.0
  MAP_PROJECTION_TYPE = SINUSOIDAL
  MAP_RESOLUTION = 592.713803866667
  MAP_SCALE = 0.1
  MAXIMUM_LATITUDE = -75.2221
  MINIMUM_LATITUDE = -89.3095
  POSITIVE_LONGITUDE_DIRECTION = EAST
  REFERENCE_LATITUDE = "N/A"
  REFERENCE_LONGITUDE = "N/A"
  SAMPLE_FIRST_PIXEL = 1
  SAMPLE_LAST_PIXEL = 10587
  SAMPLE_PROJECTION_OFFSET = 4239.75
  SECOND_STANDARD_PARALLEL = "N/A"
  WESTERNMOST_LONGITUDE = -89.983
END_OBJECT = IMAGE_MAP_PROJECTION
END
