PDS_VERSION_ID = PDS3
/* FILE DATA ELEMENTS */
RECORD_TYPE = UNDEFINED
/* POINTERS TO DATA OBJECTS */
^IMAGE = ("HN005_0000_ND4.TIF")
/* IDENTIFICATION DATA ELEMENTS */
DATA_SET_ID = "MEX-M-HRSC-4-REFDR-MAPPROJECT-EXT8-V4.0"
DATA_SET_NAME = "MARS EXPRESS HRSC MAP PROJECTED REFDR EXTENSION8 V4.0"
DETECTOR_ID = MEX_HRSC_NADIR
EVENT_TYPE = "MARS-REGIONAL-VARIABLE-Gl-Tc-Ot"
INSTRUMENT_HOST_ID = MEX
INSTRUMENT_HOST_NAME = "MARS EXPRESS"
INSTRUMENT_ID = HRSC
INSTRUMENT_NAME = "HIGH RESOLUTION STEREO CAMERA"
MISSION_NAME = "MARS EXPRESS"
MISSION_PHASE_NAME = ME_Phase_46
PROCESSING_LEVEL_ID = 4
PRODUCT_CREATION_TIME = 2023-01-28T22:22:56.000Z
PRODUCT_ID = "HN005_0000_ND4.TIF"
RELEASE_ID = 0004
REVISION_ID = 0000
/* QUALITY DATA ELEMENTS */
DATA_QUALITY_ID = 1
DATA_QUALITY_DESC = "Data calculated based on original SPICE kernels"
/* TIME DATA ELEMENTS */
SPACECRAFT_CLOCK_START_COUNT = "1/0595674353.24885"
SPACECRAFT_CLOCK_STOP_COUNT = "1/0595675913.10336"
START_TIME = 2022-03-18T09:21:34.548Z
STOP_TIME = 2022-03-18T09:29:45.472Z
/* ORBITAL DATA ELEMENTS */
ASCENDING_NODE_LONGITUDE = 145.14
MAXIMUM_RESOLUTION = 0.054
FOOTPRINT_POINT_LATITUDE = (-76.2719,-76.306,-76.3029,-76.2766, -76.2274,-76.1553,-76.0611,-75.9607, -75.8259,-75.6699,-75.4935,-75.2708, -75.0236,-74.9947,-74.9657,-75.5184, -76.0741,-76.6317,-77.1913,-77.7515, -78.312,-78.8707,-79.2958,-79.8479, -80.394,-80.9312,-81.4553,-81.9625, -82.4474,-82.9021,-83.1161,-83.3194, -83.5103,-83.6877,-83.8501,-83.995, -84.1225,-84.2294,-84.3146,-84.3774, -84.4162,-84.4306,-84.4188,-84.3803, -84.3151,-84.2229,-84.1096,-83.9765, -83.8224,-83.6507,-83.5588,-83.5422, -84.1089,-84.8445,-85.2235,-85.4558, -85.6683,-85.9017,-86.1564,-86.2963, -86.3044,-86.3088,-86.6814,-87.056, -87.4326,-87.8104,-88.3778,-88.7508, -89.11,-89.4335,-89.6228,-89.4989, -89.1984,-88.8547,-88.4987,-88.1389, -87.7777,-87.4169,-87.0571,-86.6985, -86.3414,-85.9861,-85.6324,-85.2805, -84.9304,-84.5821,-83.8911,-83.2074, -82.5311,-81.8621,-81.2003,-80.2118, -79.5678,-78.9308,-78.3005,-77.6769, -77.06,-76.4496,-76.298,-76.2719)
FOOTPRINT_POINT_LONGITUDE = (268.04,271.365,273.778,276.181,278.57, 280.936,283.271,285.286,287.551,289.776 ,291.953,294.348,296.675,296.929, 297.208,297.976,298.823,299.765,300.808 ,301.974,303.274,304.739,305.984, 307.803,309.863,312.21,314.898,317.981, 321.526,325.607,327.868,330.288,332.875 ,335.633,338.564,341.67,344.938,348.364 ,351.93,355.612,359.384,363.216,367.074 ,370.919,374.714,378.405,381.95,385.329 ,388.521,391.527,392.958,393.208, 397.081,403.865,408.624,412.22,416.19, 421.698,430.413,438.698,439.415,439.765 ,439.13,438.3,437.243,435.793,432.297, 428.206,420.776,404.297,362.533,314.061 ,293.562,284.799,280.161,277.309, 275.435,274.084,273.073,272.297,271.681 ,271.165,270.75,270.395,270.096,269.836 ,269.431,269.112,268.858,268.651, 268.491,268.285,268.183,268.093,268.019 ,267.96,267.911,267.869,267.859,268.04)
ORBIT_NUMBER = 23005
ORBITAL_ECCENTRICITY = 0.577
ORBITAL_INCLINATION = 87.0
ORBITAL_SEMIMAJOR_AXIS = 8839.64
PERIAPSIS_ALTITUDE = 348.07
PERIAPSIS_ARGUMENT_ANGLE = 338.18
PERIAPSIS_TIME = 2022-03-18T09:49:18.000Z
SPACECRAFT_ORIENTATION = (0.0,1.0,0.0)
^MEX_ORIENTATION_DESC = "MEX_ORIENTATION_DESC.TXT"
SPACECRAFT_POINTING_MODE = NADIR
^MEX_POINTING_DESC = "MEX_POINTING_DESC.TXT"
RIGHT_ASCENSION = -1e+32
DECLINATION = -1e+32
OFFSET_ANGLE = -1e+32
SPACECRAFT_SOLAR_DISTANCE = 2.15482e+08
TARGET_NAME = MARS
/* CAMERA DATA ELEMENTS */
DETECTOR_TEMPERATURE = 18.1666
FOCAL_PLANE_TEMPERATURE = 7.7677
INST_CMPRS_NAME = "DISCRETE COSINE TRANSFORMATION (DCT)"
INST_CMPRS_RATIO = 6.8312
INST_CMPRS_QUALITY = 0
INST_CMPRS_QUANTZ_TBL_ID = 0
INSTRUMENT_TEMPERATURE = 11.0301
LENS_TEMPERATURE = 8.3794
MACROPIXEL_SIZE = 1
MISSING_FRAMES = 2
PIXEL_SUBSAMPLING_FLAG = N
SIGNAL_CHAIN_ID = 0
/* RADIOMETRIC DATA ELEMENTS */
BANDWIDTH = 177.0
CENTER_FILTER_WAVELENGTH = 677.5
RADIANCE_OFFSET = 0.997373
RADIANCE_SCALING_FACTOR = 0.0198823
REFLECTANCE_SCALING_FACTOR = 0.000490446
MEX:REFLECTANCE_OFFSET = 0.0246027
/* IMAGE OBJECT DEFINITIONS */
OBJECT = IMAGE
  INTERCHANGE_FORMAT = BINARY
  LINES = 15449
  LINE_SAMPLES = 21174
  SAMPLE_TYPE = UNSIGNED_INTEGER
  SAMPLE_BITS = 8
  BANDS = 1
  BAND_STORAGE_TYPE = BAND_SEQUENTIAL
  MAXIMUM = 245
  MEAN = 78.4061
  MINIMUM = 1
  STANDARD_DEVIATION = 33.5555
END_OBJECT = IMAGE
/* MAP OBJECT DEFINITIONS */
OBJECT = IMAGE_MAP_PROJECTION
  ^DATA_SET_MAP_PROJECTION_CATALOG= "DSMAP.CAT"
  A_AXIS_RADIUS = 3396.0
  B_AXIS_RADIUS = 3396.0
  C_AXIS_RADIUS = 3396.0
  CENTER_LATITUDE = 0.0
  CENTER_LONGITUDE = 298.0
  COORDINATE_SYSTEM_NAME = PLANETOGRAPHIC
  COORDINATE_SYSTEM_TYPE = "BODY-FIXED ROTATING"
  EASTERNMOST_LONGITUDE = 79.765
  FIRST_STANDARD_PARALLEL = "N/A"
  LINE_FIRST_PIXEL = 1
  LINE_LAST_PIXEL = 15449
  LINE_PROJECTION_OFFSET = -88866.0
  MAP_PROJECTION_ROTATION = 0.0
  MAP_PROJECTION_TYPE = SINUSOIDAL
  MAP_RESOLUTION = 1185.42760773333
  MAP_SCALE = 0.05
  MAXIMUM_LATITUDE = -74.9657
  MINIMUM_LATITUDE = -89.6228
  POSITIVE_LONGITUDE_DIRECTION = EAST
  REFERENCE_LATITUDE = "N/A"
  REFERENCE_LONGITUDE = "N/A"
  SAMPLE_FIRST_PIXEL = 1
  SAMPLE_LAST_PIXEL = 21174
  SAMPLE_PROJECTION_OFFSET = 8480.0
  SECOND_STANDARD_PARALLEL = "N/A"
  WESTERNMOST_LONGITUDE = -92.14100000000001
END_OBJECT = IMAGE_MAP_PROJECTION
END
