PDS_VERSION_ID = PDS3
/* FILE DATA ELEMENTS */
RECORD_TYPE = UNDEFINED
/* POINTERS TO DATA OBJECTS */
^IMAGE = ("HN005_0000_GR4.TIF")
/* IDENTIFICATION DATA ELEMENTS */
DATA_SET_ID = "MEX-M-HRSC-4-REFDR-MAPPROJECT-EXT8-V4.0"
DATA_SET_NAME = "MARS EXPRESS HRSC MAP PROJECTED REFDR EXTENSION8 V4.0"
DETECTOR_ID = MEX_HRSC_GREEN
EVENT_TYPE = "MARS-REGIONAL-VARIABLE-Gl-Tc-Ot"
INSTRUMENT_HOST_ID = MEX
INSTRUMENT_HOST_NAME = "MARS EXPRESS"
INSTRUMENT_ID = HRSC
INSTRUMENT_NAME = "HIGH RESOLUTION STEREO CAMERA"
MISSION_NAME = "MARS EXPRESS"
MISSION_PHASE_NAME = ME_Phase_46
PROCESSING_LEVEL_ID = 4
PRODUCT_CREATION_TIME = 2023-01-28T22:22:56.000Z
PRODUCT_ID = "HN005_0000_GR4.TIF"
RELEASE_ID = 0004
REVISION_ID = 0000
/* QUALITY DATA ELEMENTS */
DATA_QUALITY_ID = 1
DATA_QUALITY_DESC = "Data calculated based on original SPICE kernels"
/* TIME DATA ELEMENTS */
SPACECRAFT_CLOCK_START_COUNT = "1/0595674353.24885"
SPACECRAFT_CLOCK_STOP_COUNT = "1/0595675913.10336"
START_TIME = 2022-03-18T09:22:39.315Z
STOP_TIME = 2022-03-18T09:30:17.894Z
/* ORBITAL DATA ELEMENTS */
ASCENDING_NODE_LONGITUDE = 145.14
MAXIMUM_RESOLUTION = 0.2092
FOOTPRINT_POINT_LATITUDE = (-76.3562,-76.3741,-76.3763,-76.3391, -76.2603,-76.1627,-76.0642,-75.948, -75.8142,-75.6634,-75.4958,-75.3115, -75.1115,-75.0854,-75.0432,-75.6107, -76.1803,-76.752,-77.3247,-77.8963, -78.4681,-79.0376,-79.6026,-80.161, -80.7125,-81.2528,-81.7781,-82.2835, -82.7631,-83.207,-83.4142,-83.6087, -83.7891,-83.955,-84.1031,-84.2336, -84.3433,-84.431,-84.5206,-84.5462, -84.5503,-84.5257,-84.4769,-84.4042, -84.3092,-84.1937,-84.0591,-83.9072, -83.7398,-83.6507,-83.6203,-84.0612, -84.3889,-85.0263,-85.4038,-85.6219, -85.8366,-86.065,-86.2528,-86.2608, -86.266,-86.6179,-86.971,-87.3261, -87.6813,-88.037,-88.3916,-88.7406, -89.0762,-89.3719,-89.5344,-89.4323, -89.1587,-88.8299,-88.4827,-88.1284, -87.7713,-87.4135,-87.0557,-86.6988, -86.3429,-85.9879,-85.6345,-85.2827, -84.9321,-84.2363,-83.5469,-82.8639, -82.1874,-81.5172,-80.8535,-80.1963, -79.5454,-78.9013,-78.2627,-77.787, -77.16,-76.5382,-76.3837,-76.3562)
FOOTPRINT_POINT_LONGITUDE = (268.718,270.626,272.803,276.322, 279.539,282.183,284.265,286.316,288.333 ,290.312,292.253,294.154,296.01,296.239 ,296.416,297.199,298.065,299.024, 300.092,301.287,302.624,304.127,305.828 ,307.759,309.953,312.462,315.341, 318.655,322.474,326.878,329.319,331.932 ,334.721,337.689,340.834,344.153, 347.633,351.258,356.925,360.791,364.703 ,368.555,372.333,376.002,379.535, 382.916,386.133,389.181,392.048,393.415 ,393.862,396.949,399.669,406.449, 411.949,415.964,420.891,428.025,437.824 ,438.467,438.677,437.95,437.028,435.868 ,434.326,432.209,429.141,424.296, 415.788,398.409,361.777,320.594,299.343 ,289.266,283.723,280.28,277.965,276.307 ,275.059,274.097,273.33,272.692,272.171 ,271.737,271.36,270.766,270.314,269.958 ,269.672,269.437,269.245,269.086, 268.954,268.847,268.752,268.683,268.62, 268.56,268.547,268.718)
ORBIT_NUMBER = 23005
ORBITAL_ECCENTRICITY = 0.577
ORBITAL_INCLINATION = 87.0
ORBITAL_SEMIMAJOR_AXIS = 8839.64
PERIAPSIS_ALTITUDE = 348.07
PERIAPSIS_ARGUMENT_ANGLE = 338.18
PERIAPSIS_TIME = 2022-03-18T09:49:18.000Z
SPACECRAFT_ORIENTATION = (0.0,1.0,0.0)
^MEX_ORIENTATION_DESC = "MEX_ORIENTATION_DESC.TXT"
SPACECRAFT_POINTING_MODE = NADIR
^MEX_POINTING_DESC = "MEX_POINTING_DESC.TXT"
RIGHT_ASCENSION = -1e+32
DECLINATION = -1e+32
OFFSET_ANGLE = -1e+32
SPACECRAFT_SOLAR_DISTANCE = 2.15482e+08
TARGET_NAME = MARS
/* CAMERA DATA ELEMENTS */
DETECTOR_TEMPERATURE = 18.1666
FOCAL_PLANE_TEMPERATURE = 7.7677
INST_CMPRS_NAME = "DISCRETE COSINE TRANSFORMATION (DCT)"
INST_CMPRS_RATIO = 17.8113
INST_CMPRS_QUALITY = 0
INST_CMPRS_QUANTZ_TBL_ID = 0
INSTRUMENT_TEMPERATURE = 11.0301
LENS_TEMPERATURE = 8.3794
MACROPIXEL_SIZE = 4
MISSING_FRAMES = 0
PIXEL_SUBSAMPLING_FLAG = N
SIGNAL_CHAIN_ID = 2
/* RADIOMETRIC DATA ELEMENTS */
BANDWIDTH = 88.0
CENTER_FILTER_WAVELENGTH = 538.0
RADIANCE_OFFSET = 0.488259
RADIANCE_SCALING_FACTOR = 0.00747367
REFLECTANCE_SCALING_FACTOR = 0.000298788
MEX:REFLECTANCE_OFFSET = 0.01952
/* IMAGE OBJECT DEFINITIONS */
OBJECT = IMAGE
  INTERCHANGE_FORMAT = BINARY
  LINES = 3863
  LINE_SAMPLES = 5294
  SAMPLE_TYPE = UNSIGNED_INTEGER
  SAMPLE_BITS = 8
  BANDS = 1
  BAND_STORAGE_TYPE = BAND_SEQUENTIAL
  MAXIMUM = 236
  MEAN = 75.2086
  MINIMUM = 2
  STANDARD_DEVIATION = 34.4441
END_OBJECT = IMAGE
/* MAP OBJECT DEFINITIONS */
OBJECT = IMAGE_MAP_PROJECTION
  ^DATA_SET_MAP_PROJECTION_CATALOG= "DSMAP.CAT"
  A_AXIS_RADIUS = 3396.0
  B_AXIS_RADIUS = 3396.0
  C_AXIS_RADIUS = 3396.0
  CENTER_LATITUDE = 0.0
  CENTER_LONGITUDE = 298.0
  COORDINATE_SYSTEM_NAME = PLANETOGRAPHIC
  COORDINATE_SYSTEM_TYPE = "BODY-FIXED ROTATING"
  EASTERNMOST_LONGITUDE = 78.67700000000001
  FIRST_STANDARD_PARALLEL = "N/A"
  LINE_FIRST_PIXEL = 1
  LINE_LAST_PIXEL = 3863
  LINE_PROJECTION_OFFSET = -22216.875
  MAP_PROJECTION_ROTATION = 0.0
  MAP_PROJECTION_TYPE = SINUSOIDAL
  MAP_RESOLUTION = 296.356901933333
  MAP_SCALE = 0.2
  MAXIMUM_LATITUDE = -75.0432
  MINIMUM_LATITUDE = -89.53440000000001
  POSITIVE_LONGITUDE_DIRECTION = EAST
  REFERENCE_LATITUDE = "N/A"
  REFERENCE_LONGITUDE = "N/A"
  SAMPLE_FIRST_PIXEL = 1
  SAMPLE_LAST_PIXEL = 5294
  SAMPLE_PROJECTION_OFFSET = 2119.625
  SECOND_STANDARD_PARALLEL = "N/A"
  WESTERNMOST_LONGITUDE = -91.453
END_OBJECT = IMAGE_MAP_PROJECTION
END
