PDS_VERSION_ID = PDS3
/* FILE DATA ELEMENTS */
RECORD_TYPE = UNDEFINED
/* POINTERS TO DATA OBJECTS */
^IMAGE = ("HN002_0000_BL4.TIF")
/* IDENTIFICATION DATA ELEMENTS */
DATA_SET_ID = "MEX-M-HRSC-4-REFDR-MAPPROJECT-EXT8-V4.0"
DATA_SET_NAME = "MARS EXPRESS HRSC MAP PROJECTED REFDR EXTENSION8 V4.0"
DETECTOR_ID = MEX_HRSC_BLUE
EVENT_TYPE = "MARS-REGIONAL-VARIABLE-Gl-Tc-Ot"
INSTRUMENT_HOST_ID = MEX
INSTRUMENT_HOST_NAME = "MARS EXPRESS"
INSTRUMENT_ID = HRSC
INSTRUMENT_NAME = "HIGH RESOLUTION STEREO CAMERA"
MISSION_NAME = "MARS EXPRESS"
MISSION_PHASE_NAME = ME_Phase_46
PROCESSING_LEVEL_ID = 4
PRODUCT_CREATION_TIME = 2023-01-28T22:22:56.000Z
PRODUCT_ID = "HN002_0000_BL4.TIF"
RELEASE_ID = 0004
REVISION_ID = 0000
/* QUALITY DATA ELEMENTS */
DATA_QUALITY_ID = 1
DATA_QUALITY_DESC = "Data calculated based on original SPICE kernels"
/* TIME DATA ELEMENTS */
SPACECRAFT_CLOCK_START_COUNT = "1/0595598715.25686"
SPACECRAFT_CLOCK_STOP_COUNT = "1/0595600519.28866"
START_TIME = 2022-03-17T12:21:59.797Z
STOP_TIME = 2022-03-17T12:32:46.298Z
/* ORBITAL DATA ELEMENTS */
ASCENDING_NODE_LONGITUDE = 145.2
MAXIMUM_RESOLUTION = 0.2115
FOOTPRINT_POINT_LATITUDE = (-74.4697,-74.5392,-74.5576,-74.5537, -74.5278,-74.48,-74.4106,-74.32, -74.2084,-74.0761,-73.9235,-73.7505, -73.4012,-73.3741,-73.3796,-73.7963, -74.2158,-74.6381,-75.063,-75.7047, -76.132,-76.5543,-76.9708,-77.3819, -77.7873,-78.1864,-78.5789,-78.9644, -79.3428,-79.7135,-80.0762,-80.4301, -80.7751,-81.11,-81.4345,-81.7476, -82.3358,-82.8656,-83.3277,-83.7125, -84.0093,-84.2074,-84.3032,-84.2929, -84.1802,-83.9771,-83.6945,-83.347, -82.947,-82.5044,-82.3883,-82.3577, -82.9986,-83.5565,-83.9534,-84.1253, -84.2678,-84.3802,-84.4755,-84.4804, -84.4845,-85.1961,-85.9172,-86.6466, -87.3859,-88.1324,-88.8827,-89.6019, -89.4841,-88.7282,-87.9332,-87.1228, -86.299,-85.8825,-85.4634,-85.0403, -84.6143,-84.186,-83.7537,-83.3186, -82.8805,-82.4394,-81.9951,-81.5475, -81.0969,-80.6428,-80.1858,-79.7254, -79.2607,-78.7933,-78.3229,-77.8491, -77.1318,-76.653,-76.1784,-75.709, -75.2423,-74.7809,-74.5518,-74.4697)
FOOTPRINT_POINT_LONGITUDE = (213.316,216.7,218.958,221.214,223.462, 225.697,227.915,230.11,232.277,234.414, 236.519,238.591,242.12,242.367,242.61, 243.059,243.543,244.065,244.629,245.56, 246.241,246.967,247.74,248.566,249.448, 250.392,251.401,252.479,253.635,254.87, 256.191,257.623,259.145,260.788,262.547 ,264.434,268.641,273.468,278.98,285.16, 291.966,299.285,306.878,314.498,321.869 ,328.757,335.028,340.619,345.545, 349.851,350.839,351.09,356.805,363.588, 370.369,374.276,378.405,382.705,388.544 ,389.002,389.154,388.814,388.32,387.631 ,386.487,384.424,379.55,355.635,238.772 ,222.258,218.23,216.438,215.445,215.093 ,214.806,214.577,214.38,214.206,214.066 ,213.942,213.834,213.74,213.656,213.584 ,213.521,213.464,213.414,213.367, 213.334,213.299,213.267,213.24,213.207, 213.187,213.172,213.154,213.152,213.143 ,213.14,213.316)
ORBIT_NUMBER = 23002
ORBITAL_ECCENTRICITY = 0.577
ORBITAL_INCLINATION = 86.99
ORBITAL_SEMIMAJOR_AXIS = 8839.18
PERIAPSIS_ALTITUDE = 349.19
PERIAPSIS_ARGUMENT_ANGLE = 338.72
PERIAPSIS_TIME = 2022-03-17T12:52:20.000Z
SPACECRAFT_ORIENTATION = (0.0,1.0,0.0)
^MEX_ORIENTATION_DESC = "MEX_ORIENTATION_DESC.TXT"
SPACECRAFT_POINTING_MODE = NADIR
^MEX_POINTING_DESC = "MEX_POINTING_DESC.TXT"
RIGHT_ASCENSION = -1e+32
DECLINATION = -1e+32
OFFSET_ANGLE = -1e+32
SPACECRAFT_SOLAR_DISTANCE = 2.15628e+08
TARGET_NAME = MARS
/* CAMERA DATA ELEMENTS */
DETECTOR_TEMPERATURE = 18.5744
FOCAL_PLANE_TEMPERATURE = 8.1755
INST_CMPRS_NAME = "DISCRETE COSINE TRANSFORMATION (DCT)"
INST_CMPRS_RATIO = 44.351
INST_CMPRS_QUALITY = 0
INST_CMPRS_QUANTZ_TBL_ID = 0
INSTRUMENT_TEMPERATURE = 11.0301
LENS_TEMPERATURE = 8.1755
MACROPIXEL_SIZE = 4
MISSING_FRAMES = 0
PIXEL_SUBSAMPLING_FLAG = N
SIGNAL_CHAIN_ID = 2
/* RADIOMETRIC DATA ELEMENTS */
BANDWIDTH = 76.0
CENTER_FILTER_WAVELENGTH = 444.0
RADIANCE_OFFSET = 0.244836
RADIANCE_SCALING_FACTOR = 0.000399267
REFLECTANCE_SCALING_FACTOR = 1.90745e-05
MEX:REFLECTANCE_OFFSET = 0.0116967
/* IMAGE OBJECT DEFINITIONS */
OBJECT = IMAGE
  INTERCHANGE_FORMAT = BINARY
  LINES = 6044
  LINE_SAMPLES = 5158
  SAMPLE_TYPE = UNSIGNED_INTEGER
  SAMPLE_BITS = 8
  BANDS = 1
  BAND_STORAGE_TYPE = BAND_SEQUENTIAL
  MAXIMUM = 255
  MEAN = 193.247
  MINIMUM = 5
  STANDARD_DEVIATION = 75.5656
END_OBJECT = IMAGE
/* MAP OBJECT DEFINITIONS */
OBJECT = IMAGE_MAP_PROJECTION
  ^DATA_SET_MAP_PROJECTION_CATALOG= "DSMAP.CAT"
  A_AXIS_RADIUS = 3396.0
  B_AXIS_RADIUS = 3396.0
  C_AXIS_RADIUS = 3396.0
  CENTER_LATITUDE = -90.0
  CENTER_LONGITUDE = 0.0
  COORDINATE_SYSTEM_NAME = PLANETOGRAPHIC
  COORDINATE_SYSTEM_TYPE = "BODY-FIXED ROTATING"
  EASTERNMOST_LONGITUDE = 29.154
  FIRST_STANDARD_PARALLEL = "N/A"
  LINE_FIRST_PIXEL = 1
  LINE_LAST_PIXEL = 6044
  LINE_PROJECTION_OFFSET = 2226.375
  MAP_PROJECTION_ROTATION = 0.0
  MAP_PROJECTION_TYPE = STEREOGRAPHIC
  MAP_RESOLUTION = 296.356901933333
  MAP_SCALE = 0.2
  MAXIMUM_LATITUDE = -73.3741
  MINIMUM_LATITUDE = -89.6019
  POSITIVE_LONGITUDE_DIRECTION = EAST
  REFERENCE_LATITUDE = "N/A"
  REFERENCE_LONGITUDE = "N/A"
  SAMPLE_FIRST_PIXEL = 1
  SAMPLE_LAST_PIXEL = 5158
  SAMPLE_PROJECTION_OFFSET = 4381.125
  SECOND_STANDARD_PARALLEL = "N/A"
  WESTERNMOST_LONGITUDE = -146.86
END_OBJECT = IMAGE_MAP_PROJECTION
END
