PDS_VERSION_ID = PDS3
/* FILE DATA ELEMENTS */
RECORD_TYPE = UNDEFINED
/* POINTERS TO DATA OBJECTS */
^IMAGE = ("HM976_0000_RE4.TIF")
/* IDENTIFICATION DATA ELEMENTS */
DATA_SET_ID = "MEX-M-HRSC-4-REFDR-MAPPROJECT-EXT8-V4.0"
DATA_SET_NAME = "MARS EXPRESS HRSC MAP PROJECTED REFDR EXTENSION8 V4.0"
DETECTOR_ID = MEX_HRSC_RED
EVENT_TYPE = "MARS-TERMINATOR-CALIBRATION-Tc"
INSTRUMENT_HOST_ID = MEX
INSTRUMENT_HOST_NAME = "MARS EXPRESS"
INSTRUMENT_ID = HRSC
INSTRUMENT_NAME = "HIGH RESOLUTION STEREO CAMERA"
MISSION_NAME = "MARS EXPRESS"
MISSION_PHASE_NAME = ME_Phase_46
PROCESSING_LEVEL_ID = 4
PRODUCT_CREATION_TIME = 2023-01-28T19:10:30.000Z
PRODUCT_ID = "HM976_0000_RE4.TIF"
RELEASE_ID = 0003
REVISION_ID = 0000
/* QUALITY DATA ELEMENTS */
DATA_QUALITY_ID = 1
DATA_QUALITY_DESC = "Data calculated based on original SPICE kernels"
/* TIME DATA ELEMENTS */
SPACECRAFT_CLOCK_START_COUNT = "1/0594954698.23975"
SPACECRAFT_CLOCK_STOP_COUNT = "1/0594955164.09442"
START_TIME = 2022-03-10T01:15:57.734Z
STOP_TIME = 2022-03-10T01:19:56.623Z
/* ORBITAL DATA ELEMENTS */
ASCENDING_NODE_LONGITUDE = 145.66
MAXIMUM_RESOLUTION = 0.685
FOOTPRINT_POINT_LATITUDE = (-26.1762,-23.8286,-23.6074,-25.2021, -25.8704,-27.02,-26.0661,-25.0556, -21.8158,-14.4212,-10.3718,-7.38122, -4.63734,-0.317391,3.34908,6.53259, 9.40447,12.0612,14.5482,16.8583,19.0634 ,21.167,25.1375,28.8634,32.4125,35.8332 ,39.1614,42.4273,45.655,48.8644,52.0702 ,55.2792,58.4864,61.6582,63.2061,64.699 ,66.1125,67.3834,68.4319,69.1281, 69.2706,68.5395,67.6788,66.3212,64.1886 ,60.2832,58.6539,59.3305,61.6704, 65.2644,68.4333,69.9733,70.2256,69.0654 ,64.9981,63.0799,62.9062,61.899,62.285, 68.2926,71.6165,73.7468,75.1492,76.0152 ,76.5206,75.9035,74.6279,73.0068,71.219 ,69.3606,67.4815,65.6068,61.9166, 58.3229,54.8182,51.3814,47.9873,44.6138 ,41.2303,37.8035,34.3036,30.6865, 26.9089,22.8919,18.5899,16.2637,13.7992 ,11.1566,8.28786,5.11936,1.5367, -2.70702,-5.20155,-8.32904,-12.4047, -18.1145,-23.0229,-25.1054,-26.1762)
FOOTPRINT_POINT_LONGITUDE = (305.518,307.784,310.969,313.317, 313.716,313.861,322.938,327.847,330.578 ,329.302,328.794,328.513,328.279, 328.046,327.937,327.922,327.969,328.058 ,328.183,328.355,328.555,328.786, 329.342,330.025,330.845,331.821,332.981 ,334.366,336.035,338.065,340.58,343.755 ,347.873,353.375,356.862,0.97138, 5.95997,11.9368,19.1648,27.8626,38.1752 ,50.0587,56.5563,63.4364,70.8314, 79.6386,87.7906,95.6815,106.204,106.758 ,111.862,119.173,127.637,136.022, 143.549,143.792,144.039,156.215,165.359 ,174.891,183.24,191.785,200.654,209.721 ,227.057,241.808,253.156,261.636, 267.988,272.827,276.594,279.59,284.011, 287.087,289.327,291.011,292.323,293.335 ,294.124,294.731,295.196,295.53,295.748 ,295.843,295.83,295.761,295.651,295.489 ,295.263,294.954,294.531,293.921, 293.508,292.901,291.997,290.543,292.019 ,296.548,305.518)
ORBIT_NUMBER = 22976
ORBITAL_ECCENTRICITY = 0.576
ORBITAL_INCLINATION = 87.0
ORBITAL_SEMIMAJOR_AXIS = 8837.09
PERIAPSIS_ALTITUDE = 351.08
PERIAPSIS_ARGUMENT_ANGLE = 343.21
PERIAPSIS_TIME = 2022-03-09T23:19:12.000Z
SPACECRAFT_ORIENTATION = (0.0,1.0,0.0)
^MEX_ORIENTATION_DESC = "MEX_ORIENTATION_DESC.TXT"
SPACECRAFT_POINTING_MODE = FIXED
^MEX_POINTING_DESC = "MEX_POINTING_DESC.TXT"
RIGHT_ASCENSION = -1e+32
DECLINATION = -1e+32
OFFSET_ANGLE = -1e+32
SPACECRAFT_SOLAR_DISTANCE = 2.16927e+08
TARGET_NAME = MARS
/* CAMERA DATA ELEMENTS */
DETECTOR_TEMPERATURE = 18.5744
FOCAL_PLANE_TEMPERATURE = 7.9716
INST_CMPRS_NAME = "DISCRETE COSINE TRANSFORMATION (DCT)"
INST_CMPRS_RATIO = 13.5717
INST_CMPRS_QUALITY = 0
INST_CMPRS_QUANTZ_TBL_ID = 0
INSTRUMENT_TEMPERATURE = 11.0301
LENS_TEMPERATURE = 8.1755
MACROPIXEL_SIZE = 2
MISSING_FRAMES = 0
PIXEL_SUBSAMPLING_FLAG = N
SIGNAL_CHAIN_ID = 1
/* RADIOMETRIC DATA ELEMENTS */
BANDWIDTH = 48.0
CENTER_FILTER_WAVELENGTH = 748.0
RADIANCE_OFFSET = 0.0
RADIANCE_SCALING_FACTOR = 0.00272258
REFLECTANCE_SCALING_FACTOR = 0.000292333
MEX:REFLECTANCE_OFFSET = 0.0
/* IMAGE OBJECT DEFINITIONS */
OBJECT = IMAGE
  INTERCHANGE_FORMAT = BINARY
  LINES = 8049
  LINE_SAMPLES = 3467
  SAMPLE_TYPE = UNSIGNED_INTEGER
  SAMPLE_BITS = 8
  BANDS = 1
  BAND_STORAGE_TYPE = BAND_SEQUENTIAL
  MAXIMUM = 255
  MEAN = 101.827
  MINIMUM = 1
  STANDARD_DEVIATION = 105.603
END_OBJECT = IMAGE
/* MAP OBJECT DEFINITIONS */
OBJECT = IMAGE_MAP_PROJECTION
  ^DATA_SET_MAP_PROJECTION_CATALOG= "DSMAP.CAT"
  A_AXIS_RADIUS = 3396.0
  B_AXIS_RADIUS = 3396.0
  C_AXIS_RADIUS = 3396.0
  CENTER_LATITUDE = 45.5895
  CENTER_LONGITUDE = 314.042
  COORDINATE_SYSTEM_NAME = PLANETOGRAPHIC
  COORDINATE_SYSTEM_TYPE = "BODY-FIXED ROTATING"
  EASTERNMOST_LONGITUDE = 360.0
  FIRST_STANDARD_PARALLEL = "N/A"
  LINE_FIRST_PIXEL = 1
  LINE_LAST_PIXEL = 8049
  LINE_PROJECTION_OFFSET = 4041.0
  MAP_PROJECTION_ROTATION = 0.0
  MAP_PROJECTION_TYPE = ORTHOGRAPHIC
  MAP_RESOLUTION = 74.08922548333329
  MAP_SCALE = 0.8
  MAXIMUM_LATITUDE = 90.0
  MINIMUM_LATITUDE = -27.02
  POSITIVE_LONGITUDE_DIRECTION = EAST
  REFERENCE_LATITUDE = "N/A"
  REFERENCE_LONGITUDE = "N/A"
  SAMPLE_FIRST_PIXEL = 1
  SAMPLE_LAST_PIXEL = 3467
  SAMPLE_PROJECTION_OFFSET = 1698.0
  SECOND_STANDARD_PARALLEL = "N/A"
  WESTERNMOST_LONGITUDE = 0.0
END_OBJECT = IMAGE_MAP_PROJECTION
END
