PDS_VERSION_ID = PDS3
/* FILE DATA ELEMENTS */
RECORD_TYPE = UNDEFINED
/* POINTERS TO DATA OBJECTS */
^IMAGE = ("HM963_0000_ND4.TIF")
/* IDENTIFICATION DATA ELEMENTS */
DATA_SET_ID = "MEX-M-HRSC-4-REFDR-MAPPROJECT-EXT8-V4.0"
DATA_SET_NAME = "MARS EXPRESS HRSC MAP PROJECTED REFDR EXTENSION8 V4.0"
DETECTOR_ID = MEX_HRSC_NADIR
EVENT_TYPE = "MARS-TERMINATOR-CALIBRATION-Tc"
INSTRUMENT_HOST_ID = MEX
INSTRUMENT_HOST_NAME = "MARS EXPRESS"
INSTRUMENT_ID = HRSC
INSTRUMENT_NAME = "HIGH RESOLUTION STEREO CAMERA"
MISSION_NAME = "MARS EXPRESS"
MISSION_PHASE_NAME = ME_Phase_46
PROCESSING_LEVEL_ID = 4
PRODUCT_CREATION_TIME = 2023-01-28T19:10:30.000Z
PRODUCT_ID = "HM963_0000_ND4.TIF"
RELEASE_ID = 0003
REVISION_ID = 0000
/* QUALITY DATA ELEMENTS */
DATA_QUALITY_ID = 1
DATA_QUALITY_DESC = "Data calculated based on original SPICE kernels"
/* TIME DATA ELEMENTS */
SPACECRAFT_CLOCK_START_COUNT = "1/0594628029.24891"
SPACECRAFT_CLOCK_STOP_COUNT = "1/0594628493.21992"
START_TIME = 2022-03-06T06:29:36.620Z
STOP_TIME = 2022-03-06T06:33:34.803Z
/* ORBITAL DATA ELEMENTS */
ASCENDING_NODE_LONGITUDE = 145.9
MAXIMUM_RESOLUTION = 0.6855
FOOTPRINT_POINT_LATITUDE = (-27.89,-25.5683,-25.1275,-27.4925, -28.3454,-28.6677,-26.8833,-27.4206, -24.3044,-16.9856,-12.9559,-9.85697, -7.25034,-2.89458,0.708954,3.94085, 6.78435,9.42892,11.892,14.22,18.5151, 22.4696,26.1738,29.7052,33.1004,36.4095 ,39.6491,42.8545,46.042,49.2286,52.4256 ,55.6356,58.8418,61.9847,63.4891, 64.9038,66.1688,67.1873,67.7991,67.7353 ,67.3084,66.4872,65.0799,62.5748, 58.8808,58.3907,62.1775,64.2176,67.2042 ,70.6311,72.5089,72.941,71.8837,67.7895 ,66.2914,66.1457,64.9529,63.1856, 68.4946,72.0753,74.1259,75.3384,75.956, 75.9526,74.9187,73.3544,71.5405,69.6234 ,67.6759,65.7334,63.8139,60.0651, 56.4378,52.913,49.4651,46.0667,42.6899, 39.3063,35.8857,32.3951,28.7956,25.0389 ,21.0604,16.7664,14.4621,12.0151, 9.39739,6.55849,3.42187,-0.119743, -4.29696,-6.77694,-9.67663,-13.3541, -18.8618,-22.3272,-23.9016,-25.9767, -27.89)
FOOTPRINT_POINT_LONGITUDE = (191.238,193.69,197.066,200.75,201.169, 200.891,209.48,214.872,217.791,216.49, 215.974,215.663,215.455,215.212,215.119 ,215.092,215.146,215.24,215.372,215.536 ,215.965,216.513,217.184,217.98,218.927 ,220.032,221.357,222.924,224.811, 227.123,230.002,233.679,238.513,245.094 ,249.324,254.405,260.557,268.053,277.18 ,288.158,294.407,301.198,308.627, 317.196,327.406,335.88,342.516,347.991, 348.639,353.606,1.60047,11.6061,21.7692 ,30.7783,31.2248,31.5237,44.5974, 52.8968,64.2552,74.2867,84.1381,94.0508 ,103.749,121.211,134.917,145.043, 152.473,158.005,162.224,165.52,168.147, 172.046,174.773,176.763,178.258,179.4, 180.281,180.958,181.47,181.842,182.088, 182.216,182.221,182.09,181.966,181.792, 181.562,181.26,180.862,180.335,179.596, 179.093,178.441,177.501,175.848,177.333 ,181.242,186.806,191.238)
ORBIT_NUMBER = 22963
ORBITAL_ECCENTRICITY = 0.577
ORBITAL_INCLINATION = 87.0
ORBITAL_SEMIMAJOR_AXIS = 8847.0
PERIAPSIS_ALTITUDE = 351.26
PERIAPSIS_ARGUMENT_ANGLE = 345.45
PERIAPSIS_TIME = 2022-03-06T04:32:32.000Z
SPACECRAFT_ORIENTATION = (0.0,1.0,0.0)
^MEX_ORIENTATION_DESC = "MEX_ORIENTATION_DESC.TXT"
SPACECRAFT_POINTING_MODE = FIXED
^MEX_POINTING_DESC = "MEX_POINTING_DESC.TXT"
RIGHT_ASCENSION = -1e+32
DECLINATION = -1e+32
OFFSET_ANGLE = -1e+32
SPACECRAFT_SOLAR_DISTANCE = 2.17595e+08
TARGET_NAME = MARS
/* CAMERA DATA ELEMENTS */
DETECTOR_TEMPERATURE = 18.3705
FOCAL_PLANE_TEMPERATURE = 7.7677
INST_CMPRS_NAME = "DISCRETE COSINE TRANSFORMATION (DCT)"
INST_CMPRS_RATIO = 13.1483
INST_CMPRS_QUALITY = 0
INST_CMPRS_QUANTZ_TBL_ID = 0
INSTRUMENT_TEMPERATURE = 11.234
LENS_TEMPERATURE = 8.5833
MACROPIXEL_SIZE = 2
MISSING_FRAMES = 0
PIXEL_SUBSAMPLING_FLAG = N
SIGNAL_CHAIN_ID = 0
/* RADIOMETRIC DATA ELEMENTS */
BANDWIDTH = 177.0
CENTER_FILTER_WAVELENGTH = 677.5
RADIANCE_OFFSET = 0.0
RADIANCE_SCALING_FACTOR = 0.0159366
REFLECTANCE_SCALING_FACTOR = 0.000400795
MEX:REFLECTANCE_OFFSET = 0.0
/* IMAGE OBJECT DEFINITIONS */
OBJECT = IMAGE
  INTERCHANGE_FORMAT = BINARY
  LINES = 7936
  LINE_SAMPLES = 3629
  SAMPLE_TYPE = UNSIGNED_INTEGER
  SAMPLE_BITS = 8
  BANDS = 1
  BAND_STORAGE_TYPE = BAND_SEQUENTIAL
  MAXIMUM = 255
  MEAN = 102.115
  MINIMUM = 1
  STANDARD_DEVIATION = 103.813
END_OBJECT = IMAGE
/* MAP OBJECT DEFINITIONS */
OBJECT = IMAGE_MAP_PROJECTION
  ^DATA_SET_MAP_PROJECTION_CATALOG= "DSMAP.CAT"
  A_AXIS_RADIUS = 3396.0
  B_AXIS_RADIUS = 3396.0
  C_AXIS_RADIUS = 3396.0
  CENTER_LATITUDE = 42.1843
  CENTER_LONGITUDE = 201.227
  COORDINATE_SYSTEM_NAME = PLANETOGRAPHIC
  COORDINATE_SYSTEM_TYPE = "BODY-FIXED ROTATING"
  EASTERNMOST_LONGITUDE = 360.0
  FIRST_STANDARD_PARALLEL = "N/A"
  LINE_FIRST_PIXEL = 1
  LINE_LAST_PIXEL = 7936
  LINE_PROJECTION_OFFSET = 4031.0
  MAP_PROJECTION_ROTATION = 0.0
  MAP_PROJECTION_TYPE = ORTHOGRAPHIC
  MAP_RESOLUTION = 74.08922548333329
  MAP_SCALE = 0.8
  MAXIMUM_LATITUDE = 90.0
  MINIMUM_LATITUDE = -28.6677
  POSITIVE_LONGITUDE_DIRECTION = EAST
  REFERENCE_LATITUDE = "N/A"
  REFERENCE_LONGITUDE = "N/A"
  SAMPLE_FIRST_PIXEL = 1
  SAMPLE_LAST_PIXEL = 3629
  SAMPLE_PROJECTION_OFFSET = 1781.0
  SECOND_STANDARD_PARALLEL = "N/A"
  WESTERNMOST_LONGITUDE = 0.0
END_OBJECT = IMAGE_MAP_PROJECTION
END
