PDS_VERSION_ID = PDS3
/* FILE DATA ELEMENTS */
RECORD_TYPE = UNDEFINED
/* POINTERS TO DATA OBJECTS */
^IMAGE = ("HM933_0000_ND4.TIF")
/* IDENTIFICATION DATA ELEMENTS */
DATA_SET_ID = "MEX-M-HRSC-4-REFDR-MAPPROJECT-EXT8-V4.0"
DATA_SET_NAME = "MARS EXPRESS HRSC MAP PROJECTED REFDR EXTENSION8 V4.0"
DETECTOR_ID = MEX_HRSC_NADIR
EVENT_TYPE = "MARS-TERMINATOR-CALIBRATION-Tc"
INSTRUMENT_HOST_ID = MEX
INSTRUMENT_HOST_NAME = "MARS EXPRESS"
INSTRUMENT_ID = HRSC
INSTRUMENT_NAME = "HIGH RESOLUTION STEREO CAMERA"
MISSION_NAME = "MARS EXPRESS"
MISSION_PHASE_NAME = ME_Phase_46
PROCESSING_LEVEL_ID = 4
PRODUCT_CREATION_TIME = 2023-01-28T19:10:30.000Z
PRODUCT_ID = "HM933_0000_ND4.TIF"
RELEASE_ID = 0003
REVISION_ID = 0000
/* QUALITY DATA ELEMENTS */
DATA_QUALITY_ID = 1
DATA_QUALITY_DESC = "Data calculated based on original SPICE kernels"
/* TIME DATA ELEMENTS */
SPACECRAFT_CLOCK_START_COUNT = "1/0593870907.25666"
SPACECRAFT_CLOCK_STOP_COUNT = "1/0593871464.24837"
START_TIME = 2022-02-25T12:11:00.624Z
STOP_TIME = 2022-02-25T12:16:24.627Z
/* ORBITAL DATA ELEMENTS */
ASCENDING_NODE_LONGITUDE = 146.47
MAXIMUM_RESOLUTION = 0.4657
FOOTPRINT_POINT_LATITUDE = (-4.7159,-4.93981,-4.25631,-4.64906, -3.31076,-2.81407,-2.50458,-2.27809, -1.82286,-1.4709,-2.46784,-0.200314, -2.36758,0.399524,-1.88831,1.38553, 4.98405,8.0032,12.6538,15.174,18.719, 21.5506,23.7577,26.8473,30.0585,34.1601 ,37.3376,39.4601,41.9952,44.812,46.8936 ,49.4786,51.076,53.085,53.9701,54.59, 55.0139,54.9096,54.0473,52.9623,50.4255 ,47.5608,43.9958,41.0227,38.4396, 41.8608,40.2451,42.6912,42.0262,44.1046 ,43.6953,46.8239,48.2427,47.2964, 49.6718,47.588,49.9492,50.4702,49.9116, 51.2269,51.2943,51.4985,52.521,55.5163, 59.1527,62.2883,64.6509,68.0008,71.136, 73.4611,76.6289,79.4984,80.9454,80.9396 ,79.7609,76.6093,72.8235,69.4944, 65.3333,61.5908,58.629,56.4244,51.8887, 46.8439,43.7277,39.2703,36.0122,31.9095 ,29.4036,26.7467,22.3458,18.9802, 16.2411,13.475,8.9699,6.05093,3.60576, -2.04452,-2.90861,-4.7159)
FOOTPRINT_POINT_LONGITUDE = (32.0347,32.0419,32.2739,37.516,39.8794 ,42.4112,46.174,48.7028,52.2352,55.1861 ,58.3621,58.6856,61.0144,61.0506, 63.1796,63.3986,62.7537,62.3663,62.0585 ,62.0399,62.2,62.4953,62.8219,63.4998, 64.4096,66.1144,67.8605,69.3076,71.4046 ,74.343,77.0763,81.471,85.0508,91.3309, 95.4458,99.7362,106.189,111.951,119.622 ,124.733,132.263,137.859,142.775, 145.807,147.941,149.494,152.503,152.338 ,156.719,157.807,161.83,165.439,170.208 ,173.674,174.299,175.48,175.927,180.091 ,183.844,186.722,192.053,192.41,192.475 ,191.354,189.653,187.792,186.054,182.88 ,178.751,174.502,165.676,150.325, 132.266,100.36,84.6558,66.9528,56.8342, 51.482,46.9943,44.1393,42.3781,41.2731, 39.4076,37.7999,36.9834,35.995,35.3845, 34.7243,34.3711,34.0338,33.5518,33.2338 ,33.0099,32.8042,32.5292,32.3809,32.274 ,32.089,32.0687,32.0347)
ORBIT_NUMBER = 22933
ORBITAL_ECCENTRICITY = 0.577
ORBITAL_INCLINATION = 87.0
ORBITAL_SEMIMAJOR_AXIS = 8857.34
PERIAPSIS_ALTITUDE = 353.05
PERIAPSIS_ARGUMENT_ANGLE = 350.53
PERIAPSIS_TIME = 2022-02-25T11:02:20.000Z
SPACECRAFT_ORIENTATION = (0.0,1.0,0.0)
^MEX_ORIENTATION_DESC = "MEX_ORIENTATION_DESC.TXT"
SPACECRAFT_POINTING_MODE = FIXED
^MEX_POINTING_DESC = "MEX_POINTING_DESC.TXT"
RIGHT_ASCENSION = -1e+32
DECLINATION = -1e+32
OFFSET_ANGLE = -1e+32
SPACECRAFT_SOLAR_DISTANCE = 2.19181e+08
TARGET_NAME = MARS
/* CAMERA DATA ELEMENTS */
DETECTOR_TEMPERATURE = 18.5744
FOCAL_PLANE_TEMPERATURE = 7.9716
INST_CMPRS_NAME = "DISCRETE COSINE TRANSFORMATION (DCT)"
INST_CMPRS_RATIO = 10.4947
INST_CMPRS_QUALITY = 0
INST_CMPRS_QUANTZ_TBL_ID = 0
INSTRUMENT_TEMPERATURE = 11.4379
LENS_TEMPERATURE = 8.3794
MACROPIXEL_SIZE = 2
MISSING_FRAMES = 0
PIXEL_SUBSAMPLING_FLAG = N
SIGNAL_CHAIN_ID = 0
/* RADIOMETRIC DATA ELEMENTS */
BANDWIDTH = 177.0
CENTER_FILTER_WAVELENGTH = 677.5
RADIANCE_OFFSET = 0.0
RADIANCE_SCALING_FACTOR = 0.0465024
REFLECTANCE_SCALING_FACTOR = 0.00118667
MEX:REFLECTANCE_OFFSET = 0.0
/* IMAGE OBJECT DEFINITIONS */
OBJECT = IMAGE
  INTERCHANGE_FORMAT = BINARY
  LINES = 13791
  LINE_SAMPLES = 10749
  SAMPLE_TYPE = UNSIGNED_INTEGER
  SAMPLE_BITS = 8
  BANDS = 1
  BAND_STORAGE_TYPE = BAND_SEQUENTIAL
  MAXIMUM = 255
  MEAN = 137.935
  MINIMUM = 28
  STANDARD_DEVIATION = 54.0547
END_OBJECT = IMAGE
/* MAP OBJECT DEFINITIONS */
OBJECT = IMAGE_MAP_PROJECTION
  ^DATA_SET_MAP_PROJECTION_CATALOG= "DSMAP.CAT"
  A_AXIS_RADIUS = 3396.0
  B_AXIS_RADIUS = 3396.0
  C_AXIS_RADIUS = 3396.0
  CENTER_LATITUDE = 54.9476
  CENTER_LONGITUDE = 60.8822
  COORDINATE_SYSTEM_NAME = PLANETOGRAPHIC
  COORDINATE_SYSTEM_TYPE = "BODY-FIXED ROTATING"
  EASTERNMOST_LONGITUDE = 192.475
  FIRST_STANDARD_PARALLEL = "N/A"
  LINE_FIRST_PIXEL = 1
  LINE_LAST_PIXEL = 13791
  LINE_PROJECTION_OFFSET = 6714.0
  MAP_PROJECTION_ROTATION = 0.0
  MAP_PROJECTION_TYPE = ORTHOGRAPHIC
  MAP_RESOLUTION = 148.178450966667
  MAP_SCALE = 0.4
  MAXIMUM_LATITUDE = 80.94540000000001
  MINIMUM_LATITUDE = -4.93981
  POSITIVE_LONGITUDE_DIRECTION = EAST
  REFERENCE_LATITUDE = "N/A"
  REFERENCE_LONGITUDE = "N/A"
  SAMPLE_FIRST_PIXEL = 1
  SAMPLE_LAST_PIXEL = 10749
  SAMPLE_PROJECTION_OFFSET = 4086.0
  SECOND_STANDARD_PARALLEL = "N/A"
  WESTERNMOST_LONGITUDE = 32.0347
END_OBJECT = IMAGE_MAP_PROJECTION
END
