PDS_VERSION_ID = PDS3
/* FILE DATA ELEMENTS */
RECORD_TYPE = UNDEFINED
/* POINTERS TO DATA OBJECTS */
^IMAGE = ("HM840_0000_ND4.TIF")
/* IDENTIFICATION DATA ELEMENTS */
DATA_SET_ID = "MEX-M-HRSC-4-REFDR-MAPPROJECT-EXT8-V4.0"
DATA_SET_NAME = "MARS EXPRESS HRSC MAP PROJECTED REFDR EXTENSION8 V4.0"
DETECTOR_ID = MEX_HRSC_NADIR
EVENT_TYPE = "MARS-TERMINATOR-CALIBRATION-Tc"
INSTRUMENT_HOST_ID = MEX
INSTRUMENT_HOST_NAME = "MARS EXPRESS"
INSTRUMENT_ID = HRSC
INSTRUMENT_NAME = "HIGH RESOLUTION STEREO CAMERA"
MISSION_NAME = "MARS EXPRESS"
MISSION_PHASE_NAME = ME_Phase_46
PROCESSING_LEVEL_ID = 4
PRODUCT_CREATION_TIME = 2023-01-28T19:10:30.000Z
PRODUCT_ID = "HM840_0000_ND4.TIF"
RELEASE_ID = 0003
REVISION_ID = 0000
/* QUALITY DATA ELEMENTS */
DATA_QUALITY_ID = 1
DATA_QUALITY_DESC = "Data calculated based on original SPICE kernels"
/* TIME DATA ELEMENTS */
SPACECRAFT_CLOCK_START_COUNT = "1/0591533088.25053"
SPACECRAFT_CLOCK_STOP_COUNT = "1/0591533638.23699"
START_TIME = 2022-01-29T10:47:20.561Z
STOP_TIME = 2022-01-29T10:52:38.586Z
/* ORBITAL DATA ELEMENTS */
ASCENDING_NODE_LONGITUDE = 148.15
MAXIMUM_RESOLUTION = 0.4731
FOOTPRINT_POINT_LATITUDE = (-21.2829,-21.3217,-20.9555,-21.2411, -20.9812,-22.3475,-20.0242,-16.5385, -13.916,-11.5631,-8.3226,-3.70725, -1.0695,2.97231,6.39054,9.36257,11.7179 ,15.0668,18.0474,20.5248,23.7842, 26.4784,29.3396,31.5153,34.1267,36.4087 ,39.9151,42.4271,44.3681,46.3967,49.529 ,51.8061,53.5083,56.0214,59.1718, 60.7834,62.436,64.3668,65.3718,65.6411, 65.5635,64.6439,63.4664,62.3267,60.4066 ,58.5528,56.8425,59.3894,60.6562, 62.5726,64.7738,65.4042,66.5687,67.6365 ,68.2884,69.5232,69.134,71.5163,74.7205 ,78.4655,80.8424,84.5456,86.9918, 86.0811,81.9622,79.0028,74.5054,71.3238 ,67.4475,61.6616,56.2919,53.9902, 50.5977,47.7476,45.3339,40.9985,38.2496 ,35.6824,32.3062,29.4388,25.9425, 22.6121,19.2763,17.053,12.7965,10.0507, 7.39005,3.04387,0.180487,-3.12644, -6.88381,-9.83193,-13.2947,-17.1577, -15.0349,-18.5047,-18.3987,-20.6858, -21.2829)
FOOTPRINT_POINT_LONGITUDE = (160.078,160.083,160.212,164.777, 169.383,172.485,174.244,174.25,174.295, 174.359,174.473,174.761,174.961,175.339 ,175.728,176.124,176.477,177.055, 177.651,178.208,179.041,179.826,180.773 ,181.581,182.663,183.731,185.625, 187.211,188.595,190.216,193.15,195.701, 197.901,201.759,208.081,212.323,217.878 ,227.509,236.798,242.406,251.871,262.59 ,269.725,274.667,280.912,285.56,289.041 ,293.805,300.035,304.656,313.488, 315.521,323.826,330.444,337.305,347.687 ,354.532,356.947,358.098,0.537214, 3.32276,13.5157,38.914,130.063,149.287, 153.563,156.589,157.655,158.365,158.752 ,158.693,158.584,158.355,158.108, 157.864,157.357,156.995,156.631,156.116 ,155.647,155.036,154.414,153.75,153.285 ,152.347,151.704,151.052,149.922, 149.126,148.153,146.965,145.958,144.69, 144.153,145.279,148.065,152.396,157.551 ,160.078)
ORBIT_NUMBER = 22840
ORBITAL_ECCENTRICITY = 0.575
ORBITAL_INCLINATION = 87.0
ORBITAL_SEMIMAJOR_AXIS = 8848.74
PERIAPSIS_ALTITUDE = 361.52
PERIAPSIS_ARGUMENT_ANGLE = 6.59
PERIAPSIS_TIME = 2022-01-29T09:37:02.000Z
SPACECRAFT_ORIENTATION = (0.0,1.0,0.0)
^MEX_ORIENTATION_DESC = "MEX_ORIENTATION_DESC.TXT"
SPACECRAFT_POINTING_MODE = FIXED
^MEX_POINTING_DESC = "MEX_POINTING_DESC.TXT"
RIGHT_ASCENSION = -1e+32
DECLINATION = -1e+32
OFFSET_ANGLE = -1e+32
SPACECRAFT_SOLAR_DISTANCE = 2.24347e+08
TARGET_NAME = MARS
/* CAMERA DATA ELEMENTS */
DETECTOR_TEMPERATURE = 18.3705
FOCAL_PLANE_TEMPERATURE = 7.9716
INST_CMPRS_NAME = "DISCRETE COSINE TRANSFORMATION (DCT)"
INST_CMPRS_RATIO = 9.87626
INST_CMPRS_QUALITY = 0
INST_CMPRS_QUANTZ_TBL_ID = 0
INSTRUMENT_TEMPERATURE = 10.8262
LENS_TEMPERATURE = 8.7872
MACROPIXEL_SIZE = 2
MISSING_FRAMES = 0
PIXEL_SUBSAMPLING_FLAG = N
SIGNAL_CHAIN_ID = 0
/* RADIOMETRIC DATA ELEMENTS */
BANDWIDTH = 177.0
CENTER_FILTER_WAVELENGTH = 677.5
RADIANCE_OFFSET = 0.0
RADIANCE_SCALING_FACTOR = 0.0366236
REFLECTANCE_SCALING_FACTOR = 0.000979151
MEX:REFLECTANCE_OFFSET = 0.0
/* IMAGE OBJECT DEFINITIONS */
OBJECT = IMAGE
  INTERCHANGE_FORMAT = BINARY
  LINES = 15573
  LINE_SAMPLES = 8094
  SAMPLE_TYPE = UNSIGNED_INTEGER
  SAMPLE_BITS = 8
  BANDS = 1
  BAND_STORAGE_TYPE = BAND_SEQUENTIAL
  MAXIMUM = 255
  MEAN = 127.164
  MINIMUM = 1
  STANDARD_DEVIATION = 51.3047
END_OBJECT = IMAGE
/* MAP OBJECT DEFINITIONS */
OBJECT = IMAGE_MAP_PROJECTION
  ^DATA_SET_MAP_PROJECTION_CATALOG= "DSMAP.CAT"
  A_AXIS_RADIUS = 3396.0
  B_AXIS_RADIUS = 3396.0
  C_AXIS_RADIUS = 3396.0
  CENTER_LATITUDE = 43.2214
  CENTER_LONGITUDE = 172.275
  COORDINATE_SYSTEM_NAME = PLANETOGRAPHIC
  COORDINATE_SYSTEM_TYPE = "BODY-FIXED ROTATING"
  EASTERNMOST_LONGITUDE = 360.0
  FIRST_STANDARD_PARALLEL = "N/A"
  LINE_FIRST_PIXEL = 1
  LINE_LAST_PIXEL = 15573
  LINE_PROJECTION_OFFSET = 7870.0
  MAP_PROJECTION_ROTATION = 0.0
  MAP_PROJECTION_TYPE = ORTHOGRAPHIC
  MAP_RESOLUTION = 148.178450966667
  MAP_SCALE = 0.4
  MAXIMUM_LATITUDE = 90.0
  MINIMUM_LATITUDE = -22.3475
  POSITIVE_LONGITUDE_DIRECTION = EAST
  REFERENCE_LATITUDE = "N/A"
  REFERENCE_LONGITUDE = "N/A"
  SAMPLE_FIRST_PIXEL = 1
  SAMPLE_LAST_PIXEL = 8094
  SAMPLE_PROJECTION_OFFSET = 3928.0
  SECOND_STANDARD_PARALLEL = "N/A"
  WESTERNMOST_LONGITUDE = 0.0
END_OBJECT = IMAGE_MAP_PROJECTION
END
