PDS_VERSION_ID = PDS3
/* FILE DATA ELEMENTS */
RECORD_TYPE = UNDEFINED
/* POINTERS TO DATA OBJECTS */
^IMAGE = ("HM825_0001_GR4.TIF")
/* IDENTIFICATION DATA ELEMENTS */
DATA_SET_ID = "MEX-M-HRSC-4-REFDR-MAPPROJECT-EXT8-V4.0"
DATA_SET_NAME = "MARS EXPRESS HRSC MAP PROJECTED REFDR EXTENSION8 V4.0"
DETECTOR_ID = MEX_HRSC_GREEN
EVENT_TYPE = "MARS-TERMINATOR-CALIBRATION-Tc"
INSTRUMENT_HOST_ID = MEX
INSTRUMENT_HOST_NAME = "MARS EXPRESS"
INSTRUMENT_ID = HRSC
INSTRUMENT_NAME = "HIGH RESOLUTION STEREO CAMERA"
MISSION_NAME = "MARS EXPRESS"
MISSION_PHASE_NAME = ME_Phase_46
PROCESSING_LEVEL_ID = 4
PRODUCT_CREATION_TIME = 2023-01-28T19:10:30.000Z
PRODUCT_ID = "HM825_0001_GR4.TIF"
RELEASE_ID = 0003
REVISION_ID = 0000
/* QUALITY DATA ELEMENTS */
DATA_QUALITY_ID = 1
DATA_QUALITY_DESC = "Data calculated based on original SPICE kernels"
/* TIME DATA ELEMENTS */
SPACECRAFT_CLOCK_START_COUNT = "1/0591160163.25659"
SPACECRAFT_CLOCK_STOP_COUNT = "1/0591160458.56459"
START_TIME = 2022-01-25T03:12:00.563Z
STOP_TIME = 2022-01-25T03:13:30.026Z
/* ORBITAL DATA ELEMENTS */
ASCENDING_NODE_LONGITUDE = 148.41
MAXIMUM_RESOLUTION = 0.7476
FOOTPRINT_POINT_LATITUDE = (24.4642,24.6093,24.6997,24.7853, 24.9424,25.0818,25.2048,25.311,25.4002, 25.4731,25.5032,25.529,25.5505,25.5672, 25.5792,25.5866,25.5892,25.5863,25.5778 ,25.5635,25.559,25.5666,23.4894,21.8526 ,20.2338,18.6302,17.0377,15.4533, 13.8742,12.2979,10.7213,9.14153,7.55549 ,5.96004,4.35383,2.7323,1.09164, -0.571942,-2.26064,-3.98467,-6.66519, -8.4582,-10.3449,-12.294,-14.3202, -16.4399,-16.9861,-17.0922,-16.7602, -16.5696,-16.4017,-16.2559,-16.1322, -16.0251,-15.9361,-15.8619,-15.8098, -15.7758,-15.7586,-15.7566,-15.7647, -15.7858,-15.8431,-15.9395,-16.0177, -16.1079,-16.2143,-16.3354,-16.4718, -16.6255,-16.8024,-16.9993,-17.0524, -17.068,-13.9858,-12.0471,-10.1903, -8.82506,-7.49035,-5.76943,-4.0744, -2.40228,-0.757532,0.864655,2.46588, 4.05016,5.62141,7.1811,8.73116,11.4331, 12.9763,14.522,16.0723,17.6298,19.1975, 20.7776,22.3749,23.9905,24.398,24.4642)
FOOTPRINT_POINT_LONGITUDE = (235.038,237.237,238.686,240.123,242.97 ,245.796,248.613,251.433,254.261, 257.116,258.556,260.009,261.474,262.955 ,264.453,265.972,267.515,269.083, 270.678,272.304,272.716,272.873,272.462 ,272.18,271.935,271.726,271.549,271.401 ,271.28,271.183,271.116,271.075,271.06, 271.07,271.102,271.16,271.246,271.362, 271.505,271.686,272.053,272.288,272.617 ,272.999,273.446,273.973,274.119, 274.147,271.613,269.975,268.377,266.817 ,265.291,263.794,262.321,260.868, 259.434,258.017,256.611,255.215,253.826 ,252.442,250.021,248.293,246.908, 245.519,244.122,242.718,241.302,239.871 ,238.418,236.944,236.571,236.437, 236.738,236.889,237.001,237.074,237.132 ,237.177,237.209,237.23,237.235,237.225 ,237.199,237.158,237.104,237.034, 236.945,236.747,236.613,236.459,236.29, 236.101,235.891,235.658,235.398,235.112 ,235.036,235.038)
ORBIT_NUMBER = 22825
ORBITAL_ECCENTRICITY = 0.575
ORBITAL_INCLINATION = 87.01
ORBITAL_SEMIMAJOR_AXIS = 8850.62
PERIAPSIS_ALTITUDE = 362.21
PERIAPSIS_ARGUMENT_ANGLE = 9.17
PERIAPSIS_TIME = 2022-01-25T00:52:34.000Z
SPACECRAFT_ORIENTATION = (0.0,1.0,0.0)
^MEX_ORIENTATION_DESC = "MEX_ORIENTATION_DESC.TXT"
SPACECRAFT_POINTING_MODE = FIXED
^MEX_POINTING_DESC = "MEX_POINTING_DESC.TXT"
RIGHT_ASCENSION = -1e+32
DECLINATION = -1e+32
OFFSET_ANGLE = -1e+32
SPACECRAFT_SOLAR_DISTANCE = 2.25199e+08
TARGET_NAME = MARS
/* CAMERA DATA ELEMENTS */
DETECTOR_TEMPERATURE = 20.8173
FOCAL_PLANE_TEMPERATURE = 8.7872
INST_CMPRS_NAME = "DISCRETE COSINE TRANSFORMATION (DCT)"
INST_CMPRS_RATIO = 6.91193
INST_CMPRS_QUALITY = 0
INST_CMPRS_QUANTZ_TBL_ID = 0
INSTRUMENT_TEMPERATURE = 15.5159
LENS_TEMPERATURE = 9.3989
MACROPIXEL_SIZE = 2
MISSING_FRAMES = 0
PIXEL_SUBSAMPLING_FLAG = N
SIGNAL_CHAIN_ID = 2
/* RADIOMETRIC DATA ELEMENTS */
BANDWIDTH = 88.0
CENTER_FILTER_WAVELENGTH = 538.0
RADIANCE_OFFSET = 0.96472
RADIANCE_SCALING_FACTOR = 0.0095992
REFLECTANCE_SCALING_FACTOR = 0.000419069
MEX:REFLECTANCE_OFFSET = 0.0421165
/* IMAGE OBJECT DEFINITIONS */
OBJECT = IMAGE
  INTERCHANGE_FORMAT = BINARY
  LINES = 3096
  LINE_SAMPLES = 2661
  SAMPLE_TYPE = UNSIGNED_INTEGER
  SAMPLE_BITS = 8
  BANDS = 1
  BAND_STORAGE_TYPE = BAND_SEQUENTIAL
  MAXIMUM = 255
  MEAN = 131.36
  MINIMUM = 1
  STANDARD_DEVIATION = 46.3865
END_OBJECT = IMAGE
/* MAP OBJECT DEFINITIONS */
OBJECT = IMAGE_MAP_PROJECTION
  ^DATA_SET_MAP_PROJECTION_CATALOG= "DSMAP.CAT"
  A_AXIS_RADIUS = 3396.0
  B_AXIS_RADIUS = 3396.0
  C_AXIS_RADIUS = 3396.0
  CENTER_LATITUDE = 5.66045
  CENTER_LONGITUDE = 253.785
  COORDINATE_SYSTEM_NAME = PLANETOGRAPHIC
  COORDINATE_SYSTEM_TYPE = "BODY-FIXED ROTATING"
  EASTERNMOST_LONGITUDE = 274.147
  FIRST_STANDARD_PARALLEL = "N/A"
  LINE_FIRST_PIXEL = 1
  LINE_LAST_PIXEL = 3096
  LINE_PROJECTION_OFFSET = 1452.0
  MAP_PROJECTION_ROTATION = 0.0
  MAP_PROJECTION_TYPE = ORTHOGRAPHIC
  MAP_RESOLUTION = 74.08922548333329
  MAP_SCALE = 0.8
  MAXIMUM_LATITUDE = 25.5892
  MINIMUM_LATITUDE = -17.0922
  POSITIVE_LONGITUDE_DIRECTION = EAST
  REFERENCE_LATITUDE = "N/A"
  REFERENCE_LONGITUDE = "N/A"
  SAMPLE_FIRST_PIXEL = 1
  SAMPLE_LAST_PIXEL = 2661
  SAMPLE_PROJECTION_OFFSET = 1236.0
  SECOND_STANDARD_PARALLEL = "N/A"
  WESTERNMOST_LONGITUDE = 235.036
END_OBJECT = IMAGE_MAP_PROJECTION
END
