PDS_VERSION_ID = PDS3
/* FILE DATA ELEMENTS */
RECORD_TYPE = UNDEFINED
/* POINTERS TO DATA OBJECTS */
^IMAGE = ("HM789_0000_P14.TIF")
/* IDENTIFICATION DATA ELEMENTS */
DATA_SET_ID = "MEX-M-HRSC-4-REFDR-MAPPROJECT-EXT8-V4.0"
DATA_SET_NAME = "MARS EXPRESS HRSC MAP PROJECTED REFDR EXTENSION8 V4.0"
DETECTOR_ID = MEX_HRSC_P1
EVENT_TYPE = "MARS-TERMINATOR-CALIBRATION-Tc"
INSTRUMENT_HOST_ID = MEX
INSTRUMENT_HOST_NAME = "MARS EXPRESS"
INSTRUMENT_ID = HRSC
INSTRUMENT_NAME = "HIGH RESOLUTION STEREO CAMERA"
MISSION_NAME = "MARS EXPRESS"
MISSION_PHASE_NAME = ME_Phase_46
PROCESSING_LEVEL_ID = 4
PRODUCT_CREATION_TIME = 2023-01-28T19:10:30.000Z
PRODUCT_ID = "HM789_0000_P14.TIF"
RELEASE_ID = 0003
REVISION_ID = 0000
/* QUALITY DATA ELEMENTS */
DATA_QUALITY_ID = 1
DATA_QUALITY_DESC = "Data calculated based on original SPICE kernels"
/* TIME DATA ELEMENTS */
SPACECRAFT_CLOCK_START_COUNT = "1/0590253859.25680"
SPACECRAFT_CLOCK_STOP_COUNT = "1/0590254364.22395"
START_TIME = 2022-01-14T15:25:37.499Z
STOP_TIME = 2022-01-14T15:29:36.555Z
/* ORBITAL DATA ELEMENTS */
ASCENDING_NODE_LONGITUDE = 149.06
MAXIMUM_RESOLUTION = 1.3673
FOOTPRINT_POINT_LATITUDE = (-56.4649,-52.9132,-51.1266,-50.3714, -50.3039,-50.9592,-52.8693,-54.5599, -55.7255,-56.4728,-53.4411,-51.5162, -44.9183,-40.4421,-37.2125,-34.5157, -32.1977,-28.2322,-24.8431,-21.8421, -19.0828,-16.5238,-14.1246,-11.855, -7.62243,-3.68147,0.0537697,3.6455, 7.13904,10.5732,13.9881,17.4127,20.8839 ,24.4368,28.1253,31.9824,36.0976, 38.2789,40.5627,42.9733,45.5406,48.3007 ,51.3136,54.6678,58.5185,60.7166, 63.1871,66.077,69.8597,73.6597,78.4969, 84.7016,84.6084,83.0317,82.4029,82.7812 ,82.7372,74.6138,69.9161,66.1592, 62.9371,60.3829,58.1499,56.1334,54.2797 ,50.9149,47.9008,45.1423,42.591,40.1949 ,37.922,35.7523,31.6565,27.811,24.1433, 20.6011,17.142,13.7297,10.3313,6.9161, 3.44706,-0.111193,-3.81202,-8.77198, -14.1898,-16.5179,-18.9731,-21.66, -24.5752,-27.8611,-31.6004,-33.7244, -36.1239,-38.8228,-42.1833,-47.3499, -52.0906,-54.7253,-57.1519,-56.4649)
FOOTPRINT_POINT_LONGITUDE = (319.488,324.264,329.034,333.38,337.676 ,342.212,347.577,350.346,351.731, 350.425,359.16,365.022,361.498,358.38, 356.533,355.187,354.159,352.628,351.514 ,350.658,349.956,349.374,348.885,348.47 ,347.816,347.333,346.98,346.735,346.586 ,346.535,346.554,346.681,346.911,347.26 ,347.771,348.462,349.433,350.058, 350.807,351.719,352.85,354.286,356.174, 358.79,362.728,365.618,369.683,376.136, 390.651,394.292,393.711,354.637,341.939 ,324.432,288.058,280.569,279.435,264.72 ,260.787,265.915,280.166,286.817, 291.181,294.381,296.869,300.586,303.263 ,305.314,306.935,308.265,309.383, 310.336,311.881,313.074,314.02,314.781, 315.396,315.891,316.282,316.583,316.791 ,316.911,316.93,316.766,316.393,316.173 ,315.895,315.504,315.002,314.309, 313.363,312.736,311.933,310.914,309.407 ,306.417,306.173,311.631,321.18, 319.488)
ORBIT_NUMBER = 22789
ORBITAL_ECCENTRICITY = 0.574
ORBITAL_INCLINATION = 87.02
ORBITAL_SEMIMAJOR_AXIS = 8836.03
PERIAPSIS_ALTITUDE = 366.68
PERIAPSIS_ARGUMENT_ANGLE = 15.39
PERIAPSIS_TIME = 2022-01-14T13:28:52.000Z
SPACECRAFT_ORIENTATION = (0.0,1.0,0.0)
^MEX_ORIENTATION_DESC = "MEX_ORIENTATION_DESC.TXT"
SPACECRAFT_POINTING_MODE = FIXED
^MEX_POINTING_DESC = "MEX_POINTING_DESC.TXT"
RIGHT_ASCENSION = -1e+32
DECLINATION = -1e+32
OFFSET_ANGLE = -1e+32
SPACECRAFT_SOLAR_DISTANCE = 2.27247e+08
TARGET_NAME = MARS
/* CAMERA DATA ELEMENTS */
DETECTOR_TEMPERATURE = 17.5549
FOCAL_PLANE_TEMPERATURE = 7.9716
INST_CMPRS_NAME = "DISCRETE COSINE TRANSFORMATION (DCT)"
INST_CMPRS_RATIO = 22.1844
INST_CMPRS_QUALITY = 0
INST_CMPRS_QUANTZ_TBL_ID = 0
INSTRUMENT_TEMPERATURE = 11.0301
LENS_TEMPERATURE = 8.3794
MACROPIXEL_SIZE = 4
MISSING_FRAMES = 1
PIXEL_SUBSAMPLING_FLAG = N
SIGNAL_CHAIN_ID = 3
/* RADIOMETRIC DATA ELEMENTS */
BANDWIDTH = 174.0
CENTER_FILTER_WAVELENGTH = 675.0
RADIANCE_OFFSET = 0.0
RADIANCE_SCALING_FACTOR = 0.037182
REFLECTANCE_SCALING_FACTOR = 0.00103265
MEX:REFLECTANCE_OFFSET = 0.0
/* IMAGE OBJECT DEFINITIONS */
OBJECT = IMAGE
  INTERCHANGE_FORMAT = BINARY
  LINES = 3938
  LINE_SAMPLES = 1627
  SAMPLE_TYPE = UNSIGNED_INTEGER
  SAMPLE_BITS = 8
  BANDS = 1
  BAND_STORAGE_TYPE = BAND_SEQUENTIAL
  MAXIMUM = 255
  MEAN = 133.502
  MINIMUM = 1
  STANDARD_DEVIATION = 36.3078
END_OBJECT = IMAGE
/* MAP OBJECT DEFINITIONS */
OBJECT = IMAGE_MAP_PROJECTION
  ^DATA_SET_MAP_PROJECTION_CATALOG= "DSMAP.CAT"
  A_AXIS_RADIUS = 3396.0
  B_AXIS_RADIUS = 3396.0
  C_AXIS_RADIUS = 3396.0
  CENTER_LATITUDE = 12.3436
  CENTER_LONGITUDE = 331.04
  COORDINATE_SYSTEM_NAME = PLANETOGRAPHIC
  COORDINATE_SYSTEM_TYPE = "BODY-FIXED ROTATING"
  EASTERNMOST_LONGITUDE = 34.292
  FIRST_STANDARD_PARALLEL = "N/A"
  LINE_FIRST_PIXEL = 1
  LINE_LAST_PIXEL = 3938
  LINE_PROJECTION_OFFSET = 2026.75
  MAP_PROJECTION_ROTATION = 0.0
  MAP_PROJECTION_TYPE = ORTHOGRAPHIC
  MAP_RESOLUTION = 37.0446127416667
  MAP_SCALE = 1.6
  MAXIMUM_LATITUDE = 84.7016
  MINIMUM_LATITUDE = -57.1519
  POSITIVE_LONGITUDE_DIRECTION = EAST
  REFERENCE_LATITUDE = "N/A"
  REFERENCE_LONGITUDE = "N/A"
  SAMPLE_FIRST_PIXEL = 1
  SAMPLE_LAST_PIXEL = 1627
  SAMPLE_PROJECTION_OFFSET = 814.75
  SECOND_STANDARD_PARALLEL = "N/A"
  WESTERNMOST_LONGITUDE = -99.21299999999999
END_OBJECT = IMAGE_MAP_PROJECTION
END
