PDS_VERSION_ID = PDS3
/* FILE DATA ELEMENTS */
RECORD_TYPE = UNDEFINED
/* POINTERS TO DATA OBJECTS */
^IMAGE = ("HM750_0000_RE4.TIF")
/* IDENTIFICATION DATA ELEMENTS */
DATA_SET_ID = "MEX-M-HRSC-4-REFDR-MAPPROJECT-EXT8-V4.0"
DATA_SET_NAME = "MARS EXPRESS HRSC MAP PROJECTED REFDR EXTENSION8 V4.0"
DETECTOR_ID = MEX_HRSC_RED
EVENT_TYPE = "MARS-TERMINATOR-CALIBRATION-Tc"
INSTRUMENT_HOST_ID = MEX
INSTRUMENT_HOST_NAME = "MARS EXPRESS"
INSTRUMENT_ID = HRSC
INSTRUMENT_NAME = "HIGH RESOLUTION STEREO CAMERA"
MISSION_NAME = "MARS EXPRESS"
MISSION_PHASE_NAME = ME_Phase_46
PROCESSING_LEVEL_ID = 4
PRODUCT_CREATION_TIME = 2023-01-28T19:10:30.000Z
PRODUCT_ID = "HM750_0000_RE4.TIF"
RELEASE_ID = 0003
REVISION_ID = 0000
/* QUALITY DATA ELEMENTS */
DATA_QUALITY_ID = 1
DATA_QUALITY_DESC = "Data calculated based on original SPICE kernels"
/* TIME DATA ELEMENTS */
SPACECRAFT_CLOCK_START_COUNT = "1/0589274907.25696"
SPACECRAFT_CLOCK_STOP_COUNT = "1/0589275391.21563"
START_TIME = 2022-01-03T07:33:04.497Z
STOP_TIME = 2022-01-03T07:36:42.467Z
/* ORBITAL DATA ELEMENTS */
ASCENDING_NODE_LONGITUDE = 149.77
MAXIMUM_RESOLUTION = 0.7647
FOOTPRINT_POINT_LATITUDE = (-67.9255,-67.9439,-66.713,-63.4823, -60.1695,-57.8925,-54.8919,-50.4868, -48.1206,-47.1722,-45.8152,-43.4796, -41.7839,-39.0043,-36.3347,-33.3418, -31.3235,-28.1246,-25.3752,-21.0941, -17.4818,-15.1484,-11.6115,-8.02805, -2.30342,2.06231,7.3582,10.7078,13.5913 ,17.8811,23.534,27.2381,30.5072,35.5155 ,38.5938,41.7145,44.3645,47.6253, 50.4494,54.4781,59.7669,64.4204,69.0538 ,69.1015,68.7442,67.4675,65.2979,65.229 ,62.6175,57.7083,54.4369,51.4631, 47.0625,43.8688,41.9271,39.1204,35.5249 ,33.1598,30.1002,27.0186,23.544,20.5458 ,18.2844,14.3268,10.487,7.71373,4.61085 ,0.0664038,-4.25297,-7.02906,-11.2509, -14.8086,-17.4506,-21.7515,-26.3969, -29.8846,-32.8043,-36.716,-40.4931, -42.9782,-46.41,-49.8254,-53.0585, -55.7393,-60.0188,-62.9377,-66.6617, -71.369,-74.1297,-75.1975,-76.5654, -74.5768,-70.6348,-75.2566,-72.1522, -74.8349,-73.3249,-72.4541,-69.884, -67.9255)
FOOTPRINT_POINT_LONGITUDE = (401.326,401.476,402.805,407.301,407.64 ,409.658,413.742,417.049,414.796, 410.828,406.194,400.138,396.655,391.914 ,388.163,384.597,382.501,379.532, 377.275,374.215,371.965,370.638,368.804 ,367.128,364.762,363.181,361.478, 360.516,359.755,358.708,357.506,356.824 ,356.284,355.591,355.24,354.947,354.752 ,354.591,354.53,354.598,355.052,355.961 ,354.465,345.548,336.372,321.522, 309.995,307.307,302.853,296.599,292.543 ,288.976,285.227,288.025,292.876,298.35 ,303.84,306.813,310.169,313.098,315.98, 318.183,319.7,322.098,324.171,325.533, 326.947,328.828,330.423,331.343,332.653 ,333.669,334.36,335.389,336.37,337.023, 337.508,338.075,338.529,338.762,339.023 ,339.156,339.173,339.082,338.694,338.19 ,337.165,334.829,332.566,342.642, 358.101,367.29,359.961,369.816,359.997, 370.642,378.137,389.719,396.632, 401.326)
ORBIT_NUMBER = 22750
ORBITAL_ECCENTRICITY = 0.574
ORBITAL_INCLINATION = 87.02
ORBITAL_SEMIMAJOR_AXIS = 8833.31
PERIAPSIS_ALTITUDE = 370.59
PERIAPSIS_ARGUMENT_ANGLE = 22.12
PERIAPSIS_TIME = 2022-01-03T05:08:42.000Z
SPACECRAFT_ORIENTATION = (0.0,1.0,0.0)
^MEX_ORIENTATION_DESC = "MEX_ORIENTATION_DESC.TXT"
SPACECRAFT_POINTING_MODE = FIXED
^MEX_POINTING_DESC = "MEX_POINTING_DESC.TXT"
RIGHT_ASCENSION = -1e+32
DECLINATION = -1e+32
OFFSET_ANGLE = -1e+32
SPACECRAFT_SOLAR_DISTANCE = 2.2945e+08
TARGET_NAME = MARS
/* CAMERA DATA ELEMENTS */
DETECTOR_TEMPERATURE = 18.5744
FOCAL_PLANE_TEMPERATURE = 8.1755
INST_CMPRS_NAME = "DISCRETE COSINE TRANSFORMATION (DCT)"
INST_CMPRS_RATIO = 10.3217
INST_CMPRS_QUALITY = 0
INST_CMPRS_QUANTZ_TBL_ID = 0
INSTRUMENT_TEMPERATURE = 11.4379
LENS_TEMPERATURE = 8.3794
MACROPIXEL_SIZE = 2
MISSING_FRAMES = 0
PIXEL_SUBSAMPLING_FLAG = N
SIGNAL_CHAIN_ID = 1
/* RADIOMETRIC DATA ELEMENTS */
BANDWIDTH = 48.0
CENTER_FILTER_WAVELENGTH = 748.0
RADIANCE_OFFSET = 0.0
RADIANCE_SCALING_FACTOR = 0.0120378
REFLECTANCE_SCALING_FACTOR = 0.00144603
MEX:REFLECTANCE_OFFSET = 0.0
/* IMAGE OBJECT DEFINITIONS */
OBJECT = IMAGE
  INTERCHANGE_FORMAT = BINARY
  LINES = 8132
  LINE_SAMPLES = 5399
  SAMPLE_TYPE = UNSIGNED_INTEGER
  SAMPLE_BITS = 8
  BANDS = 1
  BAND_STORAGE_TYPE = BAND_SEQUENTIAL
  MAXIMUM = 255
  MEAN = 107.657
  MINIMUM = 1
  STANDARD_DEVIATION = 34.5727
END_OBJECT = IMAGE
/* MAP OBJECT DEFINITIONS */
OBJECT = IMAGE_MAP_PROJECTION
  ^DATA_SET_MAP_PROJECTION_CATALOG= "DSMAP.CAT"
  A_AXIS_RADIUS = 3396.0
  B_AXIS_RADIUS = 3396.0
  C_AXIS_RADIUS = 3396.0
  CENTER_LATITUDE = -2.66542
  CENTER_LONGITUDE = 348.401
  COORDINATE_SYSTEM_NAME = PLANETOGRAPHIC
  COORDINATE_SYSTEM_TYPE = "BODY-FIXED ROTATING"
  EASTERNMOST_LONGITUDE = 57.049
  FIRST_STANDARD_PARALLEL = "N/A"
  LINE_FIRST_PIXEL = 1
  LINE_LAST_PIXEL = 8132
  LINE_PROJECTION_OFFSET = 4068.0
  MAP_PROJECTION_ROTATION = 0.0
  MAP_PROJECTION_TYPE = ORTHOGRAPHIC
  MAP_RESOLUTION = 74.08922548333329
  MAP_SCALE = 0.8
  MAXIMUM_LATITUDE = 69.1015
  MINIMUM_LATITUDE = -76.5654
  POSITIVE_LONGITUDE_DIRECTION = EAST
  REFERENCE_LATITUDE = "N/A"
  REFERENCE_LONGITUDE = "N/A"
  SAMPLE_FIRST_PIXEL = 1
  SAMPLE_LAST_PIXEL = 5399
  SAMPLE_PROJECTION_OFFSET = 2704.0
  SECOND_STANDARD_PARALLEL = "N/A"
  WESTERNMOST_LONGITUDE = -74.773
END_OBJECT = IMAGE_MAP_PROJECTION
END
