PDS_VERSION_ID = PDS3
/* FILE DATA ELEMENTS */
RECORD_TYPE = UNDEFINED
/* POINTERS TO DATA OBJECTS */
^IMAGE = ("HM736_0000_GR4.TIF")
/* IDENTIFICATION DATA ELEMENTS */
DATA_SET_ID = "MEX-M-HRSC-4-REFDR-MAPPROJECT-EXT8-V4.0"
DATA_SET_NAME = "MARS EXPRESS HRSC MAP PROJECTED REFDR EXTENSION8 V4.0"
DETECTOR_ID = MEX_HRSC_GREEN
EVENT_TYPE = "MARS-TERMINATOR-CALIBRATION-Tc"
INSTRUMENT_HOST_ID = MEX
INSTRUMENT_HOST_NAME = "MARS EXPRESS"
INSTRUMENT_ID = HRSC
INSTRUMENT_NAME = "HIGH RESOLUTION STEREO CAMERA"
MISSION_NAME = "MARS EXPRESS"
MISSION_PHASE_NAME = ME_Phase_45
PROCESSING_LEVEL_ID = 4
PRODUCT_CREATION_TIME = 2023-01-28T19:10:30.000Z
PRODUCT_ID = "HM736_0000_GR4.TIF"
RELEASE_ID = 0003
REVISION_ID = 0000
/* QUALITY DATA ELEMENTS */
DATA_QUALITY_ID = 1
DATA_QUALITY_DESC = "Data calculated based on original SPICE kernels"
/* TIME DATA ELEMENTS */
SPACECRAFT_CLOCK_START_COUNT = "1/0588921639.25690"
SPACECRAFT_CLOCK_STOP_COUNT = "1/0588922099.23876"
START_TIME = 2021-12-30T05:22:41.492Z
STOP_TIME = 2021-12-30T05:26:37.483Z
/* ORBITAL DATA ELEMENTS */
ASCENDING_NODE_LONGITUDE = 150.02
MAXIMUM_RESOLUTION = 0.6931
FOOTPRINT_POINT_LATITUDE = (-65.115,-65.1392,-65.8046,-64.0469, -60.2764,-57.3634,-53.9527,-51.2111, -48.9286,-47.13,-44.822,-42.1343, -38.4858,-34.9398,-32.259,-28.1913, -25.3745,-20.9732,-17.8689,-15.5327, -12.3264,-9.89155,-6.37034,-1.3835, 2.34371,5.33813,9.69233,13.2059,18.293, 23.4225,29.2796,33.1293,36.5228,41.7989 ,46.7491,51.024,53.7489,57.7936,63.4166 ,66.2775,71.293,75.2691,74.005,74.4075, 73.3936,70.9431,70.6493,68.695,65.6038, 63.6123,60.0748,55.4968,51.8224,48.9452 ,47.1677,45.0639,41.872,38.6645,36.7711 ,33.6624,30.8736,28.7219,25.8872, 23.5727,19.7889,16.3299,12.6415,8.8664, 4.56523,-0.507263,-3.83301,-8.36051, -13.1846,-17.0441,-19.6458,-24.3401, -28.4723,-31.3253,-36.1328,-39.8389, -45.028,-48.9909,-52.5487,-55.2785, -58.8133,-61.4062,-64.6071,-68.9259, -67.7169,-69.6768,-69.0184,-67.3779, -60.5147,-67.5781,-61.0556,-66.1603, -62.0454,-65.7127,-66.8619,-65.115)
FOOTPRINT_POINT_LONGITUDE = (378.671,378.76,359.96,380.393,386.861, 391.965,397.768,400.395,402.577,398.721 ,393.668,388.944,383.866,379.889,377.32 ,373.973,371.949,369.191,367.478, 366.293,364.812,363.773,362.395,360.662 ,359.517,358.677,357.583,356.81,355.811 ,354.993,354.272,353.924,353.72,353.583 ,353.703,354.052,354.428,355.267, 357.246,358.807,359.959,357.733,342.114 ,330.168,313.921,304.268,301.528, 295.174,292.301,286.807,283.524,279.144 ,279.284,285.939,290.629,295.073, 300.408,304.695,306.855,309.987,312.433 ,314.126,316.145,317.642,319.841, 321.622,323.318,324.873,326.454,328.076 ,329.02,330.15,331.21,331.942,332.378, 333.058,333.537,333.797,334.098,334.208 ,334.147,333.871,333.471,332.999, 332.126,331.245,329.8,333.006,339.224, 344.883,353.628,364.9,359.963,366.589, 359.988,367.328,359.966,376.345,359.96, 378.671)
ORBIT_NUMBER = 22736
ORBITAL_ECCENTRICITY = 0.574
ORBITAL_INCLINATION = 87.02
ORBITAL_SEMIMAJOR_AXIS = 8827.67
PERIAPSIS_ALTITUDE = 372.22
PERIAPSIS_ARGUMENT_ANGLE = 24.53
PERIAPSIS_TIME = 2021-12-30T03:22:45.000Z
SPACECRAFT_ORIENTATION = (0.0,1.0,0.0)
^MEX_ORIENTATION_DESC = "MEX_ORIENTATION_DESC.TXT"
SPACECRAFT_POINTING_MODE = FIXED
^MEX_POINTING_DESC = "MEX_POINTING_DESC.TXT"
RIGHT_ASCENSION = -1e+32
DECLINATION = -1e+32
OFFSET_ANGLE = -1e+32
SPACECRAFT_SOLAR_DISTANCE = 2.30234e+08
TARGET_NAME = MARS
/* CAMERA DATA ELEMENTS */
DETECTOR_TEMPERATURE = 18.9822
FOCAL_PLANE_TEMPERATURE = 8.3794
INST_CMPRS_NAME = "DISCRETE COSINE TRANSFORMATION (DCT)"
INST_CMPRS_RATIO = 7.45699
INST_CMPRS_QUALITY = 0
INST_CMPRS_QUANTZ_TBL_ID = 0
INSTRUMENT_TEMPERATURE = 11.234
LENS_TEMPERATURE = 8.5833
MACROPIXEL_SIZE = 2
MISSING_FRAMES = 0
PIXEL_SUBSAMPLING_FLAG = N
SIGNAL_CHAIN_ID = 2
/* RADIOMETRIC DATA ELEMENTS */
BANDWIDTH = 88.0
CENTER_FILTER_WAVELENGTH = 538.0
RADIANCE_OFFSET = 0.0
RADIANCE_SCALING_FACTOR = 0.0160229
REFLECTANCE_SCALING_FACTOR = 0.000731155
MEX:REFLECTANCE_OFFSET = 0.0
/* IMAGE OBJECT DEFINITIONS */
OBJECT = IMAGE
  INTERCHANGE_FORMAT = BINARY
  LINES = 8066
  LINE_SAMPLES = 4848
  SAMPLE_TYPE = UNSIGNED_INTEGER
  SAMPLE_BITS = 8
  BANDS = 1
  BAND_STORAGE_TYPE = BAND_SEQUENTIAL
  MAXIMUM = 255
  MEAN = 131.286
  MINIMUM = 19
  STANDARD_DEVIATION = 32.1654
END_OBJECT = IMAGE
/* MAP OBJECT DEFINITIONS */
OBJECT = IMAGE_MAP_PROJECTION
  ^DATA_SET_MAP_PROJECTION_CATALOG= "DSMAP.CAT"
  A_AXIS_RADIUS = 3396.0
  B_AXIS_RADIUS = 3396.0
  C_AXIS_RADIUS = 3396.0
  CENTER_LATITUDE = 2.54849
  CENTER_LONGITUDE = 343.135
  COORDINATE_SYSTEM_NAME = PLANETOGRAPHIC
  COORDINATE_SYSTEM_TYPE = "BODY-FIXED ROTATING"
  EASTERNMOST_LONGITUDE = 42.577
  FIRST_STANDARD_PARALLEL = "N/A"
  LINE_FIRST_PIXEL = 1
  LINE_LAST_PIXEL = 8066
  LINE_PROJECTION_OFFSET = 4040.0
  MAP_PROJECTION_ROTATION = 0.0
  MAP_PROJECTION_TYPE = ORTHOGRAPHIC
  MAP_RESOLUTION = 74.08922548333329
  MAP_SCALE = 0.8
  MAXIMUM_LATITUDE = 75.26909999999999
  MINIMUM_LATITUDE = -69.6768
  POSITIVE_LONGITUDE_DIRECTION = EAST
  REFERENCE_LATITUDE = "N/A"
  REFERENCE_LONGITUDE = "N/A"
  SAMPLE_FIRST_PIXEL = 1
  SAMPLE_LAST_PIXEL = 4848
  SAMPLE_PROJECTION_OFFSET = 2432.0
  SECOND_STANDARD_PARALLEL = "N/A"
  WESTERNMOST_LONGITUDE = -80.85599999999999
END_OBJECT = IMAGE_MAP_PROJECTION
END
