PDS_VERSION_ID = PDS3
/* FILE DATA ELEMENTS */
RECORD_TYPE = UNDEFINED
/* POINTERS TO DATA OBJECTS */
^IMAGE = ("HM731_0000_RE4.TIF")
/* IDENTIFICATION DATA ELEMENTS */
DATA_SET_ID = "MEX-M-HRSC-4-REFDR-MAPPROJECT-EXT8-V4.0"
DATA_SET_NAME = "MARS EXPRESS HRSC MAP PROJECTED REFDR EXTENSION8 V4.0"
DETECTOR_ID = MEX_HRSC_RED
EVENT_TYPE = "MARS-TERMINATOR-CALIBRATION-Tc"
INSTRUMENT_HOST_ID = MEX
INSTRUMENT_HOST_NAME = "MARS EXPRESS"
INSTRUMENT_ID = HRSC
INSTRUMENT_NAME = "HIGH RESOLUTION STEREO CAMERA"
MISSION_NAME = "MARS EXPRESS"
MISSION_PHASE_NAME = ME_Phase_45
PROCESSING_LEVEL_ID = 4
PRODUCT_CREATION_TIME = 2023-01-28T19:10:30.000Z
PRODUCT_ID = "HM731_0000_RE4.TIF"
RELEASE_ID = 0003
REVISION_ID = 0000
/* QUALITY DATA ELEMENTS */
DATA_QUALITY_ID = 1
DATA_QUALITY_DESC = "Data calculated based on original SPICE kernels"
/* TIME DATA ELEMENTS */
SPACECRAFT_CLOCK_START_COUNT = "1/0588797450.23981"
SPACECRAFT_CLOCK_STOP_COUNT = "1/0588797890.24641"
START_TIME = 2021-12-28T18:55:06.433Z
STOP_TIME = 2021-12-28T18:58:42.421Z
/* ORBITAL DATA ELEMENTS */
ASCENDING_NODE_LONGITUDE = 150.11
MAXIMUM_RESOLUTION = 0.7711
FOOTPRINT_POINT_LATITUDE = (-64.7982,-64.8021,-65.5943,-61.2188, -57.6081,-55.0703,-51.6352,-47.2893, -44.158,-43.513,-42.2579,-40.8648, -39.4508,-37.0151,-34.4929,-32.2247, -28.1966,-24.5345,-21.0758,-18.8028, -15.5492,-11.1877,-7.77141,-3.12056, 0.0484591,2.5963,5.77817,10.6655,13.807 ,18.7533,21.6296,24.9657,28.6843, 31.8448,37.4047,41.2157,43.7859,48.1054 ,54.1215,59.4226,63.186,66.7075,64.4442 ,63.5802,63.8961,61.5413,60.0029, 58.6548,57.6127,56.0369,51.7961,48.206, 45.7878,43.1683,42.0457,39.0874,36.7002 ,35.2064,33.734,31.1241,29.1436,27.3601 ,24.6365,22.5429,19.8365,16.9732, 15.0272,12.5803,9.20462,7.03696,3.98338 ,1.4935,-2.35148,-6.64098,-10.4244, -15.2867,-18.1615,-20.437,-24.0131, -26.9286,-31.1817,-36.5593,-40.8146, -44.1041,-48.037,-50.8643,-53.953, -57.3343,-62.2432,-65.7875,-69.9176, -72.4138,-76.5145,-79.5228,-78.9794, -76.4088,-73.1541,-69.9672,-67.0821, -64.7982)
FOOTPRINT_POINT_LONGITUDE = (196.071,196.23,194.972,197.229,197.936 ,198.298,198.9,199.863,202.737,198.176, 191.174,185.96,181.832,176.184,171.516, 167.975,162.744,158.812,155.581,153.679 ,151.197,148.231,146.163,143.606, 142.011,140.801,139.383,137.359,136.149 ,134.372,133.403,132.32,131.167,130.226 ,128.645,127.603,126.916,125.781, 124.217,122.827,121.81,116.882,114.773, 108.684,101.548,96.627,89.2674,84.9585, 84.0103,80.8519,75.0776,73.7126,68.7161 ,69.9731,65.8236,67.0196,65.5518, 69.2255,72.3234,76.9827,80.0111,82.4383 ,85.7521,88.0305,90.7064,93.2679, 94.8754,96.7646,99.1698,100.606,102.502 ,103.952,106.043,108.201,109.962, 112.068,113.239,114.133,115.48,116.535, 118.009,119.781,121.132,122.152,123.354 ,124.201,125.133,126.175,127.729, 128.903,130.429,131.494,133.662,135.836 ,161.091,167.122,179.382,190.673, 193.494,196.071)
ORBIT_NUMBER = 22731
ORBITAL_ECCENTRICITY = 0.573
ORBITAL_INCLINATION = 87.02
ORBITAL_SEMIMAJOR_AXIS = 8827.92
PERIAPSIS_ALTITUDE = 373.18
PERIAPSIS_ARGUMENT_ANGLE = 25.38
PERIAPSIS_TIME = 2021-12-28T16:27:45.000Z
SPACECRAFT_ORIENTATION = (0.0,1.0,0.0)
^MEX_ORIENTATION_DESC = "MEX_ORIENTATION_DESC.TXT"
SPACECRAFT_POINTING_MODE = FIXED
^MEX_POINTING_DESC = "MEX_POINTING_DESC.TXT"
RIGHT_ASCENSION = -1e+32
DECLINATION = -1e+32
OFFSET_ANGLE = -1e+32
SPACECRAFT_SOLAR_DISTANCE = 2.30512e+08
TARGET_NAME = MARS
/* CAMERA DATA ELEMENTS */
DETECTOR_TEMPERATURE = 17.9627
FOCAL_PLANE_TEMPERATURE = 8.1755
INST_CMPRS_NAME = "DISCRETE COSINE TRANSFORMATION (DCT)"
INST_CMPRS_RATIO = 9.60731
INST_CMPRS_QUALITY = 0
INST_CMPRS_QUANTZ_TBL_ID = 0
INSTRUMENT_TEMPERATURE = 11.0301
LENS_TEMPERATURE = 8.3794
MACROPIXEL_SIZE = 2
MISSING_FRAMES = 0
PIXEL_SUBSAMPLING_FLAG = N
SIGNAL_CHAIN_ID = 1
/* RADIOMETRIC DATA ELEMENTS */
BANDWIDTH = 48.0
CENTER_FILTER_WAVELENGTH = 748.0
RADIANCE_OFFSET = 0.0
RADIANCE_SCALING_FACTOR = 0.0118545
REFLECTANCE_SCALING_FACTOR = 0.00143722
MEX:REFLECTANCE_OFFSET = 0.0
/* IMAGE OBJECT DEFINITIONS */
OBJECT = IMAGE
  INTERCHANGE_FORMAT = BINARY
  LINES = 8155
  LINE_SAMPLES = 6056
  SAMPLE_TYPE = UNSIGNED_INTEGER
  SAMPLE_BITS = 8
  BANDS = 1
  BAND_STORAGE_TYPE = BAND_SEQUENTIAL
  MAXIMUM = 255
  MEAN = 132.844
  MINIMUM = 1
  STANDARD_DEVIATION = 43.94
END_OBJECT = IMAGE
/* MAP OBJECT DEFINITIONS */
OBJECT = IMAGE_MAP_PROJECTION
  ^DATA_SET_MAP_PROJECTION_CATALOG= "DSMAP.CAT"
  A_AXIS_RADIUS = 3396.0
  B_AXIS_RADIUS = 3396.0
  C_AXIS_RADIUS = 3396.0
  CENTER_LATITUDE = -6.84999
  CENTER_LONGITUDE = 128.156
  COORDINATE_SYSTEM_NAME = PLANETOGRAPHIC
  COORDINATE_SYSTEM_TYPE = "BODY-FIXED ROTATING"
  EASTERNMOST_LONGITUDE = 202.737
  FIRST_STANDARD_PARALLEL = "N/A"
  LINE_FIRST_PIXEL = 1
  LINE_LAST_PIXEL = 8155
  LINE_PROJECTION_OFFSET = 4080.0
  MAP_PROJECTION_ROTATION = 0.0
  MAP_PROJECTION_TYPE = ORTHOGRAPHIC
  MAP_RESOLUTION = 74.08922548333329
  MAP_SCALE = 0.8
  MAXIMUM_LATITUDE = 66.7075
  MINIMUM_LATITUDE = -79.5228
  POSITIVE_LONGITUDE_DIRECTION = EAST
  REFERENCE_LATITUDE = "N/A"
  REFERENCE_LONGITUDE = "N/A"
  SAMPLE_FIRST_PIXEL = 1
  SAMPLE_LAST_PIXEL = 6056
  SAMPLE_PROJECTION_OFFSET = 3033.0
  SECOND_STANDARD_PARALLEL = "N/A"
  WESTERNMOST_LONGITUDE = 65.5518
END_OBJECT = IMAGE_MAP_PROJECTION
END
