PDS_VERSION_ID = PDS3
/* FILE DATA ELEMENTS */
RECORD_TYPE = UNDEFINED
/* POINTERS TO DATA OBJECTS */
^IMAGE = ("HM720_0000_GR4.TIF")
/* IDENTIFICATION DATA ELEMENTS */
DATA_SET_ID = "MEX-M-HRSC-4-REFDR-MAPPROJECT-EXT8-V4.0"
DATA_SET_NAME = "MARS EXPRESS HRSC MAP PROJECTED REFDR EXTENSION8 V4.0"
DETECTOR_ID = MEX_HRSC_GREEN
EVENT_TYPE = "MARS-TERMINATOR-CALIBRATION-Tc"
INSTRUMENT_HOST_ID = MEX
INSTRUMENT_HOST_NAME = "MARS EXPRESS"
INSTRUMENT_ID = HRSC
INSTRUMENT_NAME = "HIGH RESOLUTION STEREO CAMERA"
MISSION_NAME = "MARS EXPRESS"
MISSION_PHASE_NAME = ME_Phase_45
PROCESSING_LEVEL_ID = 4
PRODUCT_CREATION_TIME = 2023-01-28T19:10:30.000Z
PRODUCT_ID = "HM720_0000_GR4.TIF"
RELEASE_ID = 0003
REVISION_ID = 0000
/* QUALITY DATA ELEMENTS */
DATA_QUALITY_ID = 1
DATA_QUALITY_DESC = "Data calculated based on original SPICE kernels"
/* TIME DATA ELEMENTS */
SPACECRAFT_CLOCK_START_COUNT = "1/0588520066.24020"
SPACECRAFT_CLOCK_STOP_COUNT = "1/0588520516.24912"
START_TIME = 2021-12-25T13:49:48.437Z
STOP_TIME = 2021-12-25T13:53:35.419Z
/* ORBITAL DATA ELEMENTS */
ASCENDING_NODE_LONGITUDE = 150.31
MAXIMUM_RESOLUTION = 0.7272
FOOTPRINT_POINT_LATITUDE = (-66.9374,-64.338,-62.072,-60.5974, -60.7274,-53.3411,-48.7334,-45.2169, -41.8313,-39.3769,-37.5485,-35.9332, -34.457,-33.0814,-30.5347,-28.2227, -26.0495,-23.9861,-22.0255,-20.122, -18.298,-14.7813,-11.4303,-8.17498, -4.96163,-1.79309,1.37395,4.56956, 8.66474,12.0484,15.5547,19.2655,23.2427 ,27.5915,29.9559,32.4824,35.2166, 38.2138,41.5796,45.4838,47.735,50.2815, 53.2679,57.0342,62.7834,66.5714,66.3635 ,64.0956,64.71,61.5341,57.5168,54.6999, 52.7503,51.5775,51.6425,52.0756,52.46, 46.885,42.5479,39.4978,35.8297,33.3699, 31.355,29.5816,27.9676,25.0405,22.4011, 20.0084,17.7857,15.683,13.6821,9.8907, 6.31138,2.88494,-0.436125,-3.69028, -6.12325,-9.33784,-12.5761,-15.8602, -19.2335,-22.7408,-26.4105,-30.3616, -34.6333,-36.9568,-39.4153,-42.0539, -44.9141,-48.15,-51.8548,-56.2662, -58.9733,-62.2186,-66.4669,-76.2175, -73.5493,-71.9276,-66.4808,-66.9374)
FOOTPRINT_POINT_LONGITUDE = (227.532,225.275,227.258,233.527, 235.965,238.751,241.378,243.298,239.416 ,231.18,226.716,223.399,220.736,218.499 ,214.831,211.943,209.502,207.385, 205.541,203.877,202.382,199.745,197.491 ,195.498,193.685,192.022,190.48,189.031 ,187.309,185.999,184.706,183.433, 182.155,180.85,180.177,179.484,178.762, 177.999,177.18,176.276,175.775,175.226, 174.605,173.861,172.809,166.799,157.131 ,145.457,141.143,142.705,141.544, 138.317,134.134,128.614,122.057,119.772 ,118.277,115.441,115.861,114.008, 121.508,125.961,129.08,131.53,133.568, 136.902,139.586,141.777,143.646,145.294 ,146.761,149.331,151.544,153.496, 155.254,156.863,158.002,159.437,160.792 ,162.107,163.383,164.655,165.919, 167.205,168.538,169.246,169.976,170.748 ,171.58,172.487,173.521,174.772,175.541 ,176.494,177.834,181.827,194.243, 208.672,225.801,227.532)
ORBIT_NUMBER = 22720
ORBITAL_ECCENTRICITY = 0.574
ORBITAL_INCLINATION = 87.02
ORBITAL_SEMIMAJOR_AXIS = 8830.97
PERIAPSIS_ALTITUDE = 373.79
PERIAPSIS_ARGUMENT_ANGLE = 27.32
PERIAPSIS_TIME = 2021-12-25T11:39:00.000Z
SPACECRAFT_ORIENTATION = (0.0,1.0,0.0)
^MEX_ORIENTATION_DESC = "MEX_ORIENTATION_DESC.TXT"
SPACECRAFT_POINTING_MODE = FIXED
^MEX_POINTING_DESC = "MEX_POINTING_DESC.TXT"
RIGHT_ASCENSION = -1e+32
DECLINATION = -1e+32
OFFSET_ANGLE = -1e+32
SPACECRAFT_SOLAR_DISTANCE = 2.31122e+08
TARGET_NAME = MARS
/* CAMERA DATA ELEMENTS */
DETECTOR_TEMPERATURE = 18.3705
FOCAL_PLANE_TEMPERATURE = 8.5833
INST_CMPRS_NAME = "DISCRETE COSINE TRANSFORMATION (DCT)"
INST_CMPRS_RATIO = 7.29501
INST_CMPRS_QUALITY = 0
INST_CMPRS_QUANTZ_TBL_ID = 0
INSTRUMENT_TEMPERATURE = 11.234
LENS_TEMPERATURE = 8.5833
MACROPIXEL_SIZE = 2
PIXEL_SUBSAMPLING_FLAG = N
SIGNAL_CHAIN_ID = 2
/* RADIOMETRIC DATA ELEMENTS */
BANDWIDTH = 88.0
CENTER_FILTER_WAVELENGTH = 538.0
RADIANCE_OFFSET = 0.0
RADIANCE_SCALING_FACTOR = 0.0146091
REFLECTANCE_SCALING_FACTOR = 0.000671787
MEX:REFLECTANCE_OFFSET = 0.0
/* IMAGE OBJECT DEFINITIONS */
OBJECT = IMAGE
  INTERCHANGE_FORMAT = BINARY
  LINES = 8128
  LINE_SAMPLES = 5867
  SAMPLE_TYPE = UNSIGNED_INTEGER
  SAMPLE_BITS = 8
  BANDS = 1
  BAND_STORAGE_TYPE = BAND_SEQUENTIAL
  MAXIMUM = 255
  MEAN = 157.255
  MINIMUM = 18
  STANDARD_DEVIATION = 26.8398
END_OBJECT = IMAGE
/* MAP OBJECT DEFINITIONS */
OBJECT = IMAGE_MAP_PROJECTION
  ^DATA_SET_MAP_PROJECTION_CATALOG= "DSMAP.CAT"
  A_AXIS_RADIUS = 3396.0
  B_AXIS_RADIUS = 3396.0
  C_AXIS_RADIUS = 3396.0
  CENTER_LATITUDE = -4.2265
  CENTER_LONGITUDE = 174.813
  COORDINATE_SYSTEM_NAME = PLANETOGRAPHIC
  COORDINATE_SYSTEM_TYPE = "BODY-FIXED ROTATING"
  EASTERNMOST_LONGITUDE = 243.298
  FIRST_STANDARD_PARALLEL = "N/A"
  LINE_FIRST_PIXEL = 1
  LINE_LAST_PIXEL = 8128
  LINE_PROJECTION_OFFSET = 4074.0
  MAP_PROJECTION_ROTATION = 0.0
  MAP_PROJECTION_TYPE = ORTHOGRAPHIC
  MAP_RESOLUTION = 74.08922548333329
  MAP_SCALE = 0.8
  MAXIMUM_LATITUDE = 66.5714
  MINIMUM_LATITUDE = -76.2175
  POSITIVE_LONGITUDE_DIRECTION = EAST
  REFERENCE_LATITUDE = "N/A"
  REFERENCE_LONGITUDE = "N/A"
  SAMPLE_FIRST_PIXEL = 1
  SAMPLE_LAST_PIXEL = 5867
  SAMPLE_PROJECTION_OFFSET = 2941.0
  SECOND_STANDARD_PARALLEL = "N/A"
  WESTERNMOST_LONGITUDE = 114.008
END_OBJECT = IMAGE_MAP_PROJECTION
END
