PDS_VERSION_ID = PDS3
/* FILE DATA ELEMENTS */
RECORD_TYPE = UNDEFINED
/* POINTERS TO DATA OBJECTS */
^IMAGE = ("HM719_0001_BL4.TIF")
/* IDENTIFICATION DATA ELEMENTS */
DATA_SET_ID = "MEX-M-HRSC-4-REFDR-MAPPROJECT-EXT8-V4.0"
DATA_SET_NAME = "MARS EXPRESS HRSC MAP PROJECTED REFDR EXTENSION8 V4.0"
DETECTOR_ID = MEX_HRSC_BLUE
EVENT_TYPE = "MARS-TERMINATOR-CALIBRATION-Tc"
INSTRUMENT_HOST_ID = MEX
INSTRUMENT_HOST_NAME = "MARS EXPRESS"
INSTRUMENT_ID = HRSC
INSTRUMENT_NAME = "HIGH RESOLUTION STEREO CAMERA"
MISSION_NAME = "MARS EXPRESS"
MISSION_PHASE_NAME = ME_Phase_45
PROCESSING_LEVEL_ID = 4
PRODUCT_CREATION_TIME = 2023-01-28T19:10:30.000Z
PRODUCT_ID = "HM719_0001_BL4.TIF"
RELEASE_ID = 0003
REVISION_ID = 0000
/* QUALITY DATA ELEMENTS */
DATA_QUALITY_ID = 1
DATA_QUALITY_DESC = "Data calculated based on original SPICE kernels"
/* TIME DATA ELEMENTS */
SPACECRAFT_CLOCK_START_COUNT = "1/0588499031.25678"
SPACECRAFT_CLOCK_STOP_COUNT = "1/0588499432.26469"
START_TIME = 2021-12-25T07:59:07.469Z
STOP_TIME = 2021-12-25T08:02:18.470Z
/* ORBITAL DATA ELEMENTS */
ASCENDING_NODE_LONGITUDE = 150.32
MAXIMUM_RESOLUTION = 0.8356
FOOTPRINT_POINT_LATITUDE = (25.2892,23.6913,24.0999,25.5155, 27.6143,30.4335,34.3222,37.0662,40.1695 ,42.1259,40.4773,42.1599,43.4796, 45.4524,48.1957,49.1557,46.8,39.7243, 35.8709,32.9592,30.4229,28.2079,24.4076 ,21.18,18.3158,15.7232,13.3485,11.1331, 9.05648,5.22626,1.73295,-1.51289, -4.51897,-6.7358,-9.50706,-12.1549, -14.0878,-16.5546,-18.9296,-21.2002, -23.3569,-25.3622,-26.2888,-27.1524, -27.9265,-28.5743,-29.0309,-29.1403, -29.1677,-28.9955,-28.5124,-26.9679, -29.3332,-31.2626,-33.739,-37.6282, -41.7739,-48.6586,-62.3848,-67.4889, -70.8337,-73.6863,-73.8335,-73.2495, -72.3313,-70.111,-67.7504,-65.4191, -63.1576,-60.9992,-58.9036,-56.8937, -53.0468,-49.4206,-45.9808,-42.6493, -39.4072,-36.9953,-33.8406,-30.705, -27.5593,-24.3769,-21.1284,-17.7806, -14.2855,-10.569,-8.60198,-6.54303, -4.36854,-2.04328,0.471429,3.24464, 6.40086,8.18789,10.2096,12.5738,15.6453 ,21.5068,24.5528,25.2892)
FOOTPRINT_POINT_LONGITUDE = (205.228,211.122,216.175,219.914,222.95 ,225.411,227.134,227.43,226.816,225.793 ,226.112,231.864,236.596,240.428, 243.509,247.004,250.908,253.281,254.654 ,255.746,256.706,257.57,259.114,260.502 ,261.791,263.014,264.19,265.334,266.456 ,268.665,270.868,273.099,275.414, 277.163,279.639,282.27,284.385,287.389, 290.67,294.335,298.481,303.31,306.066, 309.076,312.446,316.299,320.832,323.516 ,326.399,329.956,334.422,341.957, 342.769,345.15,347.236,347.551,350.367, 355.678,366.983,366.771,371.286,348.487 ,332.388,320.78,311.764,298.909,290.173 ,283.809,278.901,274.971,271.689, 268.895,264.289,260.565,257.398,254.606 ,252.072,250.277,248.017,245.833, 243.689,241.542,239.361,237.106,234.712 ,232.089,230.665,229.142,227.491, 225.666,223.617,221.252,218.396,216.69, 214.662,212.145,208.587,201.428,205.4, 205.228)
ORBIT_NUMBER = 22719
ORBITAL_ECCENTRICITY = 0.574
ORBITAL_INCLINATION = 87.01
ORBITAL_SEMIMAJOR_AXIS = 8830.58
PERIAPSIS_ALTITUDE = 374.22
PERIAPSIS_ARGUMENT_ANGLE = 27.49
PERIAPSIS_TIME = 2021-12-25T04:40:02.000Z
SPACECRAFT_ORIENTATION = (0.0,1.0,0.0)
^MEX_ORIENTATION_DESC = "MEX_ORIENTATION_DESC.TXT"
SPACECRAFT_POINTING_MODE = FIXED
^MEX_POINTING_DESC = "MEX_POINTING_DESC.TXT"
RIGHT_ASCENSION = -1e+32
DECLINATION = -1e+32
OFFSET_ANGLE = -1e+32
SPACECRAFT_SOLAR_DISTANCE = 2.31177e+08
TARGET_NAME = MARS
/* CAMERA DATA ELEMENTS */
DETECTOR_TEMPERATURE = 21.0212
FOCAL_PLANE_TEMPERATURE = 9.195
INST_CMPRS_NAME = "DISCRETE COSINE TRANSFORMATION (DCT)"
INST_CMPRS_RATIO = 4.42988
INST_CMPRS_QUALITY = 0
INST_CMPRS_QUANTZ_TBL_ID = 0
INSTRUMENT_TEMPERATURE = 15.7198
LENS_TEMPERATURE = 9.6028
MACROPIXEL_SIZE = 2
MISSING_FRAMES = 1
PIXEL_SUBSAMPLING_FLAG = N
SIGNAL_CHAIN_ID = 2
/* RADIOMETRIC DATA ELEMENTS */
BANDWIDTH = 76.0
CENTER_FILTER_WAVELENGTH = 444.0
RADIANCE_OFFSET = 0.0
RADIANCE_SCALING_FACTOR = 0.0111278
REFLECTANCE_SCALING_FACTOR = 0.000610878
MEX:REFLECTANCE_OFFSET = 0.0
/* IMAGE OBJECT DEFINITIONS */
OBJECT = IMAGE
  INTERCHANGE_FORMAT = BINARY
  LINES = 7935
  LINE_SAMPLES = 7354
  SAMPLE_TYPE = UNSIGNED_INTEGER
  SAMPLE_BITS = 8
  BANDS = 1
  BAND_STORAGE_TYPE = BAND_SEQUENTIAL
  MAXIMUM = 255
  MEAN = 94.9188
  MINIMUM = 1
  STANDARD_DEVIATION = 31.9245
END_OBJECT = IMAGE
/* MAP OBJECT DEFINITIONS */
OBJECT = IMAGE_MAP_PROJECTION
  ^DATA_SET_MAP_PROJECTION_CATALOG= "DSMAP.CAT"
  A_AXIS_RADIUS = 3396.0
  B_AXIS_RADIUS = 3396.0
  C_AXIS_RADIUS = 3396.0
  CENTER_LATITUDE = -22.7902
  CENTER_LONGITUDE = 264.515
  COORDINATE_SYSTEM_NAME = PLANETOGRAPHIC
  COORDINATE_SYSTEM_TYPE = "BODY-FIXED ROTATING"
  EASTERNMOST_LONGITUDE = 11.286
  FIRST_STANDARD_PARALLEL = "N/A"
  LINE_FIRST_PIXEL = 1
  LINE_LAST_PIXEL = 7935
  LINE_PROJECTION_OFFSET = 4018.0
  MAP_PROJECTION_ROTATION = 0.0
  MAP_PROJECTION_TYPE = ORTHOGRAPHIC
  MAP_RESOLUTION = 74.08922548333329
  MAP_SCALE = 0.8
  MAXIMUM_LATITUDE = 49.1557
  MINIMUM_LATITUDE = -73.8335
  POSITIVE_LONGITUDE_DIRECTION = EAST
  REFERENCE_LATITUDE = "N/A"
  REFERENCE_LONGITUDE = "N/A"
  SAMPLE_FIRST_PIXEL = 1
  SAMPLE_LAST_PIXEL = 7354
  SAMPLE_PROJECTION_OFFSET = 3567.0
  SECOND_STANDARD_PARALLEL = "N/A"
  WESTERNMOST_LONGITUDE = -158.572
END_OBJECT = IMAGE_MAP_PROJECTION
END
