PDS_VERSION_ID = PDS3
/* FILE DATA ELEMENTS */
RECORD_TYPE = UNDEFINED
/* POINTERS TO DATA OBJECTS */
^IMAGE = ("HM719_0000_RE4.TIF")
/* IDENTIFICATION DATA ELEMENTS */
DATA_SET_ID = "MEX-M-HRSC-4-REFDR-MAPPROJECT-EXT8-V4.0"
DATA_SET_NAME = "MARS EXPRESS HRSC MAP PROJECTED REFDR EXTENSION8 V4.0"
DETECTOR_ID = MEX_HRSC_RED
EVENT_TYPE = "MARS-TERMINATOR-CALIBRATION-Tc"
INSTRUMENT_HOST_ID = MEX
INSTRUMENT_HOST_NAME = "MARS EXPRESS"
INSTRUMENT_ID = HRSC
INSTRUMENT_NAME = "HIGH RESOLUTION STEREO CAMERA"
MISSION_NAME = "MARS EXPRESS"
MISSION_PHASE_NAME = ME_Phase_45
PROCESSING_LEVEL_ID = 4
PRODUCT_CREATION_TIME = 2023-01-28T19:10:30.000Z
PRODUCT_ID = "HM719_0000_RE4.TIF"
RELEASE_ID = 0003
REVISION_ID = 0000
/* QUALITY DATA ELEMENTS */
DATA_QUALITY_ID = 1
DATA_QUALITY_DESC = "Data calculated based on original SPICE kernels"
/* TIME DATA ELEMENTS */
SPACECRAFT_CLOCK_START_COUNT = "1/0588497225.24906"
SPACECRAFT_CLOCK_STOP_COUNT = "1/0588497652.24688"
START_TIME = 2021-12-25T07:31:20.451Z
STOP_TIME = 2021-12-25T07:34:44.464Z
/* ORBITAL DATA ELEMENTS */
ASCENDING_NODE_LONGITUDE = 150.32
MAXIMUM_RESOLUTION = 0.814
FOOTPRINT_POINT_LATITUDE = (-72.1109,-70.6939,-66.557,-62.8726, -59.5222,-56.3972,-53.4038,-50.4572, -47.4102,-46.1516,-45.6878,-45.1078, -45.4205,-44.8406,-44.1491,-42.6047, -41.0054,-39.3931,-37.8161,-36.2541, -34.7213,-31.7212,-28.7948,-25.9364, -23.1245,-20.3346,-17.5548,-14.7693, -11.9605,-9.10873,-5.43283,-2.41823, 0.739778,4.05529,7.5939,11.4195,15.6294 ,17.9681,20.4784,23.2113,26.2185, 29.6724,33.8433,36.3177,39.276,43.4634, 50.5609,50.6769,45.8498,43.366,40.0258, 37.7861,36.2999,36.3187,36.8475,37.1754 ,32.2634,29.2394,26.349,23.6155,18.8187 ,15.3551,11.9281,9.5147,7.57729,5.91601 ,2.99642,0.419333,-1.92552,-4.11286, -6.17722,-10.0408,-13.6637,-17.129, -20.4988,-23.8195,-27.1275,-30.4575, -33.8479,-37.3325,-40.9769,-44.82, -48.9355,-53.5054,-55.9871,-58.6714, -61.6127,-64.9028,-68.7129,-73.3592, -76.2536,-79.864,-85.4357,-88.4123, -84.0429,-82.1355,-79.2804,-75.7683, -71.7949,-72.1109)
FOOTPRINT_POINT_LONGITUDE = (357.401,342.759,332.979,330.459, 330.386,331.65,333.933,337.312,342.557, 345.709,347.164,353.078,338.078,331.805 ,327.323,320.35,315.064,310.736,307.152 ,304.025,301.28,296.585,292.64,289.246, 286.251,283.535,281.04,278.717,276.526, 274.433,271.916,269.931,267.959,265.964 ,263.907,261.741,259.395,258.109, 256.724,255.203,253.5,251.5,248.988, 247.42,245.452,242.462,234.899,233.154, 234.249,233.824,231.651,228.569,224.697 ,216.221,214.539,213.686,211.167, 208.121,206.652,205.84,204.783,201.839, 207.19,210.948,213.635,215.728,219.085, 221.77,224.016,225.978,227.72,230.733, 233.32,235.603,237.664,239.574,241.375, 243.093,244.746,246.367,247.95,249.547, 251.181,252.836,253.708,254.602,255.527 ,256.487,257.471,258.428,258.778, 258.718,254.531,290.123,331.958,350.978 ,362.438,350.551,354.185,357.401)
ORBIT_NUMBER = 22719
ORBITAL_ECCENTRICITY = 0.574
ORBITAL_INCLINATION = 87.01
ORBITAL_SEMIMAJOR_AXIS = 8830.58
PERIAPSIS_ALTITUDE = 374.22
PERIAPSIS_ARGUMENT_ANGLE = 27.49
PERIAPSIS_TIME = 2021-12-25T04:40:02.000Z
SPACECRAFT_ORIENTATION = (0.0,1.0,0.0)
^MEX_ORIENTATION_DESC = "MEX_ORIENTATION_DESC.TXT"
SPACECRAFT_POINTING_MODE = FIXED
^MEX_POINTING_DESC = "MEX_POINTING_DESC.TXT"
RIGHT_ASCENSION = -1e+32
DECLINATION = -1e+32
OFFSET_ANGLE = -1e+32
SPACECRAFT_SOLAR_DISTANCE = 2.31177e+08
TARGET_NAME = MARS
/* CAMERA DATA ELEMENTS */
DETECTOR_TEMPERATURE = 18.5744
FOCAL_PLANE_TEMPERATURE = 7.7677
INST_CMPRS_NAME = "DISCRETE COSINE TRANSFORMATION (DCT)"
INST_CMPRS_RATIO = 10.0109
INST_CMPRS_QUALITY = 0
INST_CMPRS_QUANTZ_TBL_ID = 0
INSTRUMENT_TEMPERATURE = 11.0301
LENS_TEMPERATURE = 8.7872
MACROPIXEL_SIZE = 2
MISSING_FRAMES = 0
PIXEL_SUBSAMPLING_FLAG = N
SIGNAL_CHAIN_ID = 1
/* RADIOMETRIC DATA ELEMENTS */
BANDWIDTH = 48.0
CENTER_FILTER_WAVELENGTH = 748.0
RADIANCE_OFFSET = 0.0
RADIANCE_SCALING_FACTOR = 0.0127732
REFLECTANCE_SCALING_FACTOR = 0.00155752
MEX:REFLECTANCE_OFFSET = 0.0
/* IMAGE OBJECT DEFINITIONS */
OBJECT = IMAGE
  INTERCHANGE_FORMAT = BINARY
  LINES = 8010
  LINE_SAMPLES = 6698
  SAMPLE_TYPE = UNSIGNED_INTEGER
  SAMPLE_BITS = 8
  BANDS = 1
  BAND_STORAGE_TYPE = BAND_SEQUENTIAL
  MAXIMUM = 255
  MEAN = 98.2723
  MINIMUM = 1
  STANDARD_DEVIATION = 50.4038
END_OBJECT = IMAGE
/* MAP OBJECT DEFINITIONS */
OBJECT = IMAGE_MAP_PROJECTION
  ^DATA_SET_MAP_PROJECTION_CATALOG= "DSMAP.CAT"
  A_AXIS_RADIUS = 3396.0
  B_AXIS_RADIUS = 3396.0
  C_AXIS_RADIUS = 3396.0
  CENTER_LATITUDE = -19.3718
  CENTER_LONGITUDE = 261.975
  COORDINATE_SYSTEM_NAME = PLANETOGRAPHIC
  COORDINATE_SYSTEM_TYPE = "BODY-FIXED ROTATING"
  EASTERNMOST_LONGITUDE = 2.438
  FIRST_STANDARD_PARALLEL = "N/A"
  LINE_FIRST_PIXEL = 1
  LINE_LAST_PIXEL = 8010
  LINE_PROJECTION_OFFSET = 3985.0
  MAP_PROJECTION_ROTATION = 0.0
  MAP_PROJECTION_TYPE = ORTHOGRAPHIC
  MAP_RESOLUTION = 74.08922548333329
  MAP_SCALE = 0.8
  MAXIMUM_LATITUDE = 50.6769
  MINIMUM_LATITUDE = -88.4123
  POSITIVE_LONGITUDE_DIRECTION = EAST
  REFERENCE_LATITUDE = "N/A"
  REFERENCE_LONGITUDE = "N/A"
  SAMPLE_FIRST_PIXEL = 1
  SAMPLE_LAST_PIXEL = 6698
  SAMPLE_PROJECTION_OFFSET = 3610.0
  SECOND_STANDARD_PARALLEL = "N/A"
  WESTERNMOST_LONGITUDE = -158.161
END_OBJECT = IMAGE_MAP_PROJECTION
END
