PDS_VERSION_ID = PDS3
/* FILE DATA ELEMENTS */
RECORD_TYPE = UNDEFINED
/* POINTERS TO DATA OBJECTS */
^IMAGE = ("HM715_0000_IR4.TIF")
/* IDENTIFICATION DATA ELEMENTS */
DATA_SET_ID = "MEX-M-HRSC-4-REFDR-MAPPROJECT-EXT8-V4.0"
DATA_SET_NAME = "MARS EXPRESS HRSC MAP PROJECTED REFDR EXTENSION8 V4.0"
DETECTOR_ID = MEX_HRSC_IR
EVENT_TYPE = "MARS-TERMINATOR-CALIBRATION-Tc"
INSTRUMENT_HOST_ID = MEX
INSTRUMENT_HOST_NAME = "MARS EXPRESS"
INSTRUMENT_ID = HRSC
INSTRUMENT_NAME = "HIGH RESOLUTION STEREO CAMERA"
MISSION_NAME = "MARS EXPRESS"
MISSION_PHASE_NAME = ME_Phase_45
PROCESSING_LEVEL_ID = 4
PRODUCT_CREATION_TIME = 2023-01-28T19:10:30.000Z
PRODUCT_ID = "HM715_0000_IR4.TIF"
RELEASE_ID = 0003
REVISION_ID = 0000
/* QUALITY DATA ELEMENTS */
DATA_QUALITY_ID = 1
DATA_QUALITY_DESC = "Data calculated based on original SPICE kernels"
/* TIME DATA ELEMENTS */
SPACECRAFT_CLOCK_START_COUNT = "1/0588389545.24869"
SPACECRAFT_CLOCK_STOP_COUNT = "1/0588390039.57796"
START_TIME = 2021-12-24T01:33:23.436Z
STOP_TIME = 2021-12-24T01:36:35.045Z
/* ORBITAL DATA ELEMENTS */
ASCENDING_NODE_LONGITUDE = 150.39
MAXIMUM_RESOLUTION = 0.3454
FOOTPRINT_POINT_LATITUDE = (-14.7954,-14.8574,-14.7379,-14.9869, -16.0131,-15.0582,-16.4755,-17.5175, -17.3403,-18.4758,-17.1915,-18.8676, -17.6956,-19.0895,-17.9681,-19.2701, -18.1884,-18.3619,-19.5538,-18.5788, -20.0276,-18.818,-20.0479,-18.2296, -17.0818,-15.5921,-13.301,-11.6597, -9.26145,-7.6807,-6.15446,-4.24764, -3.06297,-1.39964,0.880572,2.95557, 4.93778,6.62606,8.83904,10.5827,11.9352 ,13.4993,15.5098,16.973,17.9738,19.8511 ,20.9532,22.6212,23.7969,25.2392, 26.2118,27.5078,28.5941,28.6014,28.6069 ,29.7941,31.2858,32.5835,33.4258, 34.2078,35.2368,36.4476,37.1396,37.1706 ,37.198,35.3641,34.2918,32.7419,31.5876 ,30.2482,29.2978,27.9601,26.9813, 25.4229,24.4769,22.3332,20.997,19.0393, 17.7115,16.1748,15.1746,13.3437,12.1628 ,10.0904,9.10379,6.76275,5.22427, 3.92566,1.60339,0.092689,-1.16726, -3.27089,-5.44484,-7.13563,-8.3249, -9.33372,-11.3748,-12.7493,-13.7865, -14.7954)
FOOTPRINT_POINT_LONGITUDE = (312.464,312.443,312.99,314.371,316.155 ,317.409,318.429,319.739,321.065, 321.637,322.613,323.017,323.388,324.459 ,325.002,324.947,325.257,326.486, 326.925,327.495,327.895,328.937,328.862 ,329.278,329.548,329.91,330.493,330.926 ,331.598,332.076,332.536,333.138, 333.516,334.089,334.922,335.726,336.547 ,337.292,338.332,339.201,339.917, 340.793,342.011,342.953,343.635,344.999 ,345.856,347.234,348.271,349.633, 350.612,351.995,353.228,353.236,353.243 ,351.557,349.321,347.251,345.837, 344.469,342.577,340.194,338.744,338.678 ,338.616,336.939,335.995,334.674, 333.722,332.648,331.905,330.886,330.158 ,329.028,328.358,326.885,325.994, 324.724,323.884,322.931,322.322,321.226 ,320.53,319.33,318.766,317.444,316.585, 315.865,314.585,313.754,313.063,311.905 ,310.703,309.76,309.092,308.52,307.35, 308.635,310.465,312.464)
ORBIT_NUMBER = 22715
ORBITAL_ECCENTRICITY = 0.573
ORBITAL_INCLINATION = 87.03
ORBITAL_SEMIMAJOR_AXIS = 8821.4
PERIAPSIS_ALTITUDE = 374.66
PERIAPSIS_ARGUMENT_ANGLE = 28.17
PERIAPSIS_TIME = 2021-12-24T00:44:08.000Z
SPACECRAFT_ORIENTATION = (0.0,1.0,0.0)
^MEX_ORIENTATION_DESC = "MEX_ORIENTATION_DESC.TXT"
SPACECRAFT_POINTING_MODE = FIXED
^MEX_POINTING_DESC = "MEX_POINTING_DESC.TXT"
RIGHT_ASCENSION = -1e+32
DECLINATION = -1e+32
OFFSET_ANGLE = -1e+32
SPACECRAFT_SOLAR_DISTANCE = 2.31397e+08
TARGET_NAME = MARS
/* CAMERA DATA ELEMENTS */
DETECTOR_TEMPERATURE = 16.7393
FOCAL_PLANE_TEMPERATURE = 7.5638
INST_CMPRS_NAME = "DISCRETE COSINE TRANSFORMATION (DCT)"
INST_CMPRS_RATIO = 5.0154
INST_CMPRS_QUALITY = 0
INST_CMPRS_QUANTZ_TBL_ID = 0
INSTRUMENT_TEMPERATURE = 11.0301
LENS_TEMPERATURE = 8.3794
MACROPIXEL_SIZE = 2
MISSING_FRAMES = 0
PIXEL_SUBSAMPLING_FLAG = N
SIGNAL_CHAIN_ID = 1
/* RADIOMETRIC DATA ELEMENTS */
BANDWIDTH = 81.0
CENTER_FILTER_WAVELENGTH = 955.5
RADIANCE_OFFSET = 0.0
RADIANCE_SCALING_FACTOR = 0.0115416
REFLECTANCE_SCALING_FACTOR = 0.00133318
MEX:REFLECTANCE_OFFSET = 0.0
/* IMAGE OBJECT DEFINITIONS */
OBJECT = IMAGE
  INTERCHANGE_FORMAT = BINARY
  LINES = 8293
  LINE_SAMPLES = 6416
  SAMPLE_TYPE = UNSIGNED_INTEGER
  SAMPLE_BITS = 8
  BANDS = 1
  BAND_STORAGE_TYPE = BAND_SEQUENTIAL
  MAXIMUM = 255
  MEAN = 114.282
  MINIMUM = 49
  STANDARD_DEVIATION = 25.0311
END_OBJECT = IMAGE
/* MAP OBJECT DEFINITIONS */
OBJECT = IMAGE_MAP_PROJECTION
  ^DATA_SET_MAP_PROJECTION_CATALOG= "DSMAP.CAT"
  A_AXIS_RADIUS = 3396.0
  B_AXIS_RADIUS = 3396.0
  C_AXIS_RADIUS = 3396.0
  CENTER_LATITUDE = 18.5428
  CENTER_LONGITUDE = 337.125
  COORDINATE_SYSTEM_NAME = PLANETOGRAPHIC
  COORDINATE_SYSTEM_TYPE = "BODY-FIXED ROTATING"
  EASTERNMOST_LONGITUDE = 353.243
  FIRST_STANDARD_PARALLEL = "N/A"
  LINE_FIRST_PIXEL = 1
  LINE_LAST_PIXEL = 8293
  LINE_PROJECTION_OFFSET = 2605.0
  MAP_PROJECTION_ROTATION = 0.0
  MAP_PROJECTION_TYPE = ORTHOGRAPHIC
  MAP_RESOLUTION = 148.178450966667
  MAP_SCALE = 0.4
  MAXIMUM_LATITUDE = 37.198
  MINIMUM_LATITUDE = -20.0479
  POSITIVE_LONGITUDE_DIRECTION = EAST
  REFERENCE_LATITUDE = "N/A"
  REFERENCE_LONGITUDE = "N/A"
  SAMPLE_FIRST_PIXEL = 1
  SAMPLE_LAST_PIXEL = 6416
  SAMPLE_PROJECTION_OFFSET = 3918.0
  SECOND_STANDARD_PARALLEL = "N/A"
  WESTERNMOST_LONGITUDE = 307.35
END_OBJECT = IMAGE_MAP_PROJECTION
END
