PDS_VERSION_ID = PDS3
/* FILE DATA ELEMENTS */
RECORD_TYPE = UNDEFINED
/* POINTERS TO DATA OBJECTS */
^IMAGE = ("HM649_0000_RE4.TIF")
/* IDENTIFICATION DATA ELEMENTS */
DATA_SET_ID = "MEX-M-HRSC-4-REFDR-MAPPROJECT-EXT8-V4.0"
DATA_SET_NAME = "MARS EXPRESS HRSC MAP PROJECTED REFDR EXTENSION8 V4.0"
DETECTOR_ID = MEX_HRSC_RED
EVENT_TYPE = "MARS-TERMINATOR-CALIBRATION-Tc"
INSTRUMENT_HOST_ID = MEX
INSTRUMENT_HOST_NAME = "MARS EXPRESS"
INSTRUMENT_ID = HRSC
INSTRUMENT_NAME = "HIGH RESOLUTION STEREO CAMERA"
MISSION_NAME = "MARS EXPRESS"
MISSION_PHASE_NAME = ME_Phase_45
PROCESSING_LEVEL_ID = 4
PRODUCT_CREATION_TIME = 2023-01-28T19:10:30.000Z
PRODUCT_ID = "HM649_0000_RE4.TIF"
RELEASE_ID = 0003
REVISION_ID = 0000
/* QUALITY DATA ELEMENTS */
DATA_QUALITY_ID = 1
DATA_QUALITY_DESC = "Data calculated based on original SPICE kernels"
/* TIME DATA ELEMENTS */
SPACECRAFT_CLOCK_START_COUNT = "1/0586731373.24908"
SPACECRAFT_CLOCK_STOP_COUNT = "1/0586731963.16367"
START_TIME = 2021-12-04T21:01:07.410Z
STOP_TIME = 2021-12-04T21:06:29.394Z
/* ORBITAL DATA ELEMENTS */
ASCENDING_NODE_LONGITUDE = 151.58
MAXIMUM_RESOLUTION = 0.4683
FOOTPRINT_POINT_LATITUDE = (-54.4005,-54.4496,-54.3309,-54.066, -53.5284,-52.578,-51.2002,-51.2721, -50.1603,-47.3031,-48.3008,-45.1492, -46.5331,-44.4889,-44.5578,-41.8426, -39.9762,-37.0164,-32.3862,-27.4923, -23.9299,-21.6615,-19.5507,-15.8649, -13.5956,-10.9171,-6.5586,-3.46486, 0.737714,3.42215,5.85925,9.57263, 12.2317,15.6289,18.1669,21.1131,24.4213 ,28.4981,31.799,33.9629,36.9893,40.2587 ,43.3037,45.8322,48.5248,50.1995, 52.6454,55.069,56.5869,57.7262,60.2767, 61.6855,64.1699,66.761,69.501,72.5685, 74.3825,75.7254,77.3565,78.4799,78.7669 ,78.8011,76.0573,72.2306,68.9518, 64.6301,62.2746,59.3556,56.1786,52.6707 ,48.4518,44.7376,42.0127,39.1099, 36.4935,32.5532,29.2661,24.5189,21.2772 ,18.5393,15.2153,11.0366,5.91153, 3.04077,-2.14912,-5.67174,-9.76152, -12.9662,-16.9119,-20.6393,-23.2631, -26.5927,-28.8428,-31.8469,-36.336, -40.4565,-43.5892,-46.7672,-50.7114, -54.4005)
FOOTPRINT_POINT_LONGITUDE = (235.457,235.47,235.615,240.321,244.325 ,249.749,257.943,262.05,266.3,267.615, 271.249,271.569,274.638,273.407,276.804 ,273.904,272.203,269.843,266.864, 264.404,262.961,262.169,261.509,260.518 ,260.011,259.506,258.878,258.583, 258.356,258.312,258.347,258.538,258.769 ,259.209,259.662,260.295,261.176, 262.556,263.947,265.014,266.754,269.022 ,271.598,274.202,277.537,280.062, 284.496,290.329,295.281,300.2,302.943, 296.899,299.739,291.889,292.437,287.654 ,282.45,273.657,261.887,237.628,235.037 ,227.924,229.543,231.549,232.695, 233.766,234.215,234.682,235.106,235.497 ,235.888,236.178,236.364,236.543, 236.687,236.878,237.015,237.179,237.269 ,237.331,237.389,237.436,237.451, 237.438,237.378,237.311,237.206,237.101 ,236.946,236.775,236.639,236.448, 236.307,236.101,235.752,235.38,235.059, 234.69,234.161,235.457)
ORBIT_NUMBER = 22649
ORBITAL_ECCENTRICITY = 0.572
ORBITAL_INCLINATION = 87.03
ORBITAL_SEMIMAJOR_AXIS = 8814.41
PERIAPSIS_ALTITUDE = 381.18
PERIAPSIS_ARGUMENT_ANGLE = 39.55
PERIAPSIS_TIME = 2021-12-04T19:51:15.000Z
SPACECRAFT_ORIENTATION = (0.0,1.0,0.0)
^MEX_ORIENTATION_DESC = "MEX_ORIENTATION_DESC.TXT"
SPACECRAFT_POINTING_MODE = FIXED
^MEX_POINTING_DESC = "MEX_POINTING_DESC.TXT"
RIGHT_ASCENSION = -1e+32
DECLINATION = -1e+32
OFFSET_ANGLE = -1e+32
SPACECRAFT_SOLAR_DISTANCE = 2.34935e+08
TARGET_NAME = MARS
/* CAMERA DATA ELEMENTS */
DETECTOR_TEMPERATURE = 18.3705
FOCAL_PLANE_TEMPERATURE = 7.7677
INST_CMPRS_NAME = "DISCRETE COSINE TRANSFORMATION (DCT)"
INST_CMPRS_RATIO = 9.30706
INST_CMPRS_QUALITY = 0
INST_CMPRS_QUANTZ_TBL_ID = 0
INSTRUMENT_TEMPERATURE = 10.6223
LENS_TEMPERATURE = 8.3794
MACROPIXEL_SIZE = 2
MISSING_FRAMES = 0
PIXEL_SUBSAMPLING_FLAG = N
SIGNAL_CHAIN_ID = 1
/* RADIOMETRIC DATA ELEMENTS */
BANDWIDTH = 48.0
CENTER_FILTER_WAVELENGTH = 748.0
RADIANCE_OFFSET = 0.0
RADIANCE_SCALING_FACTOR = 0.0156336
REFLECTANCE_SCALING_FACTOR = 0.00196902
MEX:REFLECTANCE_OFFSET = 0.0
/* IMAGE OBJECT DEFINITIONS */
OBJECT = IMAGE
  INTERCHANGE_FORMAT = BINARY
  LINES = 15475
  LINE_SAMPLES = 5239
  SAMPLE_TYPE = UNSIGNED_INTEGER
  SAMPLE_BITS = 8
  BANDS = 1
  BAND_STORAGE_TYPE = BAND_SEQUENTIAL
  MAXIMUM = 255
  MEAN = 166.985
  MINIMUM = 33
  STANDARD_DEVIATION = 43.5078
END_OBJECT = IMAGE
/* MAP OBJECT DEFINITIONS */
OBJECT = IMAGE_MAP_PROJECTION
  ^DATA_SET_MAP_PROJECTION_CATALOG= "DSMAP.CAT"
  A_AXIS_RADIUS = 3396.0
  B_AXIS_RADIUS = 3396.0
  C_AXIS_RADIUS = 3396.0
  CENTER_LATITUDE = 11.8001
  CENTER_LONGITUDE = 247.557
  COORDINATE_SYSTEM_NAME = PLANETOGRAPHIC
  COORDINATE_SYSTEM_TYPE = "BODY-FIXED ROTATING"
  EASTERNMOST_LONGITUDE = 302.943
  FIRST_STANDARD_PARALLEL = "N/A"
  LINE_FIRST_PIXEL = 1
  LINE_LAST_PIXEL = 15475
  LINE_PROJECTION_OFFSET = 7859.0
  MAP_PROJECTION_ROTATION = 0.0
  MAP_PROJECTION_TYPE = ORTHOGRAPHIC
  MAP_RESOLUTION = 148.178450966667
  MAP_SCALE = 0.4
  MAXIMUM_LATITUDE = 78.80110000000001
  MINIMUM_LATITUDE = -54.4496
  POSITIVE_LONGITUDE_DIRECTION = EAST
  REFERENCE_LATITUDE = "N/A"
  REFERENCE_LONGITUDE = "N/A"
  SAMPLE_FIRST_PIXEL = 1
  SAMPLE_LAST_PIXEL = 5239
  SAMPLE_PROJECTION_OFFSET = 1537.0
  SECOND_STANDARD_PARALLEL = "N/A"
  WESTERNMOST_LONGITUDE = 227.924
END_OBJECT = IMAGE_MAP_PROJECTION
END
