PDS_VERSION_ID = PDS3
/* FILE DATA ELEMENTS */
RECORD_TYPE = UNDEFINED
/* POINTERS TO DATA OBJECTS */
^IMAGE = ("HM620_0000_P24.TIF")
/* IDENTIFICATION DATA ELEMENTS */
DATA_SET_ID = "MEX-M-HRSC-4-REFDR-MAPPROJECT-EXT8-V4.0"
DATA_SET_NAME = "MARS EXPRESS HRSC MAP PROJECTED REFDR EXTENSION8 V4.0"
DETECTOR_ID = MEX_HRSC_P2
EVENT_TYPE = "MARS-TERMINATOR-CALIBRATION-Tc"
INSTRUMENT_HOST_ID = MEX
INSTRUMENT_HOST_NAME = "MARS EXPRESS"
INSTRUMENT_ID = HRSC
INSTRUMENT_NAME = "HIGH RESOLUTION STEREO CAMERA"
MISSION_NAME = "MARS EXPRESS"
MISSION_PHASE_NAME = ME_Phase_45
PROCESSING_LEVEL_ID = 4
PRODUCT_CREATION_TIME = 2023-01-28T19:10:30.000Z
PRODUCT_ID = "HM620_0000_P24.TIF"
RELEASE_ID = 0003
REVISION_ID = 0000
/* QUALITY DATA ELEMENTS */
DATA_QUALITY_ID = 1
DATA_QUALITY_DESC = "Data calculated based on original SPICE kernels"
/* TIME DATA ELEMENTS */
SPACECRAFT_CLOCK_START_COUNT = "1/0586004259.25667"
SPACECRAFT_CLOCK_STOP_COUNT = "1/0586004607.01035"
START_TIME = 2021-11-26T11:01:55.404Z
STOP_TIME = 2021-11-26T11:03:16.029Z
/* ORBITAL DATA ELEMENTS */
ASCENDING_NODE_LONGITUDE = 152.1
MAXIMUM_RESOLUTION = 1.23
FOOTPRINT_POINT_LATITUDE = (-26.8054,-25.4513,-24.6879,-23.932, -23.1822,-22.4375,-21.6973,-20.9617, -20.2302,-19.5018,-18.7758,-18.0522, -17.3308,-16.6115,-15.8937,-15.177, -14.4608,-13.7447,-13.0283,-12.3111, -11.5924,-10.8717,-10.1485,-9.42261, -8.6937,-7.40959,-7.22509,-7.17355, -6.186,-5.36279,-4.70142,-4.03799, -3.37251,-2.19299,-1.18899,0.0127838, 0.701291,1.39009,2.08697,2.79795, 3.69511,4.42148,5.34616,6.28652,7.04699 ,7.82293,8.61504,9.42002,10.4463, 10.6551,10.691,9.91803,9.14021,7.80303, 7.05108,6.30969,5.0264,4.30508,3.41437, 2.70685,1.4787,0.785041,-0.0778433, -0.765777,-1.4502,-2.1233,-3.14832, -3.82328,-4.49714,-5.16937,-5.84052, -7.0039,-8.01673,-8.18634,-8.24452, -9.01177,-9.77116,-10.5232,-11.2693, -12.5766,-13.486,-14.2122,-14.9387, -16.0249,-16.7484,-17.4725,-18.2003, -19.1124,-19.8414,-20.5736,-21.3086, -22.0471,-22.7899,-23.5376,-24.2953, -25.0563,-25.8263,-26.6037,-26.7995, -26.8054)
FOOTPRINT_POINT_LONGITUDE = (312.293,313.671,314.44,315.197,315.943 ,316.68,317.409,318.131,318.846,319.557 ,320.263,320.966,321.665,322.363, 323.058,323.753,324.447,325.142,325.839 ,326.537,327.239,327.945,328.655, 329.371,330.093,331.374,331.559,331.641 ,330.285,329.184,328.328,327.484, 326.649,325.226,323.998,322.608,321.813 ,321.019,320.23,319.447,318.468,317.684 ,316.702,315.716,314.922,314.124, 313.319,312.506,311.477,311.269,311.233 ,310.537,309.831,308.601,307.901, 307.202,305.981,305.282,304.403,303.697 ,302.455,301.736,300.83,300.1,299.363, 298.6,297.484,296.715,295.936,295.146, 294.345,292.823,291.593,291.403,291.333 ,292.247,293.152,294.039,294.908, 296.325,297.421,298.267,299.093,300.323 ,301.135,301.943,302.746,303.75,304.556 ,305.365,306.176,306.992,307.812, 308.639,309.473,310.316,311.169,312.034 ,312.253,312.293)
ORBIT_NUMBER = 22620
ORBITAL_ECCENTRICITY = 0.571
ORBITAL_INCLINATION = 87.03
ORBITAL_SEMIMAJOR_AXIS = 8797.79
PERIAPSIS_ALTITUDE = 384.7
PERIAPSIS_ARGUMENT_ANGLE = 44.58
PERIAPSIS_TIME = 2021-11-26T09:21:03.000Z
SPACECRAFT_ORIENTATION = (0.0,1.0,0.0)
^MEX_ORIENTATION_DESC = "MEX_ORIENTATION_DESC.TXT"
SPACECRAFT_POINTING_MODE = FIXED
^MEX_POINTING_DESC = "MEX_POINTING_DESC.TXT"
RIGHT_ASCENSION = -1e+32
DECLINATION = -1e+32
OFFSET_ANGLE = -1e+32
SPACECRAFT_SOLAR_DISTANCE = 2.36414e+08
TARGET_NAME = MARS
/* CAMERA DATA ELEMENTS */
DETECTOR_TEMPERATURE = 17.7588
FOCAL_PLANE_TEMPERATURE = 7.7677
INST_CMPRS_NAME = "DISCRETE COSINE TRANSFORMATION (DCT)"
INST_CMPRS_RATIO = 11.8143
INST_CMPRS_QUALITY = 0
INST_CMPRS_QUANTZ_TBL_ID = 0
INSTRUMENT_TEMPERATURE = 10.6223
LENS_TEMPERATURE = 7.7677
MACROPIXEL_SIZE = 4
MISSING_FRAMES = 0
PIXEL_SUBSAMPLING_FLAG = N
SIGNAL_CHAIN_ID = 3
/* RADIOMETRIC DATA ELEMENTS */
BANDWIDTH = 177.0
CENTER_FILTER_WAVELENGTH = 676.5
RADIANCE_OFFSET = 2.70051
RADIANCE_SCALING_FACTOR = 0.0278372
REFLECTANCE_SCALING_FACTOR = 0.000824872
MEX:REFLECTANCE_OFFSET = 0.0800216
/* IMAGE OBJECT DEFINITIONS */
OBJECT = IMAGE
  INTERCHANGE_FORMAT = BINARY
  LINES = 1368
  LINE_SAMPLES = 1453
  SAMPLE_TYPE = UNSIGNED_INTEGER
  SAMPLE_BITS = 8
  BANDS = 1
  BAND_STORAGE_TYPE = BAND_SEQUENTIAL
  MAXIMUM = 254
  MEAN = 92.976
  MINIMUM = 1
  STANDARD_DEVIATION = 47.8768
END_OBJECT = IMAGE
/* MAP OBJECT DEFINITIONS */
OBJECT = IMAGE_MAP_PROJECTION
  ^DATA_SET_MAP_PROJECTION_CATALOG= "DSMAP.CAT"
  A_AXIS_RADIUS = 3396.0
  B_AXIS_RADIUS = 3396.0
  C_AXIS_RADIUS = 3396.0
  CENTER_LATITUDE = -7.13779
  CENTER_LONGITUDE = 313.271
  COORDINATE_SYSTEM_NAME = PLANETOGRAPHIC
  COORDINATE_SYSTEM_TYPE = "BODY-FIXED ROTATING"
  EASTERNMOST_LONGITUDE = 331.641
  FIRST_STANDARD_PARALLEL = "N/A"
  LINE_FIRST_PIXEL = 1
  LINE_LAST_PIXEL = 1368
  LINE_PROJECTION_OFFSET = 691.75
  MAP_PROJECTION_ROTATION = 0.0
  MAP_PROJECTION_TYPE = ORTHOGRAPHIC
  MAP_RESOLUTION = 37.0446127416667
  MAP_SCALE = 1.6
  MAXIMUM_LATITUDE = 10.691
  MINIMUM_LATITUDE = -26.8054
  POSITIVE_LONGITUDE_DIRECTION = EAST
  REFERENCE_LATITUDE = "N/A"
  REFERENCE_LONGITUDE = "N/A"
  SAMPLE_FIRST_PIXEL = 1
  SAMPLE_LAST_PIXEL = 1453
  SAMPLE_PROJECTION_OFFSET = 734.25
  SECOND_STANDARD_PARALLEL = "N/A"
  WESTERNMOST_LONGITUDE = 291.333
END_OBJECT = IMAGE_MAP_PROJECTION
END
