PDS_VERSION_ID = PDS3
/* FILE DATA ELEMENTS */
RECORD_TYPE = UNDEFINED
/* POINTERS TO DATA OBJECTS */
^IMAGE = ("HM596_0000_IR4.TIF")
/* IDENTIFICATION DATA ELEMENTS */
DATA_SET_ID = "MEX-M-HRSC-4-REFDR-MAPPROJECT-EXT8-V4.0"
DATA_SET_NAME = "MARS EXPRESS HRSC MAP PROJECTED REFDR EXTENSION8 V4.0"
DETECTOR_ID = MEX_HRSC_IR
EVENT_TYPE = "MARS-TERMINATOR-CALIBRATION-Tc"
INSTRUMENT_HOST_ID = MEX
INSTRUMENT_HOST_NAME = "MARS EXPRESS"
INSTRUMENT_ID = HRSC
INSTRUMENT_NAME = "HIGH RESOLUTION STEREO CAMERA"
MISSION_NAME = "MARS EXPRESS"
MISSION_PHASE_NAME = ME_Phase_45
PROCESSING_LEVEL_ID = 4
PRODUCT_CREATION_TIME = 2023-01-28T19:10:30.000Z
PRODUCT_ID = "HM596_0000_IR4.TIF"
RELEASE_ID = 0003
REVISION_ID = 0000
/* QUALITY DATA ELEMENTS */
DATA_QUALITY_ID = 1
DATA_QUALITY_DESC = "Data calculated based on original SPICE kernels"
/* TIME DATA ELEMENTS */
SPACECRAFT_CLOCK_START_COUNT = "1/0585400313.24872"
SPACECRAFT_CLOCK_STOP_COUNT = "1/0585400667.38175"
START_TIME = 2021-11-19T11:12:48.365Z
STOP_TIME = 2021-11-19T11:14:15.589Z
/* ORBITAL DATA ELEMENTS */
ASCENDING_NODE_LONGITUDE = 152.53
MAXIMUM_RESOLUTION = 0.5528
FOOTPRINT_POINT_LATITUDE = (-21.51,-20.3905,-19.6511,-18.9168, -18.1871,-17.4613,-16.0192,-14.5869, -13.1617,-11.741,-11.0316,-10.3221, -9.61201,-8.90132,-8.18946,-7.47562, -6.7592,-6.03987,-5.31737,-4.59138, -3.86155,-3.12721,-2.94287,-2.89159, -1.91046,-1.34876,-0.785557,-0.221578, 0.344272,0.912534,1.48362,2.05752, 2.63631,3.21866,3.8049,4.39589,4.99175, 5.59513,6.20637,6.82862,7.463,8.10734, 8.76042,9.4224,10.0934,10.7754,11.4782, 12.1876,12.3675,12.4347,11.6487,10.8655 ,10.0915,9.32665,8.56935,7.25713, 6.52118,5.79219,5.06894,4.35091,3.63774 ,2.39927,1.69318,0.996485,0.300478, -0.393619,-1.08557,-1.77591,-2.46476, -3.15251,-3.83997,-4.52715,-5.21464, -5.90266,-6.07478,-6.13765,-7.08542, -8.18043,-8.79483,-9.40528,-10.0098, -10.6104,-11.654,-12.2497,-12.8465, -13.4456,-14.0462,-14.6467,-15.2471, -15.8487,-16.4521,-17.0582,-17.6675, -18.2808,-18.8982,-19.5209,-20.1493, -21.2619,-21.4232,-21.51)
FOOTPRINT_POINT_LONGITUDE = (251.233,252.137,252.734,253.326, 253.914,254.499,255.663,256.824,257.983 ,259.146,259.73,260.317,260.906,261.5, 262.098,262.701,263.31,263.926,264.549, 265.181,265.821,266.47,266.635,266.638, 265.018,264.113,263.222,262.34,261.469, 260.607,259.754,258.907,258.068,257.233 ,256.401,255.573,254.747,253.923,253.1, 252.277,251.454,250.627,249.795,248.958 ,248.113,247.262,246.391,245.52,245.301 ,245.219,244.625,244.029,243.436, 242.846,242.259,241.239,240.656,240.072 ,239.488,238.902,238.314,237.279, 236.687,236.083,235.476,234.866,234.249 ,233.627,232.998,232.362,231.718, 231.065,230.401,229.727,229.556,229.496 ,230.891,232.489,233.38,234.258,235.136 ,236.005,237.507,238.352,239.19,240.024 ,240.855,241.688,242.524,243.361, 244.201,245.045,245.893,246.747,247.608 ,248.476,249.354,250.916,251.142, 251.233)
ORBIT_NUMBER = 22596
ORBITAL_ECCENTRICITY = 0.571
ORBITAL_INCLINATION = 87.03
ORBITAL_SEMIMAJOR_AXIS = 8800.02
PERIAPSIS_ALTITUDE = 386.77
PERIAPSIS_ARGUMENT_ANGLE = 48.68
PERIAPSIS_TIME = 2021-11-19T09:45:23.000Z
SPACECRAFT_ORIENTATION = (0.0,1.0,0.0)
^MEX_ORIENTATION_DESC = "MEX_ORIENTATION_DESC.TXT"
SPACECRAFT_POINTING_MODE = FIXED
^MEX_POINTING_DESC = "MEX_POINTING_DESC.TXT"
RIGHT_ASCENSION = -1e+32
DECLINATION = -1e+32
OFFSET_ANGLE = -1e+32
SPACECRAFT_SOLAR_DISTANCE = 2.37596e+08
TARGET_NAME = MARS
/* CAMERA DATA ELEMENTS */
DETECTOR_TEMPERATURE = 16.3315
FOCAL_PLANE_TEMPERATURE = 7.9716
INST_CMPRS_NAME = "DISCRETE COSINE TRANSFORMATION (DCT)"
INST_CMPRS_RATIO = 4.50146
INST_CMPRS_QUALITY = 0
INST_CMPRS_QUANTZ_TBL_ID = 0
INSTRUMENT_TEMPERATURE = 11.0301
LENS_TEMPERATURE = 7.9716
MACROPIXEL_SIZE = 2
MISSING_FRAMES = 0
PIXEL_SUBSAMPLING_FLAG = N
SIGNAL_CHAIN_ID = 1
/* RADIOMETRIC DATA ELEMENTS */
BANDWIDTH = 81.0
CENTER_FILTER_WAVELENGTH = 955.5
RADIANCE_OFFSET = 1.05001
RADIANCE_SCALING_FACTOR = 0.0104934
REFLECTANCE_SCALING_FACTOR = 0.00127788
MEX:REFLECTANCE_OFFSET = 0.127869
/* IMAGE OBJECT DEFINITIONS */
OBJECT = IMAGE
  INTERCHANGE_FORMAT = BINARY
  LINES = 5156
  LINE_SAMPLES = 5585
  SAMPLE_TYPE = UNSIGNED_INTEGER
  SAMPLE_BITS = 8
  BANDS = 1
  BAND_STORAGE_TYPE = BAND_SEQUENTIAL
  MAXIMUM = 255
  MEAN = 161.488
  MINIMUM = 1
  STANDARD_DEVIATION = 36.9195
END_OBJECT = IMAGE
/* MAP OBJECT DEFINITIONS */
OBJECT = IMAGE_MAP_PROJECTION
  ^DATA_SET_MAP_PROJECTION_CATALOG= "DSMAP.CAT"
  A_AXIS_RADIUS = 3396.0
  B_AXIS_RADIUS = 3396.0
  C_AXIS_RADIUS = 3396.0
  CENTER_LATITUDE = -6.95651
  CENTER_LONGITUDE = 246.91
  COORDINATE_SYSTEM_NAME = PLANETOGRAPHIC
  COORDINATE_SYSTEM_TYPE = "BODY-FIXED ROTATING"
  EASTERNMOST_LONGITUDE = 266.638
  FIRST_STANDARD_PARALLEL = "N/A"
  LINE_FIRST_PIXEL = 1
  LINE_LAST_PIXEL = 5156
  LINE_PROJECTION_OFFSET = 2603.0
  MAP_PROJECTION_ROTATION = 0.0
  MAP_PROJECTION_TYPE = ORTHOGRAPHIC
  MAP_RESOLUTION = 148.178450966667
  MAP_SCALE = 0.4
  MAXIMUM_LATITUDE = 12.4347
  MINIMUM_LATITUDE = -21.51
  POSITIVE_LONGITUDE_DIRECTION = EAST
  REFERENCE_LATITUDE = "N/A"
  REFERENCE_LONGITUDE = "N/A"
  SAMPLE_FIRST_PIXEL = 1
  SAMPLE_LAST_PIXEL = 5585
  SAMPLE_PROJECTION_OFFSET = 2818.0
  SECOND_STANDARD_PARALLEL = "N/A"
  WESTERNMOST_LONGITUDE = 229.496
END_OBJECT = IMAGE_MAP_PROJECTION
END
