PDS_VERSION_ID = PDS3
/* FILE DATA ELEMENTS */
RECORD_TYPE = UNDEFINED
/* POINTERS TO DATA OBJECTS */
^IMAGE = ("HM589_0000_GR4.TIF")
/* IDENTIFICATION DATA ELEMENTS */
DATA_SET_ID = "MEX-M-HRSC-4-REFDR-MAPPROJECT-EXT8-V4.0"
DATA_SET_NAME = "MARS EXPRESS HRSC MAP PROJECTED REFDR EXTENSION8 V4.0"
DETECTOR_ID = MEX_HRSC_GREEN
EVENT_TYPE = "MARS-TERMINATOR-CALIBRATION-Tc"
INSTRUMENT_HOST_ID = MEX
INSTRUMENT_HOST_NAME = "MARS EXPRESS"
INSTRUMENT_ID = HRSC
INSTRUMENT_NAME = "HIGH RESOLUTION STEREO CAMERA"
MISSION_NAME = "MARS EXPRESS"
MISSION_PHASE_NAME = ME_Phase_45
PROCESSING_LEVEL_ID = 4
PRODUCT_CREATION_TIME = 2023-01-28T19:10:30.000Z
PRODUCT_ID = "HM589_0000_GR4.TIF"
RELEASE_ID = 0003
REVISION_ID = 0000
/* QUALITY DATA ELEMENTS */
DATA_QUALITY_ID = 1
DATA_QUALITY_DESC = "Data calculated based on original SPICE kernels"
/* TIME DATA ELEMENTS */
SPACECRAFT_CLOCK_START_COUNT = "1/0585224339.25677"
SPACECRAFT_CLOCK_STOP_COUNT = "1/0585224692.39140"
START_TIME = 2021-11-17T10:21:22.371Z
STOP_TIME = 2021-11-17T10:22:49.635Z
/* ORBITAL DATA ELEMENTS */
ASCENDING_NODE_LONGITUDE = 152.66
MAXIMUM_RESOLUTION = 0.5579
FOOTPRINT_POINT_LATITUDE = (-24.8462,-23.6005,-22.7796,-21.966, -21.1588,-20.3566,-19.559,-18.7654, -17.1874,-15.6195,-14.0614,-12.5057, -10.949,-10.169,-9.38761,-8.60378, -7.81623,-7.02452,-6.2292,-5.42989, -4.62557,-4.42358,-4.37217,-3.34373, -2.82581,-2.30734,-1.78515,-1.26104, -0.733673,-0.20253,0.332984,0.873041, 1.41786,1.9661,2.7928,3.3682,4.10181, 4.68475,5.28001,5.88244,6.49221,7.11225 ,7.74322,8.38583,9.04625,9.73208, 9.90397,9.98347,8.49482,7.66344,6.84129 ,5.63424,4.83427,4.04233,3.25489, 2.47321,1.69757,0.926547,0.159576, -0.602607,-1.36095,-2.30602,-3.06109, -3.81357,-4.56308,-5.31146,-6.05882, -6.80534,-7.55169,-8.29921,-9.04815, -9.7987,-9.98664,-10.0552,-10.8193, -11.4231,-12.0211,-12.6141,-13.2027, -13.7875,-14.3691,-14.9479,-15.5249, -16.1003,-16.6749,-17.2486,-17.822, -18.3963,-18.9715,-19.5491,-20.1292, -20.7122,-21.2982,-21.8877,-22.4813, -23.0801,-23.6849,-24.6013,-24.7577, -24.8462)
FOOTPRINT_POINT_LONGITUDE = (245.767,246.674,247.269,247.858, 248.441,249.02,249.595,250.168,251.306, 252.441,253.574,254.713,255.862,256.442 ,257.027,257.617,258.213,258.817, 259.428,260.048,260.676,260.835,260.818 ,258.879,257.935,256.999,256.077, 255.164,254.26,253.365,252.477,251.596, 250.719,249.845,248.536,247.675,246.598 ,245.731,244.862,243.99,243.114,242.232 ,241.345,240.451,239.548,238.631, 238.401,238.294,237.289,236.712,236.136 ,235.268,234.693,234.116,233.539, 232.959,232.377,231.791,231.202,230.607 ,230.006,229.246,228.631,228.01,227.379 ,226.74,226.091,225.43,224.758,224.074, 223.375,222.661,222.479,222.415,223.657 ,224.633,225.596,226.545,227.484, 228.414,229.335,230.251,231.16,232.066, 232.967,233.868,234.767,235.666,236.567 ,237.469,238.375,239.285,240.201, 241.124,242.056,242.998,243.95,245.404, 245.649,245.767)
ORBIT_NUMBER = 22589
ORBITAL_ECCENTRICITY = 0.571
ORBITAL_INCLINATION = 87.03
ORBITAL_SEMIMAJOR_AXIS = 8797.47
PERIAPSIS_ALTITUDE = 387.33
PERIAPSIS_ARGUMENT_ANGLE = 49.89
PERIAPSIS_TIME = 2021-11-17T08:52:30.000Z
SPACECRAFT_ORIENTATION = (0.0,1.0,0.0)
^MEX_ORIENTATION_DESC = "MEX_ORIENTATION_DESC.TXT"
SPACECRAFT_POINTING_MODE = FIXED
^MEX_POINTING_DESC = "MEX_POINTING_DESC.TXT"
RIGHT_ASCENSION = -1e+32
DECLINATION = -1e+32
OFFSET_ANGLE = -1e+32
SPACECRAFT_SOLAR_DISTANCE = 2.37933e+08
TARGET_NAME = MARS
/* CAMERA DATA ELEMENTS */
DETECTOR_TEMPERATURE = 17.7588
FOCAL_PLANE_TEMPERATURE = 7.5638
INST_CMPRS_NAME = "DISCRETE COSINE TRANSFORMATION (DCT)"
INST_CMPRS_RATIO = 6.93619
INST_CMPRS_QUALITY = 0
INST_CMPRS_QUANTZ_TBL_ID = 0
INSTRUMENT_TEMPERATURE = 11.6418
LENS_TEMPERATURE = 8.3794
MACROPIXEL_SIZE = 2
MISSING_FRAMES = 0
PIXEL_SUBSAMPLING_FLAG = N
SIGNAL_CHAIN_ID = 2
/* RADIOMETRIC DATA ELEMENTS */
BANDWIDTH = 88.0
CENTER_FILTER_WAVELENGTH = 538.0
RADIANCE_OFFSET = 1.63013
RADIANCE_SCALING_FACTOR = 0.0096651
REFLECTANCE_SCALING_FACTOR = 0.000471053
MEX:REFLECTANCE_OFFSET = 0.0794485
/* IMAGE OBJECT DEFINITIONS */
OBJECT = IMAGE
  INTERCHANGE_FORMAT = BINARY
  LINES = 5111
  LINE_SAMPLES = 5564
  SAMPLE_TYPE = UNSIGNED_INTEGER
  SAMPLE_BITS = 8
  BANDS = 1
  BAND_STORAGE_TYPE = BAND_SEQUENTIAL
  MAXIMUM = 255
  MEAN = 112.933
  MINIMUM = 1
  STANDARD_DEVIATION = 31.862
END_OBJECT = IMAGE
/* MAP OBJECT DEFINITIONS */
OBJECT = IMAGE_MAP_PROJECTION
  ^DATA_SET_MAP_PROJECTION_CATALOG= "DSMAP.CAT"
  A_AXIS_RADIUS = 3396.0
  B_AXIS_RADIUS = 3396.0
  C_AXIS_RADIUS = 3396.0
  CENTER_LATITUDE = -8.153460000000001
  CENTER_LONGITUDE = 241.755
  COORDINATE_SYSTEM_NAME = PLANETOGRAPHIC
  COORDINATE_SYSTEM_TYPE = "BODY-FIXED ROTATING"
  EASTERNMOST_LONGITUDE = 260.835
  FIRST_STANDARD_PARALLEL = "N/A"
  LINE_FIRST_PIXEL = 1
  LINE_LAST_PIXEL = 5111
  LINE_PROJECTION_OFFSET = 2581.0
  MAP_PROJECTION_ROTATION = 0.0
  MAP_PROJECTION_TYPE = ORTHOGRAPHIC
  MAP_RESOLUTION = 148.178450966667
  MAP_SCALE = 0.4
  MAXIMUM_LATITUDE = 9.983470000000001
  MINIMUM_LATITUDE = -24.8462
  POSITIVE_LONGITUDE_DIRECTION = EAST
  REFERENCE_LATITUDE = "N/A"
  REFERENCE_LONGITUDE = "N/A"
  SAMPLE_FIRST_PIXEL = 1
  SAMPLE_LAST_PIXEL = 5564
  SAMPLE_PROJECTION_OFFSET = 2808.0
  SECOND_STANDARD_PARALLEL = "N/A"
  WESTERNMOST_LONGITUDE = 222.415
END_OBJECT = IMAGE_MAP_PROJECTION
END
