PDS_VERSION_ID = PDS3
/* FILE DATA ELEMENTS */
RECORD_TYPE = UNDEFINED
/* POINTERS TO DATA OBJECTS */
^IMAGE = ("HM577_0000_BL4.TIF")
/* IDENTIFICATION DATA ELEMENTS */
DATA_SET_ID = "MEX-M-HRSC-4-REFDR-MAPPROJECT-EXT8-V4.0"
DATA_SET_NAME = "MARS EXPRESS HRSC MAP PROJECTED REFDR EXTENSION8 V4.0"
DETECTOR_ID = MEX_HRSC_BLUE
EVENT_TYPE = "MARS-TERMINATOR-CALIBRATION-Tc"
INSTRUMENT_HOST_ID = MEX
INSTRUMENT_HOST_NAME = "MARS EXPRESS"
INSTRUMENT_ID = HRSC
INSTRUMENT_NAME = "HIGH RESOLUTION STEREO CAMERA"
MISSION_NAME = "MARS EXPRESS"
MISSION_PHASE_NAME = ME_Phase_45
PROCESSING_LEVEL_ID = 4
PRODUCT_CREATION_TIME = 2023-01-28T19:10:30.000Z
PRODUCT_ID = "HM577_0000_BL4.TIF"
RELEASE_ID = 0003
REVISION_ID = 0000
/* QUALITY DATA ELEMENTS */
DATA_QUALITY_ID = 1
DATA_QUALITY_DESC = "Data calculated based on original SPICE kernels"
/* TIME DATA ELEMENTS */
SPACECRAFT_CLOCK_START_COUNT = "1/0584923091.25679"
SPACECRAFT_CLOCK_STOP_COUNT = "1/0584923572.24574"
START_TIME = 2021-11-13T22:41:00.358Z
STOP_TIME = 2021-11-13T22:45:19.364Z
/* ORBITAL DATA ELEMENTS */
ASCENDING_NODE_LONGITUDE = 152.86
MAXIMUM_RESOLUTION = 0.5997
FOOTPRINT_POINT_LATITUDE = (-29.2641,-26.0866,-25.6776,-25.8495, -18.8961,-14.3522,-10.6089,-7.91714, -5.5389,-3.64409,-1.34931,2.3455, 5.04748,7.53797,5.92945,5.22953,4.83365 ,4.43998,4.31245,4.33193,4.45693, 4.65849,4.9201,5.22902,5.57815,6.3907, 7.34378,8.41396,9.60886,10.9496,12.416, 14.0543,15.8962,18.0077,20.433,21.8226, 23.3414,25.0415,26.9719,29.2552,31.9892 ,33.6517,35.6719,38.3281,42.6624, 43.6372,40.0156,38.1571,37.3361,36.4079 ,32.8246,29.2207,24.9447,25.1685, 22.7193,20.6971,17.3437,14.9572,11.4931 ,11.235,11.1395,8.85177,7.27203,5.98823 ,4.86811,3.89907,2.15843,0.652095, -0.691659,-1.91912,-3.04753,-4.10276, -5.09289,-6.92207,-8.59373,-10.144, -11.6006,-12.9822,-14.3055,-15.5822, -16.8229,-18.0349,-19.2294,-20.4116, -21.5854,-22.7615,-23.9393,-25.1157, -25.7123,-26.3037,-26.8953,-27.481, -28.0576,-28.6097,-28.8528,-29.0845, -29.2828,-29.3966,-29.2196,-29.2641)
FOOTPRINT_POINT_LONGITUDE = (456.435,459.199,460.014,460.496, 458.261,458.216,459.003,457.613,456.375 ,454.5,454.368,452.908,455.086,451.574, 444.722,440.808,437.871,433.293,429.597 ,426.4,423.55,420.949,418.536,416.267, 414.115,410.093,406.353,402.794,399.362 ,396.009,392.674,389.32,385.894,382.327 ,378.526,376.492,374.336,372.016, 369.472,366.584,363.193,361.175,358.767 ,355.636,350.478,342.792,342.98,340.991 ,337.567,333.494,332.435,330.197, 326.351,325.893,328.419,329.33,329.903, 329.415,327.34,327.099,327.017,332.171, 335.604,338.339,340.693,342.711,346.307 ,349.402,352.16,354.685,357.016,359.209 ,361.282,365.163,368.783,372.219,375.53 ,378.76,381.947,385.125,388.324,391.576 ,394.921,398.398,402.052,405.962, 410.206,414.894,417.499,420.289,423.348 ,426.744,430.625,435.217,437.761, 440.778,444.465,449.118,457.393, 456.435)
ORBIT_NUMBER = 22577
ORBITAL_ECCENTRICITY = 0.571
ORBITAL_INCLINATION = 87.02
ORBITAL_SEMIMAJOR_AXIS = 8791.21
PERIAPSIS_ALTITUDE = 388.63
PERIAPSIS_ARGUMENT_ANGLE = 51.98
PERIAPSIS_TIME = 2021-11-13T21:04:45.000Z
SPACECRAFT_ORIENTATION = (0.0,-1.0,0.0)
^MEX_ORIENTATION_DESC = "MEX_ORIENTATION_DESC.TXT"
SPACECRAFT_POINTING_MODE = FIXED
^MEX_POINTING_DESC = "MEX_POINTING_DESC.TXT"
RIGHT_ASCENSION = -1e+32
DECLINATION = -1e+32
OFFSET_ANGLE = -1e+32
SPACECRAFT_SOLAR_DISTANCE = 2.38503e+08
TARGET_NAME = MARS
/* CAMERA DATA ELEMENTS */
DETECTOR_TEMPERATURE = 17.7588
FOCAL_PLANE_TEMPERATURE = 7.3599
INST_CMPRS_NAME = "DISCRETE COSINE TRANSFORMATION (DCT)"
INST_CMPRS_RATIO = 4.50556
INST_CMPRS_QUALITY = 0
INST_CMPRS_QUANTZ_TBL_ID = 0
INSTRUMENT_TEMPERATURE = 11.0301
LENS_TEMPERATURE = 7.9716
MACROPIXEL_SIZE = 2
MISSING_FRAMES = 0
PIXEL_SUBSAMPLING_FLAG = N
SIGNAL_CHAIN_ID = 2
/* RADIOMETRIC DATA ELEMENTS */
BANDWIDTH = 76.0
CENTER_FILTER_WAVELENGTH = 444.0
RADIANCE_OFFSET = 0.0
RADIANCE_SCALING_FACTOR = 0.0118319
REFLECTANCE_SCALING_FACTOR = 0.000691448
MEX:REFLECTANCE_OFFSET = 0.0
/* IMAGE OBJECT DEFINITIONS */
OBJECT = IMAGE
  INTERCHANGE_FORMAT = BINARY
  LINES = 10350
  LINE_SAMPLES = 15530
  SAMPLE_TYPE = UNSIGNED_INTEGER
  SAMPLE_BITS = 8
  BANDS = 1
  BAND_STORAGE_TYPE = BAND_SEQUENTIAL
  MAXIMUM = 254
  MEAN = 101.834
  MINIMUM = 37
  STANDARD_DEVIATION = 41.1694
END_OBJECT = IMAGE
/* MAP OBJECT DEFINITIONS */
OBJECT = IMAGE_MAP_PROJECTION
  ^DATA_SET_MAP_PROJECTION_CATALOG= "DSMAP.CAT"
  A_AXIS_RADIUS = 3396.0
  B_AXIS_RADIUS = 3396.0
  C_AXIS_RADIUS = 3396.0
  CENTER_LATITUDE = -3.40474
  CENTER_LONGITUDE = 31.8412
  COORDINATE_SYSTEM_NAME = PLANETOGRAPHIC
  COORDINATE_SYSTEM_TYPE = "BODY-FIXED ROTATING"
  EASTERNMOST_LONGITUDE = 100.496
  FIRST_STANDARD_PARALLEL = "N/A"
  LINE_FIRST_PIXEL = 1
  LINE_LAST_PIXEL = 10350
  LINE_PROJECTION_OFFSET = 6455.0
  MAP_PROJECTION_ROTATION = 0.0
  MAP_PROJECTION_TYPE = ORTHOGRAPHIC
  MAP_RESOLUTION = 148.178450966667
  MAP_SCALE = 0.4
  MAXIMUM_LATITUDE = 43.6372
  MINIMUM_LATITUDE = -29.3966
  POSITIVE_LONGITUDE_DIRECTION = EAST
  REFERENCE_LATITUDE = "N/A"
  REFERENCE_LONGITUDE = "N/A"
  SAMPLE_FIRST_PIXEL = 1
  SAMPLE_LAST_PIXEL = 15530
  SAMPLE_PROJECTION_OFFSET = 7815.0
  SECOND_STANDARD_PARALLEL = "N/A"
  WESTERNMOST_LONGITUDE = -34.107
END_OBJECT = IMAGE_MAP_PROJECTION
END
