PDS_VERSION_ID = PDS3
/* FILE DATA ELEMENTS */
RECORD_TYPE = UNDEFINED
/* POINTERS TO DATA OBJECTS */
^IMAGE = ("HM563_0000_RE4.TIF")
/* IDENTIFICATION DATA ELEMENTS */
DATA_SET_ID = "MEX-M-HRSC-4-REFDR-MAPPROJECT-EXT8-V4.0"
DATA_SET_NAME = "MARS EXPRESS HRSC MAP PROJECTED REFDR EXTENSION8 V4.0"
DETECTOR_ID = MEX_HRSC_RED
EVENT_TYPE = "MARS-TERMINATOR-CALIBRATION-Tc"
INSTRUMENT_HOST_ID = MEX
INSTRUMENT_HOST_NAME = "MARS EXPRESS"
INSTRUMENT_ID = HRSC
INSTRUMENT_NAME = "HIGH RESOLUTION STEREO CAMERA"
MISSION_NAME = "MARS EXPRESS"
MISSION_PHASE_NAME = ME_Phase_45
PROCESSING_LEVEL_ID = 4
PRODUCT_CREATION_TIME = 2023-01-28T19:10:30.000Z
PRODUCT_ID = "HM563_0000_RE4.TIF"
RELEASE_ID = 0003
REVISION_ID = 0000
/* QUALITY DATA ELEMENTS */
DATA_QUALITY_ID = 1
DATA_QUALITY_DESC = "Data calculated based on original SPICE kernels"
/* TIME DATA ELEMENTS */
SPACECRAFT_CLOCK_START_COUNT = "1/0584570650.23993"
SPACECRAFT_CLOCK_STOP_COUNT = "1/0584571143.24242"
START_TIME = 2021-11-09T20:48:26.332Z
STOP_TIME = 2021-11-09T20:52:51.575Z
/* ORBITAL DATA ELEMENTS */
ASCENDING_NODE_LONGITUDE = 153.11
MAXIMUM_RESOLUTION = 0.5694
FOOTPRINT_POINT_LATITUDE = (-28.3277,-25.9768,-23.597,-19.8464, -17.6833,-17.234,-17.0964,-12.6212, -8.86208,-5.95826,-4.16501,-1.9134, 0.908257,2.11109,4.63342,3.9779,3.16019 ,2.71514,2.43602,2.12778,2.01857, 2.02675,2.11784,2.27022,2.4735,2.71689, 2.99837,3.6521,4.40883,5.26429,6.21386, 7.2566,8.41596,9.69648,11.1159,12.698, 14.4893,16.5343,17.6923,18.9573,20.3448 ,21.8894,23.654,25.7228,28.2431,29.7876 ,31.661,34.0324,37.9592,37.7943,37.295, 34.2064,33.0203,29.0753,26.2661,18.0495 ,15.232,12.4042,12.3255,12.3014,7.08731 ,5.39905,4.06218,2.97737,2.02316, 1.14036,-0.356916,-1.66573,-2.84783, -3.91897,-4.90938,-5.83181,-6.69614, -7.51607,-8.29447,-9.74927,-11.0984, -12.3659,-13.5662,-14.7147,-15.8217, -16.8983,-17.9489,-18.9833,-20.0098, -21.0284,-22.316,-23.3391,-23.8577, -24.379,-24.9054,-25.4329,-25.9696, -26.4996,-27.0271,-27.5449,-27.7817, -28.0157,-28.2162,-28.3277)
FOOTPRINT_POINT_LONGITUDE = (439.338,439.78,440.779,443.866,447.386 ,448.593,448.805,448.398,449.078, 448.258,445.089,444.257,445.759,443.024 ,444.245,438.174,433.576,430.333, 427.701,423.38,419.816,416.707,413.916, 411.358,408.985,406.754,404.645,400.697 ,397.014,393.522,390.161,386.881,383.65 ,380.422,377.156,373.804,370.309,366.59 ,364.607,362.514,360.283,357.871, 355.203,352.165,348.544,346.362,343.74, 340.4,334.805,331.403,327.708,326.839, 322.902,321.858,317.361,313.505,314.362 ,311.86,311.152,310.883,319.19,323.386, 326.629,329.219,331.475,333.552,337.049 ,340.099,342.86,345.371,347.707,349.899 ,351.97,353.954,355.856,359.469,362.899 ,366.208,369.423,372.596,375.747, 378.912,382.118,385.401,388.802,392.356 ,397.145,401.292,403.531,405.903, 408.443,411.177,414.197,417.522,421.321 ,425.848,428.42,431.52,435.236,439.338)
ORBIT_NUMBER = 22563
ORBITAL_ECCENTRICITY = 0.571
ORBITAL_INCLINATION = 87.01
ORBITAL_SEMIMAJOR_AXIS = 8785.79
PERIAPSIS_ALTITUDE = 390.06
PERIAPSIS_ARGUMENT_ANGLE = 54.38
PERIAPSIS_TIME = 2021-11-09T19:19:02.000Z
SPACECRAFT_ORIENTATION = (0.0,-1.0,0.0)
^MEX_ORIENTATION_DESC = "MEX_ORIENTATION_DESC.TXT"
SPACECRAFT_POINTING_MODE = FIXED
^MEX_POINTING_DESC = "MEX_POINTING_DESC.TXT"
RIGHT_ASCENSION = -1e+32
DECLINATION = -1e+32
OFFSET_ANGLE = -1e+32
SPACECRAFT_SOLAR_DISTANCE = 2.39153e+08
TARGET_NAME = MARS
/* CAMERA DATA ELEMENTS */
DETECTOR_TEMPERATURE = 17.9627
FOCAL_PLANE_TEMPERATURE = 7.7677
INST_CMPRS_NAME = "DISCRETE COSINE TRANSFORMATION (DCT)"
INST_CMPRS_RATIO = 9.91181
INST_CMPRS_QUALITY = 0
INST_CMPRS_QUANTZ_TBL_ID = 0
INSTRUMENT_TEMPERATURE = 10.8262
LENS_TEMPERATURE = 8.1755
MACROPIXEL_SIZE = 2
MISSING_FRAMES = 0
PIXEL_SUBSAMPLING_FLAG = N
SIGNAL_CHAIN_ID = 1
/* RADIOMETRIC DATA ELEMENTS */
BANDWIDTH = 48.0
CENTER_FILTER_WAVELENGTH = 748.0
RADIANCE_OFFSET = 0.0
RADIANCE_SCALING_FACTOR = 0.0139053
REFLECTANCE_SCALING_FACTOR = 0.00181477
MEX:REFLECTANCE_OFFSET = 0.0
/* IMAGE OBJECT DEFINITIONS */
OBJECT = IMAGE
  INTERCHANGE_FORMAT = BINARY
  LINES = 9682
  LINE_SAMPLES = 15612
  SAMPLE_TYPE = UNSIGNED_INTEGER
  SAMPLE_BITS = 8
  BANDS = 1
  BAND_STORAGE_TYPE = BAND_SEQUENTIAL
  MAXIMUM = 255
  MEAN = 132.923
  MINIMUM = 55
  STANDARD_DEVIATION = 37.6092
END_OBJECT = IMAGE
/* MAP OBJECT DEFINITIONS */
OBJECT = IMAGE_MAP_PROJECTION
  ^DATA_SET_MAP_PROJECTION_CATALOG= "DSMAP.CAT"
  A_AXIS_RADIUS = 3396.0
  B_AXIS_RADIUS = 3396.0
  C_AXIS_RADIUS = 3396.0
  CENTER_LATITUDE = -2.60209
  CENTER_LONGITUDE = 22.0683
  COORDINATE_SYSTEM_NAME = PLANETOGRAPHIC
  COORDINATE_SYSTEM_TYPE = "BODY-FIXED ROTATING"
  EASTERNMOST_LONGITUDE = 89.078
  FIRST_STANDARD_PARALLEL = "N/A"
  LINE_FIRST_PIXEL = 1
  LINE_LAST_PIXEL = 9682
  LINE_PROJECTION_OFFSET = 6094.0
  MAP_PROJECTION_ROTATION = 0.0
  MAP_PROJECTION_TYPE = ORTHOGRAPHIC
  MAP_RESOLUTION = 148.178450966667
  MAP_SCALE = 0.4
  MAXIMUM_LATITUDE = 37.9592
  MINIMUM_LATITUDE = -28.3277
  POSITIVE_LONGITUDE_DIRECTION = EAST
  REFERENCE_LATITUDE = "N/A"
  REFERENCE_LONGITUDE = "N/A"
  SAMPLE_FIRST_PIXEL = 1
  SAMPLE_LAST_PIXEL = 15612
  SAMPLE_PROJECTION_OFFSET = 7868.0
  SECOND_STANDARD_PARALLEL = "N/A"
  WESTERNMOST_LONGITUDE = -49.117
END_OBJECT = IMAGE_MAP_PROJECTION
END
