PDS_VERSION_ID = PDS3
/* FILE DATA ELEMENTS */
RECORD_TYPE = UNDEFINED
/* POINTERS TO DATA OBJECTS */
^IMAGE = ("HM536_0000_RE4.TIF")
/* IDENTIFICATION DATA ELEMENTS */
DATA_SET_ID = "MEX-M-HRSC-4-REFDR-MAPPROJECT-EXT8-V4.0"
DATA_SET_NAME = "MARS EXPRESS HRSC MAP PROJECTED REFDR EXTENSION8 V4.0"
DETECTOR_ID = MEX_HRSC_RED
EVENT_TYPE = "MARS-TERMINATOR-CALIBRATION-Tc"
INSTRUMENT_HOST_ID = MEX
INSTRUMENT_HOST_NAME = "MARS EXPRESS"
INSTRUMENT_ID = HRSC
INSTRUMENT_NAME = "HIGH RESOLUTION STEREO CAMERA"
MISSION_NAME = "MARS EXPRESS"
MISSION_PHASE_NAME = ME_Phase_45
PROCESSING_LEVEL_ID = 4
PRODUCT_CREATION_TIME = 2023-01-28T19:10:30.000Z
PRODUCT_ID = "HM536_0000_RE4.TIF"
RELEASE_ID = 0003
REVISION_ID = 0000
/* QUALITY DATA ELEMENTS */
DATA_QUALITY_ID = 1
DATA_QUALITY_DESC = "Data calculated based on original SPICE kernels"
/* TIME DATA ELEMENTS */
SPACECRAFT_CLOCK_START_COUNT = "1/0583891394.23941"
SPACECRAFT_CLOCK_STOP_COUNT = "1/0583891762.65208"
START_TIME = 2021-11-02T00:07:46.288Z
STOP_TIME = 2021-11-02T00:09:34.044Z
/* ORBITAL DATA ELEMENTS */
ASCENDING_NODE_LONGITUDE = 153.6
MAXIMUM_RESOLUTION = 0.5193
FOOTPRINT_POINT_LATITUDE = (-28.8683,-27.3329,-26.4669,-25.6081, -24.7563,-23.911,-23.0712,-21.4032, -19.7496,-18.1067,-16.4724,-14.8409, -13.2097,-11.5722,-9.92504,-9.09612, -7.63482,-7.42493,-7.37064,-7.0226, -6.8399,-6.59579,-6.40727,-6.21639, -5.96591,-5.69596,-5.48529,-5.28718, -4.99727,-4.77735,-4.5504,-4.23769, -3.90924,-3.57994,-3.236,-2.88106, -2.5149,-2.1369,-1.74556,-1.33941, -1.03382,-0.630941,-0.177241,0.326054, 0.95503,1.08353,1.11767,0.267335, -0.582877,-1.42353,-2.25732,-3.08553, -3.90814,-4.72808,-5.54284,-6.354, -7.37412,-8.18005,-8.9769,-9.76952, -10.5565,-11.7474,-12.5431,-13.3395, -14.5359,-15.3356,-16.1381,-16.944, -17.7533,-18.5662,-19.588,-19.7932, -19.8677,-20.1915,-20.6119,-21.0208, -21.4196,-21.8095,-22.1913,-22.5655, -22.9333,-23.2957,-23.6528,-24.0054, -24.3544,-24.7001,-25.0375,-25.3818, -25.7208,-26.0496,-26.3869,-26.722, -26.9574,-27.2986,-27.649,-27.989, -28.33,-28.7582,-28.8442,-28.8683)
FOOTPRINT_POINT_LONGITUDE = (266.048,266.492,266.744,266.997, 267.249,267.501,267.755,268.263,268.777 ,269.298,269.827,270.366,270.917, 271.483,272.066,272.365,272.901,272.979 ,272.966,271.054,270.12,268.876,267.954 ,267.037,265.813,264.617,263.729, 262.831,261.656,260.777,259.902,258.738 ,257.576,256.411,255.245,254.075,252.9, 251.717,250.526,249.323,248.418,247.212 ,245.968,244.679,243.054,242.725, 242.638,242.341,242.035,241.722,241.405 ,241.083,240.755,240.425,240.089, 239.748,239.338,238.99,238.619,238.228, 237.799,237.173,236.75,236.312,235.623, 235.15,234.664,234.165,233.65,233.119, 232.429,232.288,232.238,233.369,234.847 ,236.291,237.707,239.097,240.465, 241.815,243.15,244.471,245.782,247.084, 248.379,249.671,250.963,252.25,253.541, 254.837,256.137,257.446,258.431,259.758 ,261.103,262.463,263.842,265.597, 265.953,266.048)
ORBIT_NUMBER = 22536
ORBITAL_ECCENTRICITY = 0.57
ORBITAL_INCLINATION = 87.02
ORBITAL_SEMIMAJOR_AXIS = 8782.43
PERIAPSIS_ALTITUDE = 391.93
PERIAPSIS_ARGUMENT_ANGLE = 59.03
PERIAPSIS_TIME = 2021-11-01T22:46:49.000Z
SPACECRAFT_ORIENTATION = (0.0,-1.0,0.0)
^MEX_ORIENTATION_DESC = "MEX_ORIENTATION_DESC.TXT"
SPACECRAFT_POINTING_MODE = FIXED
^MEX_POINTING_DESC = "MEX_POINTING_DESC.TXT"
RIGHT_ASCENSION = -1e+32
DECLINATION = -1e+32
OFFSET_ANGLE = -1e+32
SPACECRAFT_SOLAR_DISTANCE = 2.40361e+08
TARGET_NAME = MARS
/* CAMERA DATA ELEMENTS */
DETECTOR_TEMPERATURE = 18.3705
FOCAL_PLANE_TEMPERATURE = 6.7482
INST_CMPRS_NAME = "DISCRETE COSINE TRANSFORMATION (DCT)"
INST_CMPRS_RATIO = 8.87678
INST_CMPRS_QUALITY = 0
INST_CMPRS_QUANTZ_TBL_ID = 0
INSTRUMENT_TEMPERATURE = 10.6223
LENS_TEMPERATURE = 8.1755
MACROPIXEL_SIZE = 2
MISSING_FRAMES = 0
PIXEL_SUBSAMPLING_FLAG = N
SIGNAL_CHAIN_ID = 1
/* RADIOMETRIC DATA ELEMENTS */
BANDWIDTH = 48.0
CENTER_FILTER_WAVELENGTH = 748.0
RADIANCE_OFFSET = 0.877982
RADIANCE_SCALING_FACTOR = 0.0114769
REFLECTANCE_SCALING_FACTOR = 0.00151304
MEX:REFLECTANCE_OFFSET = 0.115748
/* IMAGE OBJECT DEFINITIONS */
OBJECT = IMAGE
  INTERCHANGE_FORMAT = BINARY
  LINES = 4423
  LINE_SAMPLES = 5629
  SAMPLE_TYPE = UNSIGNED_INTEGER
  SAMPLE_BITS = 8
  BANDS = 1
  BAND_STORAGE_TYPE = BAND_SEQUENTIAL
  MAXIMUM = 255
  MEAN = 123.123
  MINIMUM = 1
  STANDARD_DEVIATION = 35.9433
END_OBJECT = IMAGE
/* MAP OBJECT DEFINITIONS */
OBJECT = IMAGE_MAP_PROJECTION
  ^DATA_SET_MAP_PROJECTION_CATALOG= "DSMAP.CAT"
  A_AXIS_RADIUS = 3396.0
  B_AXIS_RADIUS = 3396.0
  C_AXIS_RADIUS = 3396.0
  CENTER_LATITUDE = -11.5593
  CENTER_LONGITUDE = 254.858
  COORDINATE_SYSTEM_NAME = PLANETOGRAPHIC
  COORDINATE_SYSTEM_TYPE = "BODY-FIXED ROTATING"
  EASTERNMOST_LONGITUDE = 272.979
  FIRST_STANDARD_PARALLEL = "N/A"
  LINE_FIRST_PIXEL = 1
  LINE_LAST_PIXEL = 4423
  LINE_PROJECTION_OFFSET = 2261.0
  MAP_PROJECTION_ROTATION = 0.0
  MAP_PROJECTION_TYPE = ORTHOGRAPHIC
  MAP_RESOLUTION = 148.178450966667
  MAP_SCALE = 0.4
  MAXIMUM_LATITUDE = 1.11767
  MINIMUM_LATITUDE = -28.8683
  POSITIVE_LONGITUDE_DIRECTION = EAST
  REFERENCE_LATITUDE = "N/A"
  REFERENCE_LONGITUDE = "N/A"
  SAMPLE_FIRST_PIXEL = 1
  SAMPLE_LAST_PIXEL = 5629
  SAMPLE_PROJECTION_OFFSET = 2888.0
  SECOND_STANDARD_PARALLEL = "N/A"
  WESTERNMOST_LONGITUDE = 232.238
END_OBJECT = IMAGE_MAP_PROJECTION
END
