PDS_VERSION_ID = PDS3
/* FILE DATA ELEMENTS */
RECORD_TYPE = UNDEFINED
/* POINTERS TO DATA OBJECTS */
^IMAGE = ("HM536_0000_P24.TIF")
/* IDENTIFICATION DATA ELEMENTS */
DATA_SET_ID = "MEX-M-HRSC-4-REFDR-MAPPROJECT-EXT8-V4.0"
DATA_SET_NAME = "MARS EXPRESS HRSC MAP PROJECTED REFDR EXTENSION8 V4.0"
DETECTOR_ID = MEX_HRSC_P2
EVENT_TYPE = "MARS-TERMINATOR-CALIBRATION-Tc"
INSTRUMENT_HOST_ID = MEX
INSTRUMENT_HOST_NAME = "MARS EXPRESS"
INSTRUMENT_ID = HRSC
INSTRUMENT_NAME = "HIGH RESOLUTION STEREO CAMERA"
MISSION_NAME = "MARS EXPRESS"
MISSION_PHASE_NAME = ME_Phase_45
PROCESSING_LEVEL_ID = 4
PRODUCT_CREATION_TIME = 2023-01-28T19:10:30.000Z
PRODUCT_ID = "HM536_0000_P24.TIF"
RELEASE_ID = 0003
REVISION_ID = 0000
/* QUALITY DATA ELEMENTS */
DATA_QUALITY_ID = 1
DATA_QUALITY_DESC = "Data calculated based on original SPICE kernels"
/* TIME DATA ELEMENTS */
SPACECRAFT_CLOCK_START_COUNT = "1/0583891394.23941"
SPACECRAFT_CLOCK_STOP_COUNT = "1/0583891762.65208"
START_TIME = 2021-11-02T00:07:24.301Z
STOP_TIME = 2021-11-02T00:09:12.014Z
/* ORBITAL DATA ELEMENTS */
ASCENDING_NODE_LONGITUDE = 153.6
MAXIMUM_RESOLUTION = 1.0353
FOOTPRINT_POINT_LATITUDE = (-28.4326,-27.3683,-26.5256,-25.6907, -24.8629,-24.0409,-22.4112,-20.7987, -19.1975,-17.6053,-16.0199,-14.437, -12.8532,-11.2636,-9.66407,-8.85972, -8.05183,-7.03615,-6.83213,-6.78348, -6.61623,-6.40238,-6.09878,-5.84287, -5.54099,-5.27767,-5.00786,-4.59618, -4.37662,-4.08497,-3.85564,-3.54119, -3.21649,-2.88271,-2.53768,-2.18284, -1.81545,-1.43591,-1.04242,-0.637952, -0.248436,0.0734589,0.529375,1.04519, 1.42208,1.54879,1.63596,0.607203, -0.219434,-1.03769,-1.84891,-2.65488, -3.45561,-4.25155,-5.04588,-5.83464, -7.21669,-8.77495,-9.54802,-10.3149, -11.0801,-11.8529,-12.6251,-13.3975, -14.1715,-14.9479,-15.7264,-16.5072, -17.2913,-18.0794,-19.2691,-19.4683, -19.5356,-20.1629,-20.5664,-20.9603, -21.3452,-21.7223,-22.0919,-22.4551, -22.8124,-23.165,-23.5136,-23.8568, -24.1145,-24.3688,-24.7053,-25.0368, -25.2887,-25.6995,-26.0328,-26.3606, -26.6902,-27.0227,-27.3612,-27.6967, -28.0337,-28.2875,-28.3725,-28.4326)
FOOTPRINT_POINT_LONGITUDE = (266.232,266.538,266.783,267.028, 267.272,267.517,268.008,268.503,269.003 ,269.511,270.026,270.552,271.09,271.642 ,272.211,272.502,272.798,273.176, 273.253,273.261,272.298,270.998,269.461 ,268.254,266.722,265.531,264.348, 262.584,261.713,260.551,259.684,258.53, 257.376,256.221,255.063,253.901,252.732 ,251.556,250.37,249.175,247.985,247.072 ,245.832,244.538,243.569,243.243, 243.021,242.668,242.374,242.075,241.77, 241.46,241.146,240.827,240.507,240.179, 239.614,238.924,238.559,238.162,237.738 ,237.34,236.93,236.506,236.065,235.611, 235.149,234.673,234.184,233.679,232.892 ,232.758,232.716,234.926,236.358,237.76 ,239.138,240.493,241.83,243.151,244.459 ,245.756,247.043,248.326,249.282, 250.239,251.512,252.787,253.743,255.343 ,256.629,257.923,259.226,260.543, 261.877,263.228,264.598,265.64,265.991, 266.232)
ORBIT_NUMBER = 22536
ORBITAL_ECCENTRICITY = 0.57
ORBITAL_INCLINATION = 87.02
ORBITAL_SEMIMAJOR_AXIS = 8782.43
PERIAPSIS_ALTITUDE = 391.93
PERIAPSIS_ARGUMENT_ANGLE = 59.03
PERIAPSIS_TIME = 2021-11-01T22:46:49.000Z
SPACECRAFT_ORIENTATION = (0.0,-1.0,0.0)
^MEX_ORIENTATION_DESC = "MEX_ORIENTATION_DESC.TXT"
SPACECRAFT_POINTING_MODE = FIXED
^MEX_POINTING_DESC = "MEX_POINTING_DESC.TXT"
RIGHT_ASCENSION = -1e+32
DECLINATION = -1e+32
OFFSET_ANGLE = -1e+32
SPACECRAFT_SOLAR_DISTANCE = 2.40361e+08
TARGET_NAME = MARS
/* CAMERA DATA ELEMENTS */
DETECTOR_TEMPERATURE = 18.3705
FOCAL_PLANE_TEMPERATURE = 6.7482
INST_CMPRS_NAME = "DISCRETE COSINE TRANSFORMATION (DCT)"
INST_CMPRS_RATIO = 8.69888
INST_CMPRS_QUALITY = 0
INST_CMPRS_QUANTZ_TBL_ID = 0
INSTRUMENT_TEMPERATURE = 10.6223
LENS_TEMPERATURE = 8.1755
MACROPIXEL_SIZE = 4
MISSING_FRAMES = 0
PIXEL_SUBSAMPLING_FLAG = N
SIGNAL_CHAIN_ID = 3
/* RADIOMETRIC DATA ELEMENTS */
BANDWIDTH = 177.0
CENTER_FILTER_WAVELENGTH = 676.5
RADIANCE_OFFSET = 3.47209
RADIANCE_SCALING_FACTOR = 0.0378223
REFLECTANCE_SCALING_FACTOR = 0.00115852
MEX:REFLECTANCE_OFFSET = 0.106353
/* IMAGE OBJECT DEFINITIONS */
OBJECT = IMAGE
  INTERCHANGE_FORMAT = BINARY
  LINES = 2212
  LINE_SAMPLES = 2815
  SAMPLE_TYPE = UNSIGNED_INTEGER
  SAMPLE_BITS = 8
  BANDS = 1
  BAND_STORAGE_TYPE = BAND_SEQUENTIAL
  MAXIMUM = 255
  MEAN = 124.015
  MINIMUM = 1
  STANDARD_DEVIATION = 34.5698
END_OBJECT = IMAGE
/* MAP OBJECT DEFINITIONS */
OBJECT = IMAGE_MAP_PROJECTION
  ^DATA_SET_MAP_PROJECTION_CATALOG= "DSMAP.CAT"
  A_AXIS_RADIUS = 3396.0
  B_AXIS_RADIUS = 3396.0
  C_AXIS_RADIUS = 3396.0
  CENTER_LATITUDE = -11.5593
  CENTER_LONGITUDE = 254.858
  COORDINATE_SYSTEM_NAME = PLANETOGRAPHIC
  COORDINATE_SYSTEM_TYPE = "BODY-FIXED ROTATING"
  EASTERNMOST_LONGITUDE = 273.261
  FIRST_STANDARD_PARALLEL = "N/A"
  LINE_FIRST_PIXEL = 1
  LINE_LAST_PIXEL = 2212
  LINE_PROJECTION_OFFSET = 1130.25
  MAP_PROJECTION_ROTATION = 0.0
  MAP_PROJECTION_TYPE = ORTHOGRAPHIC
  MAP_RESOLUTION = 74.08922548333329
  MAP_SCALE = 0.8
  MAXIMUM_LATITUDE = 1.63596
  MINIMUM_LATITUDE = -28.4326
  POSITIVE_LONGITUDE_DIRECTION = EAST
  REFERENCE_LATITUDE = "N/A"
  REFERENCE_LONGITUDE = "N/A"
  SAMPLE_FIRST_PIXEL = 1
  SAMPLE_LAST_PIXEL = 2815
  SAMPLE_PROJECTION_OFFSET = 1443.75
  SECOND_STANDARD_PARALLEL = "N/A"
  WESTERNMOST_LONGITUDE = 232.716
END_OBJECT = IMAGE_MAP_PROJECTION
END
