PDS_VERSION_ID = PDS3
/* FILE DATA ELEMENTS */
RECORD_TYPE = UNDEFINED
/* POINTERS TO DATA OBJECTS */
^IMAGE = ("HM294_0000_GR4.TIF")
/* IDENTIFICATION DATA ELEMENTS */
DATA_SET_ID = "MEX-M-HRSC-4-REFDR-MAPPROJECT-EXT8-V4.0"
DATA_SET_NAME = "MARS EXPRESS HRSC MAP PROJECTED REFDR EXTENSION8 V4.0"
DETECTOR_ID = MEX_HRSC_GREEN
EVENT_TYPE = "MARS-REGIONAL-MAPPING-Gl-La"
INSTRUMENT_HOST_ID = MEX
INSTRUMENT_HOST_NAME = "MARS EXPRESS"
INSTRUMENT_ID = HRSC
INSTRUMENT_NAME = "HIGH RESOLUTION STEREO CAMERA"
MISSION_NAME = "MARS EXPRESS"
MISSION_PHASE_NAME = ME_Phase_45
PROCESSING_LEVEL_ID = 4
PRODUCT_CREATION_TIME = 2023-01-26T14:38:01.000Z
PRODUCT_ID = "HM294_0000_GR4.TIF"
RELEASE_ID = 0002
REVISION_ID = 0000
/* QUALITY DATA ELEMENTS */
DATA_QUALITY_ID = 1
DATA_QUALITY_DESC = "Data calculated based on original SPICE kernels"
/* TIME DATA ELEMENTS */
SPACECRAFT_CLOCK_START_COUNT = "1/0577803345.24889"
SPACECRAFT_CLOCK_STOP_COUNT = "1/0577803537.15573"
START_TIME = 2021-08-23T12:56:45.232Z
STOP_TIME = 2021-08-23T12:58:50.125Z
/* ORBITAL DATA ELEMENTS */
ASCENDING_NODE_LONGITUDE = 157.92
MAXIMUM_RESOLUTION = 0.0637
FOOTPRINT_POINT_LATITUDE = (79.0972,79.0224,78.961,78.9119,78.8457 ,78.7519,78.7479,78.7421,78.4882, 78.3187,78.1488,77.9787,77.6378,77.2103 ,76.9532,76.6097,76.2655,76.0069, 75.8343,75.6615,75.4021,75.2289,75.0556 ,74.8822,74.7086,74.5349,74.361,74.1871 ,73.9259,73.7516,73.49,73.2281,73.0534, 72.8787,72.7038,72.5287,72.3535,72.1783 ,71.9153,71.7398,71.5642,71.3885, 71.1248,70.9489,70.7729,70.5968,70.4207 ,70.1563,70.0682,70.057,70.1145,70.1753 ,70.231,70.2728,70.2743,70.276,70.4541, 70.632,70.8098,70.9876,71.2542,71.4319, 71.6094,71.7869,71.9643,72.2306,72.4966 ,72.6739,72.8512,73.1168,73.2939,73.471 ,73.7365,74.0018,74.1787,74.3555, 74.6206,74.8856,75.0622,75.3269,75.5034 ,75.6798,75.9442,76.1205,76.2966, 76.4727,76.7368,76.9127,77.1765,77.3522 ,77.5279,77.7035,77.9667,78.1421, 78.3174,78.5801,78.8427,79.0177,79.1051 ,79.0972)
FOOTPRINT_POINT_LONGITUDE = (134.063,132.373,131.136,130.219, 129.069,127.574,127.515,127.283,127.706 ,127.978,128.241,128.496,128.984, 129.556,129.88,130.293,130.683,130.963, 131.143,131.319,131.574,131.739,131.9, 132.057,132.21,132.359,132.505,132.647, 132.854,132.989,133.184,133.373,133.496 ,133.616,133.733,133.847,133.959, 134.069,134.229,134.333,134.435,134.534 ,134.68,134.774,134.867,134.958,135.047 ,135.177,135.22,135.225,136.157,137.252 ,138.395,139.385,139.425,139.438,139.38 ,139.323,139.264,139.204,139.112, 139.049,138.986,138.921,138.855,138.752 ,138.646,138.574,138.5,138.387,138.309, 138.23,138.107,137.98,137.893,137.804, 137.667,137.524,137.427,137.276,137.171 ,137.065,136.9,136.786,136.67,136.55, 136.365,136.237,136.038,135.901,135.76, 135.615,135.389,135.232,135.072,134.82, 134.558,134.376,134.282,134.063)
ORBIT_NUMBER = 22294
ORBITAL_ECCENTRICITY = 0.569
ORBITAL_INCLINATION = 87.02
ORBITAL_SEMIMAJOR_AXIS = 8756.55
PERIAPSIS_ALTITUDE = 395.82
PERIAPSIS_ARGUMENT_ANGLE = 100.63
PERIAPSIS_TIME = 2021-08-23T12:56:42.000Z
SPACECRAFT_ORIENTATION = (0.0,-1.0,0.0)
^MEX_ORIENTATION_DESC = "MEX_ORIENTATION_DESC.TXT"
SPACECRAFT_POINTING_MODE = INERT
^MEX_POINTING_DESC = "MEX_POINTING_DESC.TXT"
RIGHT_ASCENSION = 155.545
DECLINATION = -42.889
OFFSET_ANGLE = -1e+32
SPACECRAFT_SOLAR_DISTANCE = 2.47949e+08
TARGET_NAME = MARS
/* CAMERA DATA ELEMENTS */
DETECTOR_TEMPERATURE = 17.7588
FOCAL_PLANE_TEMPERATURE = 7.7677
INST_CMPRS_NAME = "DISCRETE COSINE TRANSFORMATION (DCT)"
INST_CMPRS_RATIO = 16.9846
INST_CMPRS_QUALITY = 0
INST_CMPRS_QUANTZ_TBL_ID = 0
INSTRUMENT_TEMPERATURE = 10.6223
LENS_TEMPERATURE = 7.7677
MACROPIXEL_SIZE = 4
MISSING_FRAMES = 0
PIXEL_SUBSAMPLING_FLAG = N
SIGNAL_CHAIN_ID = 2
/* RADIOMETRIC DATA ELEMENTS */
BANDWIDTH = 88.0
CENTER_FILTER_WAVELENGTH = 538.0
RADIANCE_OFFSET = 1.36
RADIANCE_SCALING_FACTOR = 0.00635898
REFLECTANCE_SCALING_FACTOR = 0.000336589
MEX:REFLECTANCE_OFFSET = 0.0719866
/* IMAGE OBJECT DEFINITIONS */
OBJECT = IMAGE
  INTERCHANGE_FORMAT = BINARY
  LINES = 10735
  LINE_SAMPLES = 3568
  SAMPLE_TYPE = UNSIGNED_INTEGER
  SAMPLE_BITS = 8
  BANDS = 1
  BAND_STORAGE_TYPE = BAND_SEQUENTIAL
  MAXIMUM = 255
  MEAN = 116.665
  MINIMUM = 1
  STANDARD_DEVIATION = 54.0379
END_OBJECT = IMAGE
/* MAP OBJECT DEFINITIONS */
OBJECT = IMAGE_MAP_PROJECTION
  ^DATA_SET_MAP_PROJECTION_CATALOG= "DSMAP.CAT"
  A_AXIS_RADIUS = 3396.0
  B_AXIS_RADIUS = 3396.0
  C_AXIS_RADIUS = 3396.0
  CENTER_LATITUDE = 0.0
  CENTER_LONGITUDE = 135.0
  COORDINATE_SYSTEM_NAME = PLANETOGRAPHIC
  COORDINATE_SYSTEM_TYPE = "BODY-FIXED ROTATING"
  EASTERNMOST_LONGITUDE = 139.438
  FIRST_STANDARD_PARALLEL = "N/A"
  LINE_FIRST_PIXEL = 1
  LINE_LAST_PIXEL = 10735
  LINE_PROJECTION_OFFSET = 93787.375
  MAP_PROJECTION_ROTATION = 0.0
  MAP_PROJECTION_TYPE = SINUSOIDAL
  MAP_RESOLUTION = 1185.42760773333
  MAP_SCALE = 0.05
  MAXIMUM_LATITUDE = 79.10509999999999
  MINIMUM_LATITUDE = 70.057
  POSITIVE_LONGITUDE_DIRECTION = EAST
  REFERENCE_LATITUDE = "N/A"
  REFERENCE_LONGITUDE = "N/A"
  SAMPLE_FIRST_PIXEL = 1
  SAMPLE_LAST_PIXEL = 3568
  SAMPLE_PROJECTION_OFFSET = 1802.875
  SECOND_STANDARD_PARALLEL = "N/A"
  WESTERNMOST_LONGITUDE = 127.283
END_OBJECT = IMAGE_MAP_PROJECTION
END
