PDS_VERSION_ID = PDS3
/* FILE DATA ELEMENTS */
RECORD_TYPE = UNDEFINED
/* POINTERS TO DATA OBJECTS */
^IMAGE = ("HM268_0000_P14.TIF")
/* IDENTIFICATION DATA ELEMENTS */
DATA_SET_ID = "MEX-M-HRSC-4-REFDR-MAPPROJECT-EXT8-V4.0"
DATA_SET_NAME = "MARS EXPRESS HRSC MAP PROJECTED REFDR EXTENSION8 V4.0"
DETECTOR_ID = MEX_HRSC_P1
EVENT_TYPE = "MARS-REGIONAL-MAPPING-Gl-La"
INSTRUMENT_HOST_ID = MEX
INSTRUMENT_HOST_NAME = "MARS EXPRESS"
INSTRUMENT_ID = HRSC
INSTRUMENT_NAME = "HIGH RESOLUTION STEREO CAMERA"
MISSION_NAME = "MARS EXPRESS"
MISSION_PHASE_NAME = ME_Phase_45
PROCESSING_LEVEL_ID = 4
PRODUCT_CREATION_TIME = 2023-01-26T14:38:01.000Z
PRODUCT_ID = "HM268_0000_P14.TIF"
RELEASE_ID = 0002
REVISION_ID = 0000
/* QUALITY DATA ELEMENTS */
DATA_QUALITY_ID = 1
DATA_QUALITY_DESC = "Data calculated based on original SPICE kernels"
/* TIME DATA ELEMENTS */
SPACECRAFT_CLOCK_START_COUNT = "1/0577149667.25665"
SPACECRAFT_CLOCK_STOP_COUNT = "1/0577149856.32600"
START_TIME = 2021-08-15T23:21:52.283Z
STOP_TIME = 2021-08-15T23:23:55.416Z
/* ORBITAL DATA ELEMENTS */
ASCENDING_NODE_LONGITUDE = 158.39
MAXIMUM_RESOLUTION = 0.0327
FOOTPRINT_POINT_LATITUDE = (81.3378,81.2228,81.1137,81.0409, 80.8981,80.893,80.8256,80.5023,80.0973, 79.8528,79.6074,79.2785,79.1134,78.8653 ,78.6994,78.4501,78.1998,78.0326, 77.8652,77.6972,77.5293,77.3611,77.1925 ,76.9391,76.77,76.5158,76.2609,76.0908, 75.9202,75.7496,75.5788,75.4078,75.2366 ,75.0651,74.8076,74.5497,74.3774,74.119 ,73.9465,73.7736,73.5142,73.3412, 73.1678,72.9944,72.7338,72.5599,72.473, 72.3871,72.4239,72.4667,72.5044,72.5532 ,72.5828,72.627,72.6288,72.63,72.8063, 72.9825,73.1585,73.4225,73.5986,73.7744 ,73.95,74.1254,74.3884,74.5637,74.8263, 75.0013,75.2637,75.4382,75.6127,75.8742 ,76.0484,76.2226,76.397,76.5707,76.7446 ,77.0051,77.1786,77.3521,77.5253, 77.6985,77.9579,78.1308,78.3035,78.4761 ,78.7345,78.9067,79.0787,79.3364, 79.5079,79.6793,79.8506,80.1072,80.2779 ,80.4485,80.7042,81.1289,81.2137, 81.3378)
FOOTPRINT_POINT_LONGITUDE = (266.102,263.575,261.51,260.266,258.061 ,257.986,257.854,258.691,259.661, 260.206,260.724,261.377,261.688,262.137 ,262.426,262.842,263.24,263.496,263.745 ,263.986,264.221,264.449,264.671, 264.993,265.201,265.502,265.792,265.978 ,266.16,266.338,266.511,266.68,266.845, 267.005,267.239,267.465,267.611,267.824 ,267.962,268.097,268.294,268.421, 268.546,268.668,268.845,268.961,269.018 ,269.073,269.648,270.361,271.031, 271.975,272.607,273.651,273.696,273.712 ,273.64,273.566,273.491,273.374,273.294 ,273.212,273.129,273.044,272.913, 272.823,272.684,272.588,272.441,272.34, 272.236,272.076,271.966,271.853,271.736 ,271.618,271.496,271.306,271.176, 271.041,270.903,270.761,270.541,270.388 ,270.231,270.069,269.817,269.642, 269.462,269.181,268.987,268.785,268.577 ,268.25,268.023,267.788,267.417,266.753 ,266.613,266.102)
ORBIT_NUMBER = 22268
ORBITAL_ECCENTRICITY = 0.569
ORBITAL_INCLINATION = 87.01
ORBITAL_SEMIMAJOR_AXIS = 8758.53
PERIAPSIS_ALTITUDE = 393.95
PERIAPSIS_ARGUMENT_ANGLE = 105.1
PERIAPSIS_TIME = 2021-08-15T23:23:51.000Z
SPACECRAFT_ORIENTATION = (0.0,-1.0,0.0)
^MEX_ORIENTATION_DESC = "MEX_ORIENTATION_DESC.TXT"
SPACECRAFT_POINTING_MODE = INERT
^MEX_POINTING_DESC = "MEX_POINTING_DESC.TXT"
RIGHT_ASCENSION = 152.733
DECLINATION = -44.385
OFFSET_ANGLE = -1e+32
SPACECRAFT_SOLAR_DISTANCE = 2.48369e+08
TARGET_NAME = MARS
/* CAMERA DATA ELEMENTS */
DETECTOR_TEMPERATURE = 17.7588
FOCAL_PLANE_TEMPERATURE = 7.7677
INST_CMPRS_NAME = "DISCRETE COSINE TRANSFORMATION (DCT)"
INST_CMPRS_RATIO = 9.03876
INST_CMPRS_QUALITY = 0
INST_CMPRS_QUANTZ_TBL_ID = 0
INSTRUMENT_TEMPERATURE = 11.0301
LENS_TEMPERATURE = 8.1755
MACROPIXEL_SIZE = 2
MISSING_FRAMES = 0
PIXEL_SUBSAMPLING_FLAG = N
SIGNAL_CHAIN_ID = 3
/* RADIOMETRIC DATA ELEMENTS */
BANDWIDTH = 174.0
CENTER_FILTER_WAVELENGTH = 675.0
RADIANCE_OFFSET = 2.30659
RADIANCE_SCALING_FACTOR = 0.0156411
REFLECTANCE_SCALING_FACTOR = 0.000518976
MEX:REFLECTANCE_OFFSET = 0.0765334
/* IMAGE OBJECT DEFINITIONS */
OBJECT = IMAGE
  INTERCHANGE_FORMAT = BINARY
  LINES = 21120
  LINE_SAMPLES = 7847
  SAMPLE_TYPE = UNSIGNED_INTEGER
  SAMPLE_BITS = 8
  BANDS = 1
  BAND_STORAGE_TYPE = BAND_SEQUENTIAL
  MAXIMUM = 255
  MEAN = 126.331
  MINIMUM = 1
  STANDARD_DEVIATION = 60.133
END_OBJECT = IMAGE
/* MAP OBJECT DEFINITIONS */
OBJECT = IMAGE_MAP_PROJECTION
  ^DATA_SET_MAP_PROJECTION_CATALOG= "DSMAP.CAT"
  A_AXIS_RADIUS = 3396.0
  B_AXIS_RADIUS = 3396.0
  C_AXIS_RADIUS = 3396.0
  CENTER_LATITUDE = 0.0
  CENTER_LONGITUDE = 268.0
  COORDINATE_SYSTEM_NAME = PLANETOGRAPHIC
  COORDINATE_SYSTEM_TYPE = "BODY-FIXED ROTATING"
  EASTERNMOST_LONGITUDE = 273.712
  FIRST_STANDARD_PARALLEL = "N/A"
  LINE_FIRST_PIXEL = 1
  LINE_LAST_PIXEL = 21120
  LINE_PROJECTION_OFFSET = 192765.25
  MAP_PROJECTION_ROTATION = 0.0
  MAP_PROJECTION_TYPE = SINUSOIDAL
  MAP_RESOLUTION = 2370.85521546667
  MAP_SCALE = 0.025
  MAXIMUM_LATITUDE = 81.3378
  MINIMUM_LATITUDE = 72.3871
  POSITIVE_LONGITUDE_DIRECTION = EAST
  REFERENCE_LATITUDE = "N/A"
  REFERENCE_LONGITUDE = "N/A"
  SAMPLE_FIRST_PIXEL = 1
  SAMPLE_LAST_PIXEL = 7847
  SAMPLE_PROJECTION_OFFSET = 3889.25
  SECOND_STANDARD_PARALLEL = "N/A"
  WESTERNMOST_LONGITUDE = 257.854
END_OBJECT = IMAGE_MAP_PROJECTION
END
