PDS_VERSION_ID = PDS3
/* FILE DATA ELEMENTS */
RECORD_TYPE = UNDEFINED
/* POINTERS TO DATA OBJECTS */
^IMAGE = ("HM257_0000_S24.TIF")
/* IDENTIFICATION DATA ELEMENTS */
DATA_SET_ID = "MEX-M-HRSC-4-REFDR-MAPPROJECT-EXT8-V4.0"
DATA_SET_NAME = "MARS EXPRESS HRSC MAP PROJECTED REFDR EXTENSION8 V4.0"
DETECTOR_ID = MEX_HRSC_S2
EVENT_TYPE = "MARS-LOCAL-CARTOGRAPHY-Im-Gl-Pf"
INSTRUMENT_HOST_ID = MEX
INSTRUMENT_HOST_NAME = "MARS EXPRESS"
INSTRUMENT_ID = HRSC
INSTRUMENT_NAME = "HIGH RESOLUTION STEREO CAMERA"
MISSION_NAME = "MARS EXPRESS"
MISSION_PHASE_NAME = ME_Phase_45
PROCESSING_LEVEL_ID = 4
PRODUCT_CREATION_TIME = 2023-01-26T14:38:01.000Z
PRODUCT_ID = "HM257_0000_S24.TIF"
RELEASE_ID = 0002
REVISION_ID = 0000
/* QUALITY DATA ELEMENTS */
DATA_QUALITY_ID = 1
DATA_QUALITY_DESC = "Data calculated based on original SPICE kernels"
/* TIME DATA ELEMENTS */
SPACECRAFT_CLOCK_START_COUNT = "1/0576873391.25680"
SPACECRAFT_CLOCK_STOP_COUNT = "1/0576873832.42284"
START_TIME = 2021-08-12T18:38:16.918Z
STOP_TIME = 2021-08-12T18:44:24.574Z
/* ORBITAL DATA ELEMENTS */
ASCENDING_NODE_LONGITUDE = 158.58
MAXIMUM_RESOLUTION = 0.0395
FOOTPRINT_POINT_LATITUDE = (65.1878,65.0981,64.9901,64.9879, 65.1954,64.1178,63.2597,62.3854,61.9481 ,61.0762,60.4116,59.9673,59.5236, 59.0806,58.6279,57.9499,57.4989,57.0392 ,56.5789,56.1194,55.652,55.1831,54.4761 ,53.9984,53.5214,53.035,52.5487,52.056, 51.5607,51.0603,50.5563,50.046,49.5326, 49.012,48.2219,47.4193,46.8778,46.3275, 45.7713,45.2092,44.6391,44.0604,43.4743 ,42.8799,42.2775,41.6658,40.7306, 40.4136,40.3737,40.4381,40.4955,40.5306 ,40.5318,40.5332,41.1646,41.7859,42.398 ,43.0009,43.596,44.1824,44.7614,45.3319 ,45.8949,46.4517,47.0029,47.5443, 48.0819,48.6145,49.1393,49.6608,50.1747 ,50.6859,51.1909,51.6928,52.1887, 52.6828,53.1698,53.8967,54.3748,55.0886 ,55.7929,56.2624,56.723,57.1844,57.6461 ,58.0987,58.552,59.0063,59.6787,60.1242 ,60.5705,61.2384,62.1149,62.5541, 62.9945,63.4339,64.2981,65.1658,65.3835 ,65.1878)
FOOTPRINT_POINT_LONGITUDE = (319.152,317.374,315.546,315.511, 315.342,315.647,315.868,316.076,316.173 ,316.356,316.486,316.568,316.647, 316.723,316.798,316.903,316.97,317.036, 317.099,317.159,317.218,317.274,317.355 ,317.407,317.457,317.505,317.551, 317.596,317.639,317.68,317.72,317.758, 317.795,317.831,317.881,317.929,317.958 ,317.987,318.014,318.04,318.065,318.088 ,318.11,318.131,318.151,318.169,318.194 ,318.202,318.202,319.22,320.242,320.946 ,320.973,320.983,320.962,320.941,320.92 ,320.899,320.878,320.856,320.834, 320.812,320.789,320.766,320.742,320.718 ,320.694,320.669,320.644,320.619, 320.592,320.566,320.539,320.511,320.482 ,320.453,320.424,320.378,320.347, 320.298,320.248,320.213,320.178,320.141 ,320.103,320.065,320.026,319.985, 319.922,319.879,319.834,319.764,319.667 ,319.615,319.562,319.507,319.393, 319.269,319.237,319.152)
ORBIT_NUMBER = 22257
ORBITAL_ECCENTRICITY = 0.569
ORBITAL_INCLINATION = 87.03
ORBITAL_SEMIMAJOR_AXIS = 8759.18
PERIAPSIS_ALTITUDE = 393.39
PERIAPSIS_ARGUMENT_ANGLE = 107.0
PERIAPSIS_TIME = 2021-08-12T18:35:16.000Z
SPACECRAFT_ORIENTATION = (0.0,-1.0,0.0)
^MEX_ORIENTATION_DESC = "MEX_ORIENTATION_DESC.TXT"
SPACECRAFT_POINTING_MODE = INERT
^MEX_POINTING_DESC = "MEX_POINTING_DESC.TXT"
RIGHT_ASCENSION = 175.992
DECLINATION = -27.017
OFFSET_ANGLE = -1e+32
SPACECRAFT_SOLAR_DISTANCE = 2.48522e+08
TARGET_NAME = MARS
/* CAMERA DATA ELEMENTS */
DETECTOR_TEMPERATURE = 19.1861
FOCAL_PLANE_TEMPERATURE = 7.9716
INST_CMPRS_NAME = "DISCRETE COSINE TRANSFORMATION (DCT)"
INST_CMPRS_RATIO = 9.72471
INST_CMPRS_QUALITY = 0
INST_CMPRS_QUANTZ_TBL_ID = 0
INSTRUMENT_TEMPERATURE = 11.234
LENS_TEMPERATURE = 7.9716
MACROPIXEL_SIZE = 2
MISSING_FRAMES = 0
PIXEL_SUBSAMPLING_FLAG = N
SIGNAL_CHAIN_ID = 1
/* RADIOMETRIC DATA ELEMENTS */
BANDWIDTH = 178.0
CENTER_FILTER_WAVELENGTH = 679.0
RADIANCE_OFFSET = 3.64751
RADIANCE_SCALING_FACTOR = 0.0122737
REFLECTANCE_SCALING_FACTOR = 0.000401453
MEX:REFLECTANCE_OFFSET = 0.119304
/* IMAGE OBJECT DEFINITIONS */
OBJECT = IMAGE
  INTERCHANGE_FORMAT = BINARY
  LINES = 59294
  LINE_SAMPLES = 7284
  SAMPLE_TYPE = UNSIGNED_INTEGER
  SAMPLE_BITS = 8
  BANDS = 1
  BAND_STORAGE_TYPE = BAND_SEQUENTIAL
  MAXIMUM = 255
  MEAN = 104.669
  MINIMUM = 1
  STANDARD_DEVIATION = 51.3526
END_OBJECT = IMAGE
/* MAP OBJECT DEFINITIONS */
OBJECT = IMAGE_MAP_PROJECTION
  ^DATA_SET_MAP_PROJECTION_CATALOG= "DSMAP.CAT"
  A_AXIS_RADIUS = 3396.0
  B_AXIS_RADIUS = 3396.0
  C_AXIS_RADIUS = 3396.0
  CENTER_LATITUDE = 0.0
  CENTER_LONGITUDE = 319.0
  COORDINATE_SYSTEM_NAME = PLANETOGRAPHIC
  COORDINATE_SYSTEM_TYPE = "BODY-FIXED ROTATING"
  EASTERNMOST_LONGITUDE = 320.983
  FIRST_STANDARD_PARALLEL = "N/A"
  LINE_FIRST_PIXEL = 1
  LINE_LAST_PIXEL = 59294
  LINE_PROJECTION_OFFSET = 154998.25
  MAP_PROJECTION_ROTATION = 0.0
  MAP_PROJECTION_TYPE = SINUSOIDAL
  MAP_RESOLUTION = 2370.85521546667
  MAP_SCALE = 0.025
  MAXIMUM_LATITUDE = 65.3835
  MINIMUM_LATITUDE = 40.3737
  POSITIVE_LONGITUDE_DIRECTION = EAST
  REFERENCE_LATITUDE = "N/A"
  REFERENCE_LONGITUDE = "N/A"
  SAMPLE_FIRST_PIXEL = 1
  SAMPLE_LAST_PIXEL = 7284
  SAMPLE_PROJECTION_OFFSET = 3318.25
  SECOND_STANDARD_PARALLEL = "N/A"
  WESTERNMOST_LONGITUDE = 315.342
END_OBJECT = IMAGE_MAP_PROJECTION
END
