PDS_VERSION_ID = PDS3
/* FILE DATA ELEMENTS */
RECORD_TYPE = UNDEFINED
/* POINTERS TO DATA OBJECTS */
^IMAGE = ("HM257_0000_RE4.TIF")
/* IDENTIFICATION DATA ELEMENTS */
DATA_SET_ID = "MEX-M-HRSC-4-REFDR-MAPPROJECT-EXT8-V4.0"
DATA_SET_NAME = "MARS EXPRESS HRSC MAP PROJECTED REFDR EXTENSION8 V4.0"
DETECTOR_ID = MEX_HRSC_RED
EVENT_TYPE = "MARS-LOCAL-CARTOGRAPHY-Im-Gl-Pf"
INSTRUMENT_HOST_ID = MEX
INSTRUMENT_HOST_NAME = "MARS EXPRESS"
INSTRUMENT_ID = HRSC
INSTRUMENT_NAME = "HIGH RESOLUTION STEREO CAMERA"
MISSION_NAME = "MARS EXPRESS"
MISSION_PHASE_NAME = ME_Phase_45
PROCESSING_LEVEL_ID = 4
PRODUCT_CREATION_TIME = 2023-01-26T14:38:01.000Z
PRODUCT_ID = "HM257_0000_RE4.TIF"
RELEASE_ID = 0002
REVISION_ID = 0000
/* QUALITY DATA ELEMENTS */
DATA_QUALITY_ID = 1
DATA_QUALITY_DESC = "Data calculated based on original SPICE kernels"
/* TIME DATA ELEMENTS */
SPACECRAFT_CLOCK_START_COUNT = "1/0576873391.25680"
SPACECRAFT_CLOCK_STOP_COUNT = "1/0576873832.42284"
START_TIME = 2021-08-12T18:38:09.725Z
STOP_TIME = 2021-08-12T18:44:15.751Z
/* ORBITAL DATA ELEMENTS */
ASCENDING_NODE_LONGITUDE = 158.58
MAXIMUM_RESOLUTION = 0.0764
FOOTPRINT_POINT_LATITUDE = (65.2076,65.1062,65.0157,65.0136, 65.1967,64.547,63.6847,62.8245,62.1686, 61.2915,60.4166,59.9696,59.5232,59.0774 ,58.6319,57.9508,57.4963,57.0427,56.581 ,56.1179,55.6552,55.1851,54.7129, 54.2413,53.7602,53.0393,52.5485,52.0583 ,51.5613,51.0617,50.5569,50.0477, 49.5325,49.0139,48.4875,47.689,46.877, 46.3292,45.772,45.2088,44.6391,44.0617, 43.4751,42.8805,42.2772,41.6656,40.7307 ,40.4134,40.3823,40.4252,40.4833, 40.5362,40.5373,40.5394,41.1705,41.7919 ,42.4037,43.0073,43.6023,44.1892, 44.7663,45.3367,45.9005,46.4583,47.0064 ,47.5498,48.0883,48.6184,49.1454, 49.6644,50.1804,50.69,51.1962,51.6966, 52.1946,52.6854,53.177,53.8999,54.3821, 54.8545,55.3276,55.7992,56.2629,56.7274 ,57.1906,57.6454,58.3293,58.7853,59.232 ,59.6796,60.1278,60.7968,61.676,62.1165 ,62.5579,63.2126,63.8621,65.1665, 65.3846,65.2076)
FOOTPRINT_POINT_LONGITUDE = (319.142,317.125,315.597,315.564, 315.409,315.595,315.824,316.035,316.184 ,316.37,316.542,316.624,316.703,316.778 ,316.851,316.956,317.023,317.087,317.15 ,317.21,317.268,317.324,317.378,317.43, 317.481,317.553,317.599,317.643,317.686 ,317.727,317.767,317.805,317.842, 317.877,317.911,317.959,318.004,318.032 ,318.059,318.085,318.109,318.133, 318.155,318.176,318.195,318.213,318.238 ,318.246,318.247,318.914,319.919, 320.983,321.01,321.018,320.997,320.975, 320.953,320.931,320.909,320.886,320.863 ,320.84,320.816,320.792,320.768,320.743 ,320.718,320.693,320.667,320.641, 320.614,320.586,320.558,320.53,320.5, 320.471,320.44,320.394,320.361,320.328, 320.295,320.26,320.225,320.188,320.151, 320.113,320.054,320.013,319.971,319.928 ,319.884,319.814,319.718,319.667, 319.614,319.533,319.448,319.262,319.229 ,319.142)
ORBIT_NUMBER = 22257
ORBITAL_ECCENTRICITY = 0.569
ORBITAL_INCLINATION = 87.03
ORBITAL_SEMIMAJOR_AXIS = 8759.18
PERIAPSIS_ALTITUDE = 393.39
PERIAPSIS_ARGUMENT_ANGLE = 107.0
PERIAPSIS_TIME = 2021-08-12T18:35:16.000Z
SPACECRAFT_ORIENTATION = (0.0,-1.0,0.0)
^MEX_ORIENTATION_DESC = "MEX_ORIENTATION_DESC.TXT"
SPACECRAFT_POINTING_MODE = INERT
^MEX_POINTING_DESC = "MEX_POINTING_DESC.TXT"
RIGHT_ASCENSION = 175.992
DECLINATION = -27.017
OFFSET_ANGLE = -1e+32
SPACECRAFT_SOLAR_DISTANCE = 2.48522e+08
TARGET_NAME = MARS
/* CAMERA DATA ELEMENTS */
DETECTOR_TEMPERATURE = 19.1861
FOCAL_PLANE_TEMPERATURE = 7.9716
INST_CMPRS_NAME = "DISCRETE COSINE TRANSFORMATION (DCT)"
INST_CMPRS_RATIO = 12.243
INST_CMPRS_QUALITY = 0
INST_CMPRS_QUANTZ_TBL_ID = 0
INSTRUMENT_TEMPERATURE = 11.234
LENS_TEMPERATURE = 7.9716
MACROPIXEL_SIZE = 4
MISSING_FRAMES = 0
PIXEL_SUBSAMPLING_FLAG = N
SIGNAL_CHAIN_ID = 2
/* RADIOMETRIC DATA ELEMENTS */
BANDWIDTH = 48.0
CENTER_FILTER_WAVELENGTH = 748.0
RADIANCE_OFFSET = 0.925759
RADIANCE_SCALING_FACTOR = 0.0034502
REFLECTANCE_SCALING_FACTOR = 0.000486295
MEX:REFLECTANCE_OFFSET = 0.130483
/* IMAGE OBJECT DEFINITIONS */
OBJECT = IMAGE
  INTERCHANGE_FORMAT = BINARY
  LINES = 29647
  LINE_SAMPLES = 3642
  SAMPLE_TYPE = UNSIGNED_INTEGER
  SAMPLE_BITS = 8
  BANDS = 1
  BAND_STORAGE_TYPE = BAND_SEQUENTIAL
  MAXIMUM = 255
  MEAN = 96.623
  MINIMUM = 1
  STANDARD_DEVIATION = 48.8279
END_OBJECT = IMAGE
/* MAP OBJECT DEFINITIONS */
OBJECT = IMAGE_MAP_PROJECTION
  ^DATA_SET_MAP_PROJECTION_CATALOG= "DSMAP.CAT"
  A_AXIS_RADIUS = 3396.0
  B_AXIS_RADIUS = 3396.0
  C_AXIS_RADIUS = 3396.0
  CENTER_LATITUDE = 0.0
  CENTER_LONGITUDE = 319.0
  COORDINATE_SYSTEM_NAME = PLANETOGRAPHIC
  COORDINATE_SYSTEM_TYPE = "BODY-FIXED ROTATING"
  EASTERNMOST_LONGITUDE = 321.018
  FIRST_STANDARD_PARALLEL = "N/A"
  LINE_FIRST_PIXEL = 1
  LINE_LAST_PIXEL = 29647
  LINE_PROJECTION_OFFSET = 77498.875
  MAP_PROJECTION_ROTATION = 0.0
  MAP_PROJECTION_TYPE = SINUSOIDAL
  MAP_RESOLUTION = 1185.42760773333
  MAP_SCALE = 0.05
  MAXIMUM_LATITUDE = 65.38460000000001
  MINIMUM_LATITUDE = 40.3823
  POSITIVE_LONGITUDE_DIRECTION = EAST
  REFERENCE_LATITUDE = "N/A"
  REFERENCE_LONGITUDE = "N/A"
  SAMPLE_FIRST_PIXEL = 1
  SAMPLE_LAST_PIXEL = 3642
  SAMPLE_PROJECTION_OFFSET = 1658.875
  SECOND_STANDARD_PARALLEL = "N/A"
  WESTERNMOST_LONGITUDE = 315.409
END_OBJECT = IMAGE_MAP_PROJECTION
END
