PDS_VERSION_ID = PDS3
/* FILE DATA ELEMENTS */
RECORD_TYPE = UNDEFINED
/* POINTERS TO DATA OBJECTS */
^IMAGE = ("HM257_0000_P24.TIF")
/* IDENTIFICATION DATA ELEMENTS */
DATA_SET_ID = "MEX-M-HRSC-4-REFDR-MAPPROJECT-EXT8-V4.0"
DATA_SET_NAME = "MARS EXPRESS HRSC MAP PROJECTED REFDR EXTENSION8 V4.0"
DETECTOR_ID = MEX_HRSC_P2
EVENT_TYPE = "MARS-LOCAL-CARTOGRAPHY-Im-Gl-Pf"
INSTRUMENT_HOST_ID = MEX
INSTRUMENT_HOST_NAME = "MARS EXPRESS"
INSTRUMENT_ID = HRSC
INSTRUMENT_NAME = "HIGH RESOLUTION STEREO CAMERA"
MISSION_NAME = "MARS EXPRESS"
MISSION_PHASE_NAME = ME_Phase_45
PROCESSING_LEVEL_ID = 4
PRODUCT_CREATION_TIME = 2023-01-26T14:38:01.000Z
PRODUCT_ID = "HM257_0000_P24.TIF"
RELEASE_ID = 0002
REVISION_ID = 0000
/* QUALITY DATA ELEMENTS */
DATA_QUALITY_ID = 1
DATA_QUALITY_DESC = "Data calculated based on original SPICE kernels"
/* TIME DATA ELEMENTS */
SPACECRAFT_CLOCK_START_COUNT = "1/0576873391.25680"
SPACECRAFT_CLOCK_STOP_COUNT = "1/0576873832.42284"
START_TIME = 2021-08-12T18:38:02.673Z
STOP_TIME = 2021-08-12T18:44:07.105Z
/* ORBITAL DATA ELEMENTS */
ASCENDING_NODE_LONGITUDE = 158.58
MAXIMUM_RESOLUTION = 0.0371
FOOTPRINT_POINT_LATITUDE = (65.2321,65.1531,65.0446,65.0425, 65.2027,63.9008,63.036,62.1731,61.7318, 61.291,60.8507,59.972,59.5233,59.0742, 58.6258,58.1781,57.4932,57.0359,56.5792 ,56.1144,55.6477,55.1815,54.7079,54.232 ,53.7564,53.029,52.5438,52.0486,51.5538 ,51.0519,50.5474,50.0367,49.5223, 49.0011,48.4765,47.9438,47.4078,46.8632 ,46.3127,45.7578,45.193,44.6215,44.0431 ,43.4575,42.8619,42.2578,41.6444, 40.7089,40.3902,40.3783,40.4466,40.5302 ,40.5314,40.5327,41.1646,41.7865, 42.3997,43.0038,43.5993,44.1848,44.7632 ,45.335,45.8999,46.455,47.0058,47.5504, 48.087,48.62,49.1448,49.6665,50.1814, 50.6927,51.1979,51.7007,52.1961,52.6921 ,53.1779,53.6641,54.1451,54.6214, 55.3347,55.8017,56.2696,56.7357,57.1934 ,57.6519,58.3391,58.7883,59.2382, 59.6887,60.1395,61.0217,61.4638,61.9067 ,62.3503,63.2175,64.0877,65.1793, 65.3982,65.2321)
FOOTPRINT_POINT_LONGITUDE = (319.137,317.513,315.636,315.602, 315.454,315.813,316.027,316.225,316.32, 316.411,316.498,316.662,316.741,316.817 ,316.889,316.959,317.06,317.124,317.186 ,317.246,317.304,317.359,317.413, 317.465,317.515,317.587,317.633,317.677 ,317.72,317.761,317.8,317.838,317.874, 317.909,317.943,317.976,318.006,318.036 ,318.064,318.091,318.117,318.141, 318.164,318.186,318.207,318.226,318.245 ,318.27,318.277,318.278,319.375,321.022 ,321.049,321.059,321.036,321.013,320.99 ,320.967,320.944,320.921,320.897, 320.873,320.848,320.824,320.799,320.773 ,320.747,320.721,320.694,320.667, 320.639,320.611,320.582,320.553,320.523 ,320.492,320.461,320.429,320.397, 320.363,320.312,320.277,320.241,320.203 ,320.165,320.126,320.066,320.025, 319.982,319.938,319.892,319.798,319.749 ,319.698,319.645,319.536,319.419, 319.259,319.225,319.137)
ORBIT_NUMBER = 22257
ORBITAL_ECCENTRICITY = 0.569
ORBITAL_INCLINATION = 87.03
ORBITAL_SEMIMAJOR_AXIS = 8759.18
PERIAPSIS_ALTITUDE = 393.39
PERIAPSIS_ARGUMENT_ANGLE = 107.0
PERIAPSIS_TIME = 2021-08-12T18:35:16.000Z
SPACECRAFT_ORIENTATION = (0.0,-1.0,0.0)
^MEX_ORIENTATION_DESC = "MEX_ORIENTATION_DESC.TXT"
SPACECRAFT_POINTING_MODE = INERT
^MEX_POINTING_DESC = "MEX_POINTING_DESC.TXT"
RIGHT_ASCENSION = 175.992
DECLINATION = -27.017
OFFSET_ANGLE = -1e+32
SPACECRAFT_SOLAR_DISTANCE = 2.48522e+08
TARGET_NAME = MARS
/* CAMERA DATA ELEMENTS */
DETECTOR_TEMPERATURE = 19.1861
FOCAL_PLANE_TEMPERATURE = 7.9716
INST_CMPRS_NAME = "DISCRETE COSINE TRANSFORMATION (DCT)"
INST_CMPRS_RATIO = 7.20442
INST_CMPRS_QUALITY = 0
INST_CMPRS_QUANTZ_TBL_ID = 0
INSTRUMENT_TEMPERATURE = 11.234
LENS_TEMPERATURE = 7.9716
MACROPIXEL_SIZE = 2
MISSING_FRAMES = 0
PIXEL_SUBSAMPLING_FLAG = N
SIGNAL_CHAIN_ID = 3
/* RADIOMETRIC DATA ELEMENTS */
BANDWIDTH = 177.0
CENTER_FILTER_WAVELENGTH = 676.5
RADIANCE_OFFSET = 3.3724
RADIANCE_SCALING_FACTOR = 0.0105649
REFLECTANCE_SCALING_FACTOR = 0.00034598
MEX:REFLECTANCE_OFFSET = 0.11044
/* IMAGE OBJECT DEFINITIONS */
OBJECT = IMAGE
  INTERCHANGE_FORMAT = BINARY
  LINES = 59294
  LINE_SAMPLES = 7284
  SAMPLE_TYPE = UNSIGNED_INTEGER
  SAMPLE_BITS = 8
  BANDS = 1
  BAND_STORAGE_TYPE = BAND_SEQUENTIAL
  MAXIMUM = 255
  MEAN = 118.633
  MINIMUM = 1
  STANDARD_DEVIATION = 56.0819
END_OBJECT = IMAGE
/* MAP OBJECT DEFINITIONS */
OBJECT = IMAGE_MAP_PROJECTION
  ^DATA_SET_MAP_PROJECTION_CATALOG= "DSMAP.CAT"
  A_AXIS_RADIUS = 3396.0
  B_AXIS_RADIUS = 3396.0
  C_AXIS_RADIUS = 3396.0
  CENTER_LATITUDE = 0.0
  CENTER_LONGITUDE = 319.0
  COORDINATE_SYSTEM_NAME = PLANETOGRAPHIC
  COORDINATE_SYSTEM_TYPE = "BODY-FIXED ROTATING"
  EASTERNMOST_LONGITUDE = 321.059
  FIRST_STANDARD_PARALLEL = "N/A"
  LINE_FIRST_PIXEL = 1
  LINE_LAST_PIXEL = 59294
  LINE_PROJECTION_OFFSET = 154998.25
  MAP_PROJECTION_ROTATION = 0.0
  MAP_PROJECTION_TYPE = SINUSOIDAL
  MAP_RESOLUTION = 2370.85521546667
  MAP_SCALE = 0.025
  MAXIMUM_LATITUDE = 65.3982
  MINIMUM_LATITUDE = 40.3783
  POSITIVE_LONGITUDE_DIRECTION = EAST
  REFERENCE_LATITUDE = "N/A"
  REFERENCE_LONGITUDE = "N/A"
  SAMPLE_FIRST_PIXEL = 1
  SAMPLE_LAST_PIXEL = 7284
  SAMPLE_PROJECTION_OFFSET = 3318.25
  SECOND_STANDARD_PARALLEL = "N/A"
  WESTERNMOST_LONGITUDE = 315.454
END_OBJECT = IMAGE_MAP_PROJECTION
END
