PDS_VERSION_ID = PDS3
/* FILE DATA ELEMENTS */
RECORD_TYPE = UNDEFINED
/* POINTERS TO DATA OBJECTS */
^IMAGE = ("HM257_0000_ND4.TIF")
/* IDENTIFICATION DATA ELEMENTS */
DATA_SET_ID = "MEX-M-HRSC-4-REFDR-MAPPROJECT-EXT8-V4.0"
DATA_SET_NAME = "MARS EXPRESS HRSC MAP PROJECTED REFDR EXTENSION8 V4.0"
DETECTOR_ID = MEX_HRSC_NADIR
EVENT_TYPE = "MARS-LOCAL-CARTOGRAPHY-Im-Gl-Pf"
INSTRUMENT_HOST_ID = MEX
INSTRUMENT_HOST_NAME = "MARS EXPRESS"
INSTRUMENT_ID = HRSC
INSTRUMENT_NAME = "HIGH RESOLUTION STEREO CAMERA"
MISSION_NAME = "MARS EXPRESS"
MISSION_PHASE_NAME = ME_Phase_45
PROCESSING_LEVEL_ID = 4
PRODUCT_CREATION_TIME = 2023-01-26T14:38:01.000Z
PRODUCT_ID = "HM257_0000_ND4.TIF"
RELEASE_ID = 0002
REVISION_ID = 0000
/* QUALITY DATA ELEMENTS */
DATA_QUALITY_ID = 1
DATA_QUALITY_DESC = "Data calculated based on original SPICE kernels"
/* TIME DATA ELEMENTS */
SPACECRAFT_CLOCK_START_COUNT = "1/0576873391.25680"
SPACECRAFT_CLOCK_STOP_COUNT = "1/0576873832.42284"
START_TIME = 2021-08-12T18:37:37.760Z
STOP_TIME = 2021-08-12T18:43:33.758Z
/* ORBITAL DATA ELEMENTS */
ASCENDING_NODE_LONGITUDE = 158.58
MAXIMUM_RESOLUTION = 0.017
FOOTPRINT_POINT_LATITUDE = (65.2888,65.2128,65.1214,65.1194,65.196 ,64.3401,63.4858,63.0479,62.6098,62.172 ,61.2972,60.4231,59.9751,59.5273, 59.0797,58.6322,58.185,57.7269,57.2688, 56.8108,56.3529,55.6507,55.182,54.7133, 54.2346,53.7549,53.2752,52.5404,52.0497 ,51.3012,50.7994,50.2897,49.7766, 49.2585,48.7341,48.2056,47.6698,47.1289 ,46.5814,46.0272,45.4679,44.8975,44.322 ,43.7396,43.1468,42.5464,41.9379, 41.3199,40.6907,40.3728,40.3668,40.427, 40.5053,40.5063,40.5072,41.4538,42.0715 ,42.6799,43.28,43.8726,44.4551,45.0306, 45.601,46.1601,46.7145,47.262,47.8032, 48.3392,48.868,49.3927,49.9111,50.4246, 50.9347,51.437,52.1863,52.6775,53.4133, 53.8936,54.374,54.8535,55.323,55.7926, 56.4963,56.9552,57.4142,57.8733,58.3327 ,58.7812,59.23,59.6789,60.1281,60.797, 61.6745,62.1137,62.5531,62.9929,63.8679 ,65.1576,65.3729,65.2888)
FOOTPRINT_POINT_LONGITUDE = (319.105,317.45,315.815,315.782,315.663 ,315.899,316.114,316.218,316.318, 316.413,316.593,316.759,316.839,316.916 ,316.99,317.061,317.129,317.195,317.26, 317.321,317.38,317.467,317.521,317.574, 317.625,317.674,317.721,317.79,317.833, 317.895,317.935,317.973,318.009,318.045 ,318.079,318.111,318.143,318.173, 318.201,318.229,318.255,318.28,318.304, 318.326,318.348,318.368,318.387,318.405 ,318.421,318.429,318.429,319.434, 321.159,321.186,321.2,321.16,321.133, 321.106,321.079,321.052,321.025,320.997 ,320.97,320.942,320.914,320.885,320.856 ,320.827,320.798,320.767,320.737, 320.706,320.675,320.643,320.594,320.561 ,320.509,320.474,320.438,320.401, 320.364,320.326,320.267,320.227,320.185 ,320.142,320.099,320.054,320.009, 319.962,319.913,319.838,319.733,319.678 ,319.621,319.562,319.438,319.239, 319.204,319.105)
ORBIT_NUMBER = 22257
ORBITAL_ECCENTRICITY = 0.569
ORBITAL_INCLINATION = 87.03
ORBITAL_SEMIMAJOR_AXIS = 8759.18
PERIAPSIS_ALTITUDE = 393.39
PERIAPSIS_ARGUMENT_ANGLE = 107.0
PERIAPSIS_TIME = 2021-08-12T18:35:16.000Z
SPACECRAFT_ORIENTATION = (0.0,-1.0,0.0)
^MEX_ORIENTATION_DESC = "MEX_ORIENTATION_DESC.TXT"
SPACECRAFT_POINTING_MODE = INERT
^MEX_POINTING_DESC = "MEX_POINTING_DESC.TXT"
RIGHT_ASCENSION = 175.992
DECLINATION = -27.017
OFFSET_ANGLE = -1e+32
SPACECRAFT_SOLAR_DISTANCE = 2.48522e+08
TARGET_NAME = MARS
/* CAMERA DATA ELEMENTS */
DETECTOR_TEMPERATURE = 17.7588
FOCAL_PLANE_TEMPERATURE = 7.9716
INST_CMPRS_NAME = "DISCRETE COSINE TRANSFORMATION (DCT)"
INST_CMPRS_RATIO = 6.45045
INST_CMPRS_QUALITY = 0
INST_CMPRS_QUANTZ_TBL_ID = 0
INSTRUMENT_TEMPERATURE = 11.234
LENS_TEMPERATURE = 7.9716
MACROPIXEL_SIZE = 1
MISSING_FRAMES = 0
PIXEL_SUBSAMPLING_FLAG = N
SIGNAL_CHAIN_ID = 0
/* RADIOMETRIC DATA ELEMENTS */
BANDWIDTH = 177.0
CENTER_FILTER_WAVELENGTH = 677.5
RADIANCE_OFFSET = 3.06447
RADIANCE_SCALING_FACTOR = 0.0122866
REFLECTANCE_SCALING_FACTOR = 0.00040313
MEX:REFLECTANCE_OFFSET = 0.100547
/* IMAGE OBJECT DEFINITIONS */
OBJECT = IMAGE
  INTERCHANGE_FORMAT = BINARY
  LINES = 118588
  LINE_SAMPLES = 14568
  SAMPLE_TYPE = UNSIGNED_INTEGER
  SAMPLE_BITS = 8
  BANDS = 1
  BAND_STORAGE_TYPE = BAND_SEQUENTIAL
  MAXIMUM = 255
  MEAN = 99.2598
  MINIMUM = 1
  STANDARD_DEVIATION = 45.4685
END_OBJECT = IMAGE
/* MAP OBJECT DEFINITIONS */
OBJECT = IMAGE_MAP_PROJECTION
  ^DATA_SET_MAP_PROJECTION_CATALOG= "DSMAP.CAT"
  A_AXIS_RADIUS = 3396.0
  B_AXIS_RADIUS = 3396.0
  C_AXIS_RADIUS = 3396.0
  CENTER_LATITUDE = 0.0
  CENTER_LONGITUDE = 319.0
  COORDINATE_SYSTEM_NAME = PLANETOGRAPHIC
  COORDINATE_SYSTEM_TYPE = "BODY-FIXED ROTATING"
  EASTERNMOST_LONGITUDE = 321.2
  FIRST_STANDARD_PARALLEL = "N/A"
  LINE_FIRST_PIXEL = 1
  LINE_LAST_PIXEL = 118588
  LINE_PROJECTION_OFFSET = 309997.0
  MAP_PROJECTION_ROTATION = 0.0
  MAP_PROJECTION_TYPE = SINUSOIDAL
  MAP_RESOLUTION = 4741.71043093333
  MAP_SCALE = 0.0125
  MAXIMUM_LATITUDE = 65.3729
  MINIMUM_LATITUDE = 40.3668
  POSITIVE_LONGITUDE_DIRECTION = EAST
  REFERENCE_LATITUDE = "N/A"
  REFERENCE_LONGITUDE = "N/A"
  SAMPLE_FIRST_PIXEL = 1
  SAMPLE_LAST_PIXEL = 14568
  SAMPLE_PROJECTION_OFFSET = 6637.0
  SECOND_STANDARD_PARALLEL = "N/A"
  WESTERNMOST_LONGITUDE = 315.663
END_OBJECT = IMAGE_MAP_PROJECTION
END
