PDS_VERSION_ID = PDS3
/* FILE DATA ELEMENTS */
RECORD_TYPE = UNDEFINED
/* POINTERS TO DATA OBJECTS */
^IMAGE = ("HM255_0000_S24.TIF")
/* IDENTIFICATION DATA ELEMENTS */
DATA_SET_ID = "MEX-M-HRSC-4-REFDR-MAPPROJECT-EXT8-V4.0"
DATA_SET_NAME = "MARS EXPRESS HRSC MAP PROJECTED REFDR EXTENSION8 V4.0"
DETECTOR_ID = MEX_HRSC_S2
EVENT_TYPE = "MARS-LOCAL-CARTOGRAPHY-Te-Gl-Pf"
INSTRUMENT_HOST_ID = MEX
INSTRUMENT_HOST_NAME = "MARS EXPRESS"
INSTRUMENT_ID = HRSC
INSTRUMENT_NAME = "HIGH RESOLUTION STEREO CAMERA"
MISSION_NAME = "MARS EXPRESS"
MISSION_PHASE_NAME = ME_Phase_45
PROCESSING_LEVEL_ID = 4
PRODUCT_CREATION_TIME = 2023-01-26T14:38:01.000Z
PRODUCT_ID = "HM255_0000_S24.TIF"
RELEASE_ID = 0002
REVISION_ID = 0000
/* QUALITY DATA ELEMENTS */
DATA_QUALITY_ID = 1
DATA_QUALITY_DESC = "Data calculated based on original SPICE kernels"
/* TIME DATA ELEMENTS */
SPACECRAFT_CLOCK_START_COUNT = "1/0576823129.24876"
SPACECRAFT_CLOCK_STOP_COUNT = "1/0576823550.55823"
START_TIME = 2021-08-12T04:40:37.478Z
STOP_TIME = 2021-08-12T04:46:22.780Z
/* ORBITAL DATA ELEMENTS */
ASCENDING_NODE_LONGITUDE = 158.61
MAXIMUM_RESOLUTION = 0.0398
FOOTPRINT_POINT_LATITUDE = (63.6332,63.6217,63.6034,63.5713, 63.5703,63.749,62.9457,61.9318,61.1234, 60.5072,60.095,59.6831,59.2718,58.6447, 58.2247,57.8059,57.3857,56.9584,56.5317 ,56.1057,55.6714,55.2366,54.8024, 54.1391,53.6964,53.0221,52.572,51.8852, 51.4263,50.9593,50.4921,50.0175,49.5417 ,49.0583,48.3271,47.8343,47.3341,46.831 ,46.3208,45.8048,45.2844,44.49,43.9547, 43.4084,42.8566,42.2977,41.7312,40.8658 ,40.5732,40.5714,40.5717,40.5676, 40.5615,40.5518,40.5513,40.552,41.1362, 41.7117,42.2794,42.8395,43.3925,43.939, 44.4774,45.0095,45.5361,46.0564,46.5686 ,47.3292,47.8306,48.3249,49.0579, 49.5427,50.0196,50.4959,50.9647,51.4335 ,51.8936,52.5823,53.0347,53.7112, 54.1554,54.8215,55.2576,55.6941,56.344, 56.7721,57.2018,57.6289,58.0497,58.4711 ,58.8931,59.3123,59.7259,60.3476, 61.1752,61.7857,62.8056,63.6199,63.8204 ,63.6332)
FOOTPRINT_POINT_LONGITUDE = (159.492,158.371,157.204,155.755, 155.715,155.303,155.636,156.018,156.296 ,156.493,156.618,156.738,156.853,157.02 ,157.127,157.228,157.325,157.42,157.511 ,157.597,157.682,157.763,157.841, 157.952,158.024,158.126,158.189,158.281 ,158.339,158.394,158.446,158.497, 158.546,158.592,158.656,158.696,158.735 ,158.77,158.804,158.836,158.865,158.906 ,158.927,158.953,158.973,158.991, 159.006,159.027,159.031,159.031,159.835 ,160.558,161.23,161.939,161.966,161.975 ,161.961,161.946,161.929,161.911, 161.891,161.87,161.847,161.823,161.798, 161.772,161.746,161.703,161.673,161.641 ,161.592,161.556,161.52,161.482,161.443 ,161.402,161.36,161.294,161.248,161.175 ,161.125,161.046,160.991,160.934, 160.845,160.784,160.719,160.653,160.584 ,160.514,160.44,160.363,160.285,160.162 ,159.986,159.848,159.598,159.38,159.323 ,159.492)
ORBIT_NUMBER = 22255
ORBITAL_ECCENTRICITY = 0.569
ORBITAL_INCLINATION = 87.02
ORBITAL_SEMIMAJOR_AXIS = 8760.66
PERIAPSIS_ALTITUDE = 394.02
PERIAPSIS_ARGUMENT_ANGLE = 107.34
PERIAPSIS_TIME = 2021-08-12T04:37:22.000Z
SPACECRAFT_ORIENTATION = (0.0,-1.0,0.0)
^MEX_ORIENTATION_DESC = "MEX_ORIENTATION_DESC.TXT"
SPACECRAFT_POINTING_MODE = INERT
^MEX_POINTING_DESC = "MEX_POINTING_DESC.TXT"
RIGHT_ASCENSION = 189.342
DECLINATION = -35.885
OFFSET_ANGLE = -1e+32
SPACECRAFT_SOLAR_DISTANCE = 2.48548e+08
TARGET_NAME = MARS
/* CAMERA DATA ELEMENTS */
DETECTOR_TEMPERATURE = 18.3705
FOCAL_PLANE_TEMPERATURE = 7.9716
INST_CMPRS_NAME = "DISCRETE COSINE TRANSFORMATION (DCT)"
INST_CMPRS_RATIO = 14.2906
INST_CMPRS_QUALITY = 0
INST_CMPRS_QUANTZ_TBL_ID = 0
INSTRUMENT_TEMPERATURE = 11.4379
LENS_TEMPERATURE = 8.5833
MACROPIXEL_SIZE = 2
MISSING_FRAMES = 0
PIXEL_SUBSAMPLING_FLAG = N
SIGNAL_CHAIN_ID = 1
/* RADIOMETRIC DATA ELEMENTS */
BANDWIDTH = 178.0
CENTER_FILTER_WAVELENGTH = 679.0
RADIANCE_OFFSET = 4.30475
RADIANCE_SCALING_FACTOR = 0.0269598
REFLECTANCE_SCALING_FACTOR = 0.000881999
MEX:REFLECTANCE_OFFSET = 0.140831
/* IMAGE OBJECT DEFINITIONS */
OBJECT = IMAGE
  INTERCHANGE_FORMAT = BINARY
  LINES = 55590
  LINE_SAMPLES = 8012
  SAMPLE_TYPE = UNSIGNED_INTEGER
  SAMPLE_BITS = 8
  BANDS = 1
  BAND_STORAGE_TYPE = BAND_SEQUENTIAL
  MAXIMUM = 255
  MEAN = 113.752
  MINIMUM = 1
  STANDARD_DEVIATION = 63.1453
END_OBJECT = IMAGE
/* MAP OBJECT DEFINITIONS */
OBJECT = IMAGE_MAP_PROJECTION
  ^DATA_SET_MAP_PROJECTION_CATALOG= "DSMAP.CAT"
  A_AXIS_RADIUS = 3396.0
  B_AXIS_RADIUS = 3396.0
  C_AXIS_RADIUS = 3396.0
  CENTER_LATITUDE = 0.0
  CENTER_LONGITUDE = 160.0
  COORDINATE_SYSTEM_NAME = PLANETOGRAPHIC
  COORDINATE_SYSTEM_TYPE = "BODY-FIXED ROTATING"
  EASTERNMOST_LONGITUDE = 161.975
  FIRST_STANDARD_PARALLEL = "N/A"
  LINE_FIRST_PIXEL = 1
  LINE_LAST_PIXEL = 55590
  LINE_PROJECTION_OFFSET = 151494.25
  MAP_PROJECTION_ROTATION = 0.0
  MAP_PROJECTION_TYPE = SINUSOIDAL
  MAP_RESOLUTION = 2370.85521546667
  MAP_SCALE = 0.025
  MAXIMUM_LATITUDE = 63.8204
  MINIMUM_LATITUDE = 40.5513
  POSITIVE_LONGITUDE_DIRECTION = EAST
  REFERENCE_LATITUDE = "N/A"
  REFERENCE_LONGITUDE = "N/A"
  SAMPLE_FIRST_PIXEL = 1
  SAMPLE_LAST_PIXEL = 8012
  SAMPLE_PROJECTION_OFFSET = 4332.75
  SECOND_STANDARD_PARALLEL = "N/A"
  WESTERNMOST_LONGITUDE = 155.303
END_OBJECT = IMAGE_MAP_PROJECTION
END
