PDS_VERSION_ID = PDS3
/* FILE DATA ELEMENTS */
RECORD_TYPE = UNDEFINED
/* POINTERS TO DATA OBJECTS */
^IMAGE = ("HM252_0000_ND4.TIF")
/* IDENTIFICATION DATA ELEMENTS */
DATA_SET_ID = "MEX-M-HRSC-4-REFDR-MAPPROJECT-EXT8-V4.0"
DATA_SET_NAME = "MARS EXPRESS HRSC MAP PROJECTED REFDR EXTENSION8 V4.0"
DETECTOR_ID = MEX_HRSC_NADIR
EVENT_TYPE = "MARS-REGIONAL-MAPPING-Gl-Eo-La"
INSTRUMENT_HOST_ID = MEX
INSTRUMENT_HOST_NAME = "MARS EXPRESS"
INSTRUMENT_ID = HRSC
INSTRUMENT_NAME = "HIGH RESOLUTION STEREO CAMERA"
MISSION_NAME = "MARS EXPRESS"
MISSION_PHASE_NAME = ME_Phase_45
PROCESSING_LEVEL_ID = 4
PRODUCT_CREATION_TIME = 2023-01-26T14:38:01.000Z
PRODUCT_ID = "HM252_0000_ND4.TIF"
RELEASE_ID = 0002
REVISION_ID = 0000
/* QUALITY DATA ELEMENTS */
DATA_QUALITY_ID = 1
DATA_QUALITY_DESC = "Data calculated based on original SPICE kernels"
/* TIME DATA ELEMENTS */
SPACECRAFT_CLOCK_START_COUNT = "1/0576747518.23935"
SPACECRAFT_CLOCK_STOP_COUNT = "1/0576747687.56761"
START_TIME = 2021-08-11T07:39:43.965Z
STOP_TIME = 2021-08-11T07:41:27.967Z
/* ORBITAL DATA ELEMENTS */
ASCENDING_NODE_LONGITUDE = 158.67
MAXIMUM_RESOLUTION = 0.0158
FOOTPRINT_POINT_LATITUDE = (75.1564,75.0826,75.0164,74.9694, 74.8978,74.8947,74.9073,74.6906,74.4737 ,74.329,74.1843,74.0395,73.8221,73.6046 ,73.4596,73.3145,73.1693,72.9514, 72.7334,72.588,72.4425,72.297,72.1515, 72.0059,71.8602,71.7145,71.5688,71.2772 ,70.9854,70.6934,70.4743,70.2552, 69.9628,69.6702,69.3773,69.1577,69.0112 ,68.7914,68.6448,68.4249,68.2049, 67.9848,67.838,67.6911,67.6177,67.6037, 67.6435,67.6766,67.7279,67.7571,67.7915 ,67.7929,67.7939,68.0158,68.2376, 68.3855,68.5334,68.6813,68.8291,68.9769 ,69.1247,69.2725,69.4203,69.568,69.7158 ,69.8635,70.0112,70.1589,70.3066, 70.4543,70.602,70.8234,70.9711,71.1187, 71.2663,71.4139,71.5615,71.709,71.8566, 72.0041,72.1517,72.2992,72.5205,72.7416 ,72.8891,73.1104,73.2578,73.4053, 73.6264,73.7738,73.9211,74.0686,74.2159 ,74.3633,74.5842,74.7316,74.8789, 75.0998,75.1735,75.1564)
FOOTPRINT_POINT_LONGITUDE = (106.147,104.503,103.22,102.388,101.22, 101.172,100.975,101.171,101.361,101.484 ,101.606,101.724,101.898,102.068, 102.177,102.285,102.391,102.545,102.696 ,102.794,102.89,102.985,103.078,103.169 ,103.259,103.347,103.433,103.602, 103.765,103.922,104.037,104.149,104.293 ,104.432,104.567,104.665,104.73,104.824 ,104.886,104.977,105.066,105.153,105.21 ,105.266,105.294,105.299,105.942, 106.514,107.484,108.098,108.893,108.929 ,108.947,108.895,108.841,108.805, 108.768,108.73,108.692,108.653,108.614, 108.574,108.534,108.493,108.451,108.409 ,108.366,108.322,108.278,108.233, 108.187,108.117,108.069,108.021,107.971 ,107.922,107.871,107.82,107.767,107.714 ,107.659,107.604,107.519,107.432, 107.373,107.282,107.22,107.157,107.06, 106.994,106.926,106.858,106.787,106.716 ,106.606,106.531,106.455,106.337, 106.297,106.147)
ORBIT_NUMBER = 22252
ORBITAL_ECCENTRICITY = 0.57
ORBITAL_INCLINATION = 87.02
ORBITAL_SEMIMAJOR_AXIS = 8763.06
PERIAPSIS_ALTITUDE = 392.47
PERIAPSIS_ARGUMENT_ANGLE = 107.83
PERIAPSIS_TIME = 2021-08-11T07:40:27.000Z
SPACECRAFT_ORIENTATION = (0.0,-1.0,0.0)
^MEX_ORIENTATION_DESC = "MEX_ORIENTATION_DESC.TXT"
SPACECRAFT_POINTING_MODE = INERT
^MEX_POINTING_DESC = "MEX_POINTING_DESC.TXT"
RIGHT_ASCENSION = 159.163
DECLINATION = -41.218
OFFSET_ANGLE = -1e+32
SPACECRAFT_SOLAR_DISTANCE = 2.48587e+08
TARGET_NAME = MARS
/* CAMERA DATA ELEMENTS */
DETECTOR_TEMPERATURE = 17.9627
FOCAL_PLANE_TEMPERATURE = 7.5638
INST_CMPRS_NAME = "DISCRETE COSINE TRANSFORMATION (DCT)"
INST_CMPRS_RATIO = 6.88644
INST_CMPRS_QUALITY = 0
INST_CMPRS_QUANTZ_TBL_ID = 0
INSTRUMENT_TEMPERATURE = 11.0301
LENS_TEMPERATURE = 7.7677
MACROPIXEL_SIZE = 1
MISSING_FRAMES = 0
PIXEL_SUBSAMPLING_FLAG = N
SIGNAL_CHAIN_ID = 0
/* RADIOMETRIC DATA ELEMENTS */
BANDWIDTH = 177.0
CENTER_FILTER_WAVELENGTH = 677.5
RADIANCE_OFFSET = 4.16539
RADIANCE_SCALING_FACTOR = 0.0220865
REFLECTANCE_SCALING_FACTOR = 0.000725048
MEX:REFLECTANCE_OFFSET = 0.13674
/* IMAGE OBJECT DEFINITIONS */
OBJECT = IMAGE
  INTERCHANGE_FORMAT = BINARY
  LINES = 35960
  LINE_SAMPLES = 11486
  SAMPLE_TYPE = UNSIGNED_INTEGER
  SAMPLE_BITS = 8
  BANDS = 1
  BAND_STORAGE_TYPE = BAND_SEQUENTIAL
  MAXIMUM = 255
  MEAN = 78.5995
  MINIMUM = 1
  STANDARD_DEVIATION = 34.6903
END_OBJECT = IMAGE
/* MAP OBJECT DEFINITIONS */
OBJECT = IMAGE_MAP_PROJECTION
  ^DATA_SET_MAP_PROJECTION_CATALOG= "DSMAP.CAT"
  A_AXIS_RADIUS = 3396.0
  B_AXIS_RADIUS = 3396.0
  C_AXIS_RADIUS = 3396.0
  CENTER_LATITUDE = 0.0
  CENTER_LONGITUDE = 106.0
  COORDINATE_SYSTEM_NAME = PLANETOGRAPHIC
  COORDINATE_SYSTEM_TYPE = "BODY-FIXED ROTATING"
  EASTERNMOST_LONGITUDE = 108.947
  FIRST_STANDARD_PARALLEL = "N/A"
  LINE_FIRST_PIXEL = 1
  LINE_LAST_PIXEL = 35960
  LINE_PROJECTION_OFFSET = 356517.0
  MAP_PROJECTION_ROTATION = 0.0
  MAP_PROJECTION_TYPE = SINUSOIDAL
  MAP_RESOLUTION = 4741.71043093333
  MAP_SCALE = 0.0125
  MAXIMUM_LATITUDE = 75.1735
  MINIMUM_LATITUDE = 67.6037
  POSITIVE_LONGITUDE_DIRECTION = EAST
  REFERENCE_LATITUDE = "N/A"
  REFERENCE_LONGITUDE = "N/A"
  SAMPLE_FIRST_PIXEL = 1
  SAMPLE_LAST_PIXEL = 11486
  SAMPLE_PROJECTION_OFFSET = 6203.0
  SECOND_STANDARD_PARALLEL = "N/A"
  WESTERNMOST_LONGITUDE = 100.975
END_OBJECT = IMAGE_MAP_PROJECTION
END
