PDS_VERSION_ID = PDS3
/* FILE DATA ELEMENTS */
RECORD_TYPE = UNDEFINED
/* POINTERS TO DATA OBJECTS */
^IMAGE = ("HM243_0000_P14.TIF")
/* IDENTIFICATION DATA ELEMENTS */
DATA_SET_ID = "MEX-M-HRSC-4-REFDR-MAPPROJECT-EXT8-V4.0"
DATA_SET_NAME = "MARS EXPRESS HRSC MAP PROJECTED REFDR EXTENSION8 V4.0"
DETECTOR_ID = MEX_HRSC_P1
EVENT_TYPE = "MARS-LOCAL-CARTOGRAPHY-Im-Gl-Pf"
INSTRUMENT_HOST_ID = MEX
INSTRUMENT_HOST_NAME = "MARS EXPRESS"
INSTRUMENT_ID = HRSC
INSTRUMENT_NAME = "HIGH RESOLUTION STEREO CAMERA"
MISSION_NAME = "MARS EXPRESS"
MISSION_PHASE_NAME = ME_Phase_45
PROCESSING_LEVEL_ID = 4
PRODUCT_CREATION_TIME = 2023-01-26T14:38:01.000Z
PRODUCT_ID = "HM243_0000_P14.TIF"
RELEASE_ID = 0002
REVISION_ID = 0000
/* QUALITY DATA ELEMENTS */
DATA_QUALITY_ID = 1
DATA_QUALITY_DESC = "Data calculated based on original SPICE kernels"
/* TIME DATA ELEMENTS */
SPACECRAFT_CLOCK_START_COUNT = "1/0576521277.24952"
SPACECRAFT_CLOCK_STOP_COUNT = "1/0576521551.56963"
START_TIME = 2021-08-08T16:48:41.984Z
STOP_TIME = 2021-08-08T16:52:07.463Z
/* ORBITAL DATA ELEMENTS */
ASCENDING_NODE_LONGITUDE = 158.83
MAXIMUM_RESOLUTION = 0.0321
FOOTPRINT_POINT_LATITUDE = (74.4667,74.4286,74.3855,74.333,74.3312 ,74.3021,73.7235,73.1441,72.5639, 71.9829,71.6922,71.4012,71.1101,70.8188 ,70.5273,70.2357,69.9438,69.6517, 69.3594,68.9207,68.4816,68.1887,67.7489 ,67.4557,67.015,66.7211,66.2799,65.9856 ,65.691,65.3963,65.1011,64.8061,64.5106 ,64.2149,63.9189,63.6227,63.3263, 62.8812,62.5843,62.287,61.9896,61.3934, 60.9461,60.4979,60.1992,59.75,59.6004, 59.583,59.6053,59.6216,59.6311,59.6311, 59.6317,60.0828,60.5334,60.9836,61.277, 61.5829,61.882,62.1804,62.4789,62.7773, 63.0752,63.373,63.6708,64.117,64.5625, 64.8593,65.156,65.4526,65.7489,66.0449, 66.4888,66.7844,67.08,67.3752,67.818, 68.113,68.4078,68.7024,68.9969,69.2913, 69.5855,70.0267,70.3207,70.6145,70.9082 ,71.2018,71.4953,71.7887,72.082,72.3752 ,72.6683,72.9612,73.2541,73.5469, 73.8396,74.2785,74.4248,74.4667)
FOOTPRINT_POINT_LONGITUDE = (309.242,307.381,305.86,304.379,304.333 ,304.406,304.731,305.032,305.312, 305.573,305.698,305.818,305.934,306.046 ,306.155,306.26,306.362,306.461,306.557 ,306.696,306.829,306.914,307.037, 307.116,307.231,307.305,307.413,307.482 ,307.549,307.614,307.678,307.74,307.801 ,307.86,307.918,307.974,308.029,308.109 ,308.16,308.211,308.26,308.356,308.424, 308.49,308.533,308.596,308.616,308.618, 309.496,310.424,311.587,311.618,311.629 ,311.591,311.552,311.512,311.498, 311.457,311.43,311.404,311.376,311.348, 311.319,311.291,311.261,311.216,311.17, 311.139,311.107,311.074,311.041,311.008 ,310.957,310.922,310.886,310.849, 310.793,310.755,310.715,310.675,310.635 ,310.593,310.55,310.483,310.438,310.391 ,310.343,310.293,310.242,310.19,310.137 ,310.082,310.025,309.966,309.906, 309.844,309.78,309.68,309.645,309.242)
ORBIT_NUMBER = 22243
ORBITAL_ECCENTRICITY = 0.57
ORBITAL_INCLINATION = 87.03
ORBITAL_SEMIMAJOR_AXIS = 8761.76
PERIAPSIS_ALTITUDE = 392.66
PERIAPSIS_ARGUMENT_ANGLE = 109.41
PERIAPSIS_TIME = 2021-08-08T16:49:52.000Z
SPACECRAFT_ORIENTATION = (0.0,-1.0,0.0)
^MEX_ORIENTATION_DESC = "MEX_ORIENTATION_DESC.TXT"
SPACECRAFT_POINTING_MODE = INERT
^MEX_POINTING_DESC = "MEX_POINTING_DESC.TXT"
RIGHT_ASCENSION = 157.558
DECLINATION = -31.729
OFFSET_ANGLE = -1e+32
SPACECRAFT_SOLAR_DISTANCE = 2.48695e+08
TARGET_NAME = MARS
/* CAMERA DATA ELEMENTS */
DETECTOR_TEMPERATURE = 16.9432
FOCAL_PLANE_TEMPERATURE = 7.9716
INST_CMPRS_NAME = "DISCRETE COSINE TRANSFORMATION (DCT)"
INST_CMPRS_RATIO = 11.0351
INST_CMPRS_QUALITY = 0
INST_CMPRS_QUANTZ_TBL_ID = 0
INSTRUMENT_TEMPERATURE = 11.234
LENS_TEMPERATURE = 7.7677
MACROPIXEL_SIZE = 2
MISSING_FRAMES = 0
PIXEL_SUBSAMPLING_FLAG = N
SIGNAL_CHAIN_ID = 3
/* RADIOMETRIC DATA ELEMENTS */
BANDWIDTH = 174.0
CENTER_FILTER_WAVELENGTH = 675.0
RADIANCE_OFFSET = 2.80374
RADIANCE_SCALING_FACTOR = 0.0119337
REFLECTANCE_SCALING_FACTOR = 0.000397003
MEX:REFLECTANCE_OFFSET = 0.0932734
/* IMAGE OBJECT DEFINITIONS */
OBJECT = IMAGE
  INTERCHANGE_FORMAT = BINARY
  LINES = 35369
  LINE_SAMPLES = 5971
  SAMPLE_TYPE = UNSIGNED_INTEGER
  SAMPLE_BITS = 8
  BANDS = 1
  BAND_STORAGE_TYPE = BAND_SEQUENTIAL
  MAXIMUM = 255
  MEAN = 107.184
  MINIMUM = 1
  STANDARD_DEVIATION = 43.0798
END_OBJECT = IMAGE
/* MAP OBJECT DEFINITIONS */
OBJECT = IMAGE_MAP_PROJECTION
  ^DATA_SET_MAP_PROJECTION_CATALOG= "DSMAP.CAT"
  A_AXIS_RADIUS = 3396.0
  B_AXIS_RADIUS = 3396.0
  C_AXIS_RADIUS = 3396.0
  CENTER_LATITUDE = 0.0
  CENTER_LONGITUDE = 309.0
  COORDINATE_SYSTEM_NAME = PLANETOGRAPHIC
  COORDINATE_SYSTEM_TYPE = "BODY-FIXED ROTATING"
  EASTERNMOST_LONGITUDE = 311.629
  FIRST_STANDARD_PARALLEL = "N/A"
  LINE_FIRST_PIXEL = 1
  LINE_LAST_PIXEL = 35369
  LINE_PROJECTION_OFFSET = 176594.75
  MAP_PROJECTION_ROTATION = 0.0
  MAP_PROJECTION_TYPE = SINUSOIDAL
  MAP_RESOLUTION = 2370.85521546667
  MAP_SCALE = 0.025
  MAXIMUM_LATITUDE = 74.4667
  MINIMUM_LATITUDE = 59.583
  POSITIVE_LONGITUDE_DIRECTION = EAST
  REFERENCE_LATITUDE = "N/A"
  REFERENCE_LONGITUDE = "N/A"
  SAMPLE_FIRST_PIXEL = 1
  SAMPLE_LAST_PIXEL = 5971
  SAMPLE_PROJECTION_OFFSET = 2998.75
  SECOND_STANDARD_PARALLEL = "N/A"
  WESTERNMOST_LONGITUDE = 304.333
END_OBJECT = IMAGE_MAP_PROJECTION
END
